BEGIN:VCALENDAR
VERSION:2.0
PRODID:-//Dolphins Waterfront Bar &amp; Grill - ECPv6.15.20//NONSGML v1.0//EN
CALSCALE:GREGORIAN
METHOD:PUBLISH
X-WR-CALNAME:Dolphins Waterfront Bar &amp; Grill
X-ORIGINAL-URL:https://dolphinsgrill.com
X-WR-CALDESC:Events for Dolphins Waterfront Bar &amp; Grill
REFRESH-INTERVAL;VALUE=DURATION:PT1H
X-Robots-Tag:noindex
X-PUBLISHED-TTL:PT1H
BEGIN:VTIMEZONE
TZID:America/New_York
BEGIN:DAYLIGHT
TZOFFSETFROM:-0500
TZOFFSETTO:-0400
TZNAME:EDT
DTSTART:20230312T070000
END:DAYLIGHT
BEGIN:STANDARD
TZOFFSETFROM:-0400
TZOFFSETTO:-0500
TZNAME:EST
DTSTART:20231105T060000
END:STANDARD
BEGIN:DAYLIGHT
TZOFFSETFROM:-0500
TZOFFSETTO:-0400
TZNAME:EDT
DTSTART:20240310T070000
END:DAYLIGHT
BEGIN:STANDARD
TZOFFSETFROM:-0400
TZOFFSETTO:-0500
TZNAME:EST
DTSTART:20241103T060000
END:STANDARD
BEGIN:DAYLIGHT
TZOFFSETFROM:-0500
TZOFFSETTO:-0400
TZNAME:EDT
DTSTART:20250309T070000
END:DAYLIGHT
BEGIN:STANDARD
TZOFFSETFROM:-0400
TZOFFSETTO:-0500
TZNAME:EST
DTSTART:20251102T060000
END:STANDARD
END:VTIMEZONE
BEGIN:VEVENT
DTSTART;TZID=America/New_York:20240630T160000
DTEND;TZID=America/New_York:20240630T190000
DTSTAMP:20260423T174424
CREATED:20240530T200626Z
LAST-MODIFIED:20240530T200626Z
UID:1774-1719763200-1719774000@dolphinsgrill.com
SUMMARY:Johnny Danger
DESCRIPTION:Sunday Funday with Johnny Danger Live! \nJohnny Danger Live is a solo guitarist\, singer\, and interactive entertainer with over twenty years of experience. JDL is also an accomplished songwriter and the most recent winner of the Runaway Country Music Festivals. Runaway Rockstar Competition. JDLs performances include a repertoire of over two thousand songs\, featuring a vast array of music from timeless classics to the current hits on the radio and online.
URL:https://dolphinsgrill.com/event/johnny-danger-19/
LOCATION:Dolphins Waterfront Bar & Grill\, 310 Lagoon Way\, Merritt Island\, FL\, 32953\, United States
ATTACH;FMTTYPE=image/jpeg:https://dolphinsgrill.com/wp-content/uploads/2022/08/jpg5BPtbx679.jpg
END:VEVENT
BEGIN:VEVENT
DTSTART;TZID=America/New_York:20240628T170000
DTEND;TZID=America/New_York:20240628T200000
DTSTAMP:20260423T174424
CREATED:20240530T200406Z
LAST-MODIFIED:20240530T200406Z
UID:1770-1719594000-1719604800@dolphinsgrill.com
SUMMARY:Everette Stevens
DESCRIPTION:Everette Stevens of Freeman Music Duo will be playing at Dolphins with his unique chill music.
URL:https://dolphinsgrill.com/event/everette-stevens-14/
LOCATION:Dolphins Waterfront Bar & Grill\, 310 Lagoon Way\, Merritt Island\, FL\, 32953\, United States
ATTACH;FMTTYPE=application/pdf:https://dolphinsgrill.com/wp-content/uploads/2023/06/Everettestevensduo.pdf
END:VEVENT
BEGIN:VEVENT
DTSTART;TZID=America/New_York:20240624T160000
DTEND;TZID=America/New_York:20240624T210000
DTSTAMP:20260423T174424
CREATED:20240606T163019Z
LAST-MODIFIED:20240606T163019Z
UID:1786-1719244800-1719262800@dolphinsgrill.com
SUMMARY:Dive into Giving for Field House Manor
DESCRIPTION:
URL:https://dolphinsgrill.com/event/dive-into-giving-for-field-house-manor/
LOCATION:Dolphins Waterfront Bar & Grill\, 310 Lagoon Way\, Merritt Island\, FL\, 32953\, United States
ATTACH;FMTTYPE=application/pdf:https://dolphinsgrill.com/wp-content/uploads/2024/06/DWG_June24NonProfitFlyer-MH.pdf
END:VEVENT
BEGIN:VEVENT
DTSTART;TZID=America/New_York:20240622T170000
DTEND;TZID=America/New_York:20240622T200000
DTSTAMP:20260423T174424
CREATED:20240530T200159Z
LAST-MODIFIED:20240530T200159Z
UID:1766-1719075600-1719086400@dolphinsgrill.com
SUMMARY:Anna. Delgado Trio
DESCRIPTION:Catch the good vibes with the Anna Delgado Trio and the sound of all your favorite songs!
URL:https://dolphinsgrill.com/event/anna-delgado-trio-16/
LOCATION:Dolphins Waterfront Bar & Grill\, 310 Lagoon Way\, Merritt Island\, FL\, 32953\, United States
ATTACH;FMTTYPE=application/pdf:https://dolphinsgrill.com/wp-content/uploads/2023/04/anna.pdf
END:VEVENT
BEGIN:VEVENT
DTSTART;TZID=America/New_York:20240621T170000
DTEND;TZID=America/New_York:20240621T200000
DTSTAMP:20260423T174424
CREATED:20240530T200115Z
LAST-MODIFIED:20240530T200115Z
UID:1764-1718989200-1719000000@dolphinsgrill.com
SUMMARY:Kenny & Bo
DESCRIPTION:Come out with your friends for a special Island style vibe. \nLocal Cocoa Beach Musicians playing a special blend of Music- Americana as a duo since 2015. Their music is easy listening classic\, “American Country Folk Blues.” \nMichael “Bo” Boukedes on: lead vocals\, acoustic & electric guitars\, twelve strings\, nylon\, & harmonicas! \nKenny Cohen on: Lead vocals\, fender electric bass\, saxophone\, & flute! \n  \nCome out and enjoy these veteran local musicians.
URL:https://dolphinsgrill.com/event/kenny-bo-23/
LOCATION:Dolphins Waterfront Bar & Grill\, 310 Lagoon Way\, Merritt Island\, FL\, 32953\, United States
ATTACH;FMTTYPE=application/pdf:https://dolphinsgrill.com/wp-content/uploads/2022/12/KennyBo-1.pdf
END:VEVENT
BEGIN:VEVENT
DTSTART;TZID=America/New_York:20240617T160000
DTEND;TZID=America/New_York:20240617T210000
DTSTAMP:20260423T174424
CREATED:20240606T162815Z
LAST-MODIFIED:20240606T162815Z
UID:1783-1718640000-1718658000@dolphinsgrill.com
SUMMARY:Dive into Giving for Marine Resource Council and the Indian River Lagoon!
DESCRIPTION:
URL:https://dolphinsgrill.com/event/dive-into-giving-for-marine-resource-council-and-the-indian-river-lagoon/
LOCATION:Dolphins Waterfront Bar & Grill\, 310 Lagoon Way\, Merritt Island\, FL\, 32953\, United States
ATTACH;FMTTYPE=application/pdf:https://dolphinsgrill.com/wp-content/uploads/2024/06/DWG_June24NonProfitFlyer-MRC.pdf
END:VEVENT
BEGIN:VEVENT
DTSTART;TZID=America/New_York:20240614T170000
DTEND;TZID=America/New_York:20240614T200000
DTSTAMP:20260423T174424
CREATED:20240530T195851Z
LAST-MODIFIED:20240605T173420Z
UID:1758-1718384400-1718395200@dolphinsgrill.com
SUMMARY:Savage Joi
DESCRIPTION:A dynamic musical duet offering a unique melodic experience featuring vocals\, violin\, piano\, and more! We showcase top 40s\, R&B\, classic rock\, and original music. \n 
URL:https://dolphinsgrill.com/event/https-www-savagejoi-com/
LOCATION:Dolphins Waterfront Bar & Grill\, 310 Lagoon Way\, Merritt Island\, FL\, 32953\, United States
ATTACH;FMTTYPE=image/jpeg:https://dolphinsgrill.com/wp-content/uploads/2024/05/IMG_1335.jpg
END:VEVENT
BEGIN:VEVENT
DTSTART;TZID=America/New_York:20240610T160000
DTEND;TZID=America/New_York:20240610T210000
DTSTAMP:20260423T174424
CREATED:20240606T162642Z
LAST-MODIFIED:20240606T162642Z
UID:1780-1718035200-1718053200@dolphinsgrill.com
SUMMARY:Dive into giving at Dolphins for Family Promise
DESCRIPTION:
URL:https://dolphinsgrill.com/event/dive-into-giving-at-dolphins-for-family-promise/
LOCATION:Dolphins Waterfront Bar & Grill\, 310 Lagoon Way\, Merritt Island\, FL\, 32953\, United States
ATTACH;FMTTYPE=application/pdf:https://dolphinsgrill.com/wp-content/uploads/2024/06/DWG_June24NonProfitFlyer-FP.pdf
END:VEVENT
BEGIN:VEVENT
DTSTART;TZID=America/New_York:20240608T170000
DTEND;TZID=America/New_York:20240608T200000
DTSTAMP:20260423T174424
CREATED:20240530T195700Z
LAST-MODIFIED:20240530T195700Z
UID:1754-1717866000-1717876800@dolphinsgrill.com
SUMMARY:Joshua Keels
DESCRIPTION:Come relax and enjoy Joshua Keels and his acoustic guitar. The vibe is sure to set the tone for a great night.
URL:https://dolphinsgrill.com/event/joshua-keels-19/
LOCATION:Dolphins Waterfront Bar & Grill\, 310 Lagoon Way\, Merritt Island\, FL\, 32953\, United States
ATTACH;FMTTYPE=image/jpeg:https://dolphinsgrill.com/wp-content/uploads/2022/08/joshuakeels.jpeg
END:VEVENT
BEGIN:VEVENT
DTSTART;TZID=America/New_York:20240607T170000
DTEND;TZID=America/New_York:20240607T200000
DTSTAMP:20260423T174424
CREATED:20240530T195625Z
LAST-MODIFIED:20240530T195625Z
UID:1752-1717779600-1717790400@dolphinsgrill.com
SUMMARY:The Syndicate Duo
DESCRIPTION:Brevard based variety music duo. Rock\, Reggae\, Country\, Hip Hop\, and more…family friendly.
URL:https://dolphinsgrill.com/event/the-syndicate-duo-14/
LOCATION:Dolphins Waterfront Bar & Grill\, 310 Lagoon Way\, Merritt Island\, FL\, 32953\, United States
ATTACH;FMTTYPE=application/pdf:https://dolphinsgrill.com/wp-content/uploads/2022/12/syndicate-1.pdf
END:VEVENT
BEGIN:VEVENT
DTSTART;TZID=America/New_York:20240602T160000
DTEND;TZID=America/New_York:20240602T190000
DTSTAMP:20260423T174424
CREATED:20240530T195535Z
LAST-MODIFIED:20240530T195535Z
UID:1750-1717344000-1717354800@dolphinsgrill.com
SUMMARY:Everette Stevens
DESCRIPTION:Everette Stevens of Freeman Music Duo will be playing at Dolphins with his unique chill music.
URL:https://dolphinsgrill.com/event/everette-stevens-13/
LOCATION:Dolphins Waterfront Bar & Grill\, 310 Lagoon Way\, Merritt Island\, FL\, 32953\, United States
ATTACH;FMTTYPE=application/pdf:https://dolphinsgrill.com/wp-content/uploads/2023/06/Everettestevensduo.pdf
END:VEVENT
BEGIN:VEVENT
DTSTART;TZID=America/New_York:20240601T170000
DTEND;TZID=America/New_York:20240601T200000
DTSTAMP:20260423T174424
CREATED:20240530T195453Z
LAST-MODIFIED:20240530T195453Z
UID:1748-1717261200-1717272000@dolphinsgrill.com
SUMMARY:The Tiki Band
DESCRIPTION:Trop rockers\, Tony & Melissa\, right off the cruise ships join us for a unique Island experience.
URL:https://dolphinsgrill.com/event/the-tiki-band-6/
LOCATION:Dolphins Waterfront Bar & Grill\, 310 Lagoon Way\, Merritt Island\, FL\, 32953\, United States
ATTACH;FMTTYPE=application/pdf:https://dolphinsgrill.com/wp-content/uploads/2023/04/tikiband.pdf
END:VEVENT
BEGIN:VEVENT
DTSTART;TZID=America/New_York:20240526T160000
DTEND;TZID=America/New_York:20240526T190000
DTSTAMP:20260423T174424
CREATED:20240517T181452Z
LAST-MODIFIED:20240517T181452Z
UID:1741-1716739200-1716750000@dolphinsgrill.com
SUMMARY:Anna. Delgado Trio
DESCRIPTION:Catch the good vibes with the Anna Delgado Trio and the sound of all your favorite songs!
URL:https://dolphinsgrill.com/event/anna-delgado-trio-15/
LOCATION:Dolphins Waterfront Bar & Grill\, 310 Lagoon Way\, Merritt Island\, FL\, 32953\, United States
ATTACH;FMTTYPE=application/pdf:https://dolphinsgrill.com/wp-content/uploads/2023/04/anna.pdf
END:VEVENT
BEGIN:VEVENT
DTSTART;TZID=America/New_York:20240525T170000
DTEND;TZID=America/New_York:20240525T200000
DTSTAMP:20260423T174424
CREATED:20240517T181404Z
LAST-MODIFIED:20240517T181404Z
UID:1739-1716656400-1716667200@dolphinsgrill.com
SUMMARY:Everette Stevens
DESCRIPTION:Everette Stevens of Freeman Music Duo will be playing at Dolphins with his unique chill music.
URL:https://dolphinsgrill.com/event/everette-stevens-12/
LOCATION:Dolphins Waterfront Bar & Grill\, 310 Lagoon Way\, Merritt Island\, FL\, 32953\, United States
ATTACH;FMTTYPE=application/pdf:https://dolphinsgrill.com/wp-content/uploads/2023/06/Everettestevensduo.pdf
END:VEVENT
BEGIN:VEVENT
DTSTART;TZID=America/New_York:20240519T160000
DTEND;TZID=America/New_York:20240519T190000
DTSTAMP:20260423T174424
CREATED:20240505T184736Z
LAST-MODIFIED:20240505T184736Z
UID:1734-1716134400-1716145200@dolphinsgrill.com
SUMMARY:Ravon Steely Roden
DESCRIPTION:Come enjoy the Island life with Steely Roden! Ravon is Producer\, Singer\, Steelpan\, Songwriter\, and super energetic performer of Island music! You are not going to want to miss his Reggaebeat!
URL:https://dolphinsgrill.com/event/ravon-steely-roden-15/
LOCATION:Dolphins Waterfront Bar & Grill\, 310 Lagoon Way\, Merritt Island\, FL\, 32953\, United States
ATTACH;FMTTYPE=image/jpeg:https://dolphinsgrill.com/wp-content/uploads/2022/08/ravon.jpeg
END:VEVENT
BEGIN:VEVENT
DTSTART;TZID=America/New_York:20240518T170000
DTEND;TZID=America/New_York:20240518T200000
DTSTAMP:20260423T174424
CREATED:20240505T184701Z
LAST-MODIFIED:20240505T184701Z
UID:1732-1716051600-1716062400@dolphinsgrill.com
SUMMARY:Kenny & Bo
DESCRIPTION:Come out with your friends for a special Island style vibe. \nLocal Cocoa Beach Musicians playing a special blend of Music- Americana as a duo since 2015. Their music is easy listening classic\, “American Country Folk Blues.” \nMichael “Bo” Boukedes on: lead vocals\, acoustic & electric guitars\, twelve strings\, nylon\, & harmonicas! \nKenny Cohen on: Lead vocals\, fender electric bass\, saxophone\, & flute! \n  \nCome out and enjoy these veteran local musicians.
URL:https://dolphinsgrill.com/event/kenny-bo-22/
LOCATION:Dolphins Waterfront Bar & Grill\, 310 Lagoon Way\, Merritt Island\, FL\, 32953\, United States
ATTACH;FMTTYPE=application/pdf:https://dolphinsgrill.com/wp-content/uploads/2022/12/KennyBo-1.pdf
END:VEVENT
BEGIN:VEVENT
DTSTART;TZID=America/New_York:20240512T160000
DTEND;TZID=America/New_York:20240512T190000
DTSTAMP:20260423T174424
CREATED:20240505T163917Z
LAST-MODIFIED:20240505T163917Z
UID:1728-1715529600-1715540400@dolphinsgrill.com
SUMMARY:Johnny Danger
DESCRIPTION:Sunday Funday with Johnny Danger Live! \nJohnny Danger Live is a solo guitarist\, singer\, and interactive entertainer with over twenty years of experience. JDL is also an accomplished songwriter and the most recent winner of the Runaway Country Music Festivals. Runaway Rockstar Competition. JDLs performances include a repertoire of over two thousand songs\, featuring a vast array of music from timeless classics to the current hits on the radio and online.
URL:https://dolphinsgrill.com/event/johnny-danger-18/
LOCATION:Dolphins Waterfront Bar & Grill\, 310 Lagoon Way\, Merritt Island\, FL\, 32953\, United States
ATTACH;FMTTYPE=image/jpeg:https://dolphinsgrill.com/wp-content/uploads/2022/08/jpg5BPtbx679.jpg
END:VEVENT
BEGIN:VEVENT
DTSTART;TZID=America/New_York:20240511T170000
DTEND;TZID=America/New_York:20240511T200000
DTSTAMP:20260423T174424
CREATED:20240505T163846Z
LAST-MODIFIED:20240505T163846Z
UID:1726-1715446800-1715457600@dolphinsgrill.com
SUMMARY:Joshua Keels
DESCRIPTION:Come relax and enjoy Joshua Keels and his acoustic guitar. The vibe is sure to set the tone for a great night.
URL:https://dolphinsgrill.com/event/joshua-keels-18/
LOCATION:Dolphins Waterfront Bar & Grill\, 310 Lagoon Way\, Merritt Island\, FL\, 32953\, United States
ATTACH;FMTTYPE=image/jpeg:https://dolphinsgrill.com/wp-content/uploads/2022/08/joshuakeels.jpeg
END:VEVENT
BEGIN:VEVENT
DTSTART;TZID=America/New_York:20240510T170000
DTEND;TZID=America/New_York:20240510T200000
DTSTAMP:20260423T174424
CREATED:20240505T163746Z
LAST-MODIFIED:20240505T163746Z
UID:1724-1715360400-1715371200@dolphinsgrill.com
SUMMARY:Jersey Mike
DESCRIPTION:Come enjoy the local beat of Jersey Mike.
URL:https://dolphinsgrill.com/event/jersey-mike-18/
LOCATION:Dolphins Waterfront Bar & Grill\, 310 Lagoon Way\, Merritt Island\, FL\, 32953\, United States
ATTACH;FMTTYPE=image/jpeg:https://dolphinsgrill.com/wp-content/uploads/2023/01/jerseymike.jpeg
END:VEVENT
BEGIN:VEVENT
DTSTART;TZID=America/New_York:20240428T160000
DTEND;TZID=America/New_York:20240428T190000
DTSTAMP:20260423T174424
CREATED:20240403T174035Z
LAST-MODIFIED:20240403T174035Z
UID:1691-1714320000-1714330800@dolphinsgrill.com
SUMMARY:Johnny Danger
DESCRIPTION:Sunday Funday with Johnny Danger Live! \nJohnny Danger Live is a solo guitarist\, singer\, and interactive entertainer with over twenty years of experience. JDL is also an accomplished songwriter and the most recent winner of the Runaway Country Music Festivals. Runaway Rockstar Competition. JDLs performances include a repertoire of over two thousand songs\, featuring a vast array of music from timeless classics to the current hits on the radio and online.
URL:https://dolphinsgrill.com/event/johnny-danger-17/
LOCATION:Dolphins Waterfront Bar & Grill\, 310 Lagoon Way\, Merritt Island\, FL\, 32953\, United States
ATTACH;FMTTYPE=image/jpeg:https://dolphinsgrill.com/wp-content/uploads/2022/08/jpg5BPtbx679.jpg
END:VEVENT
BEGIN:VEVENT
DTSTART;TZID=America/New_York:20240427T170000
DTEND;TZID=America/New_York:20240427T200000
DTSTAMP:20260423T174424
CREATED:20240403T173938Z
LAST-MODIFIED:20240403T173938Z
UID:1689-1714237200-1714248000@dolphinsgrill.com
SUMMARY:Anna. Delgado Trio
DESCRIPTION:Catch the good vibes with the Anna Delgado Trio and the sound of all your favorite songs!
URL:https://dolphinsgrill.com/event/anna-delgado-trio-14/
LOCATION:Dolphins Waterfront Bar & Grill\, 310 Lagoon Way\, Merritt Island\, FL\, 32953\, United States
ATTACH;FMTTYPE=application/pdf:https://dolphinsgrill.com/wp-content/uploads/2023/04/anna.pdf
END:VEVENT
BEGIN:VEVENT
DTSTART;TZID=America/New_York:20240426T170000
DTEND;TZID=America/New_York:20240426T200000
DTSTAMP:20260423T174424
CREATED:20240403T173902Z
LAST-MODIFIED:20240403T173902Z
UID:1687-1714150800-1714161600@dolphinsgrill.com
SUMMARY:Captain Tom
DESCRIPTION:Captain Tom is a solo guitarist/singer that plays a classic selection of acoustic rock and folk music.
URL:https://dolphinsgrill.com/event/captain-tom-12/
LOCATION:Dolphins Waterfront Bar & Grill\, 310 Lagoon Way\, Merritt Island\, FL\, 32953\, United States
ATTACH;FMTTYPE=application/pdf:https://dolphinsgrill.com/wp-content/uploads/2022/12/CaptTom-GeorgeDragon78.pdf
END:VEVENT
BEGIN:VEVENT
DTSTART;TZID=America/New_York:20240421T160000
DTEND;TZID=America/New_York:20240421T190000
DTSTAMP:20260423T174424
CREATED:20240403T173748Z
LAST-MODIFIED:20240403T173748Z
UID:1685-1713715200-1713726000@dolphinsgrill.com
SUMMARY:Mark Houghton
DESCRIPTION:Mark Houghton is a  cover artist\, fusion band from Orlando! He is described as a spectacular collaboration of talent and crowd entertainment with his down home country vocals.
URL:https://dolphinsgrill.com/event/mark-houghton-3/
LOCATION:Dolphins Waterfront Bar & Grill\, 310 Lagoon Way\, Merritt Island\, FL\, 32953\, United States
ATTACH;FMTTYPE=image/jpeg:https://dolphinsgrill.com/wp-content/uploads/2022/12/Mark-Houghton-1536x1025-1.jpeg
END:VEVENT
BEGIN:VEVENT
DTSTART;TZID=America/New_York:20240420T170000
DTEND;TZID=America/New_York:20240420T200000
DTSTAMP:20260423T174424
CREATED:20240403T173719Z
LAST-MODIFIED:20240403T173719Z
UID:1683-1713632400-1713643200@dolphinsgrill.com
SUMMARY:Kenny & Bo
DESCRIPTION:Come out with your friends for a special Island style vibe. \nLocal Cocoa Beach Musicians playing a special blend of Music- Americana as a duo since 2015. Their music is easy listening classic\, “American Country Folk Blues.” \nMichael “Bo” Boukedes on: lead vocals\, acoustic & electric guitars\, twelve strings\, nylon\, & harmonicas! \nKenny Cohen on: Lead vocals\, fender electric bass\, saxophone\, & flute! \n  \nCome out and enjoy these veteran local musicians.
URL:https://dolphinsgrill.com/event/kenny-bo-21/
LOCATION:Dolphins Waterfront Bar & Grill\, 310 Lagoon Way\, Merritt Island\, FL\, 32953\, United States
ATTACH;FMTTYPE=application/pdf:https://dolphinsgrill.com/wp-content/uploads/2022/12/KennyBo-1.pdf
END:VEVENT
BEGIN:VEVENT
DTSTART;TZID=America/New_York:20240419T170000
DTEND;TZID=America/New_York:20240419T200000
DTSTAMP:20260423T174424
CREATED:20240403T173600Z
LAST-MODIFIED:20240403T173600Z
UID:1681-1713546000-1713556800@dolphinsgrill.com
SUMMARY:Ravon Steely Roden
DESCRIPTION:Come enjoy the Island life with Steely Roden! Ravon is Producer\, Singer\, Steelpan\, Songwriter\, and super energetic performer of Island music! You are not going to want to miss his Reggaebeat!
URL:https://dolphinsgrill.com/event/ravon-steely-roden-14/
LOCATION:Dolphins Waterfront Bar & Grill\, 310 Lagoon Way\, Merritt Island\, FL\, 32953\, United States
ATTACH;FMTTYPE=image/jpeg:https://dolphinsgrill.com/wp-content/uploads/2022/08/ravon.jpeg
END:VEVENT
BEGIN:VEVENT
DTSTART;TZID=America/New_York:20240413T170000
DTEND;TZID=America/New_York:20240413T200000
DTSTAMP:20260423T174424
CREATED:20240314T180109Z
LAST-MODIFIED:20240314T180109Z
UID:1655-1713027600-1713038400@dolphinsgrill.com
SUMMARY:Joshua Keels
DESCRIPTION:Come relax and enjoy Joshua Keels and his acoustic guitar. The vibe is sure to set the tone for a great night.
URL:https://dolphinsgrill.com/event/joshua-keels-17/
LOCATION:Dolphins Waterfront Bar & Grill\, 310 Lagoon Way\, Merritt Island\, FL\, 32953\, United States
ATTACH;FMTTYPE=image/jpeg:https://dolphinsgrill.com/wp-content/uploads/2022/08/joshuakeels.jpeg
END:VEVENT
BEGIN:VEVENT
DTSTART;TZID=America/New_York:20240412T170000
DTEND;TZID=America/New_York:20240412T200000
DTSTAMP:20260423T174424
CREATED:20240314T180013Z
LAST-MODIFIED:20240314T180013Z
UID:1653-1712941200-1712952000@dolphinsgrill.com
SUMMARY:Jersey Mike
DESCRIPTION:Come enjoy the local beat of Jersey Mike.
URL:https://dolphinsgrill.com/event/jersey-mike-17/
LOCATION:Dolphins Waterfront Bar & Grill\, 310 Lagoon Way\, Merritt Island\, FL\, 32953\, United States
ATTACH;FMTTYPE=image/jpeg:https://dolphinsgrill.com/wp-content/uploads/2023/01/jerseymike.jpeg
END:VEVENT
BEGIN:VEVENT
DTSTART;TZID=America/New_York:20240406T170000
DTEND;TZID=America/New_York:20240406T200000
DTSTAMP:20260423T174424
CREATED:20240314T175835Z
LAST-MODIFIED:20240314T175835Z
UID:1649-1712422800-1712433600@dolphinsgrill.com
SUMMARY:The Tiki Band
DESCRIPTION:Trop rockers\, Tony & Melissa\, right off the cruise ships join us for a unique Island experience.
URL:https://dolphinsgrill.com/event/the-tiki-band-5/
LOCATION:Dolphins Waterfront Bar & Grill\, 310 Lagoon Way\, Merritt Island\, FL\, 32953\, United States
ATTACH;FMTTYPE=application/pdf:https://dolphinsgrill.com/wp-content/uploads/2023/04/tikiband.pdf
END:VEVENT
BEGIN:VEVENT
DTSTART;TZID=America/New_York:20240405T170000
DTEND;TZID=America/New_York:20240405T200000
DTSTAMP:20260423T174424
CREATED:20240314T175739Z
LAST-MODIFIED:20240314T175739Z
UID:1647-1712336400-1712347200@dolphinsgrill.com
SUMMARY:The Syndicate Duo
DESCRIPTION:Brevard based variety music duo. Rock\, Reggae\, Country\, Hip Hop\, and more…family friendly.
URL:https://dolphinsgrill.com/event/the-syndicate-duo-13/
LOCATION:Dolphins Waterfront Bar & Grill\, 310 Lagoon Way\, Merritt Island\, FL\, 32953\, United States
ATTACH;FMTTYPE=application/pdf:https://dolphinsgrill.com/wp-content/uploads/2022/12/syndicate-1.pdf
END:VEVENT
BEGIN:VEVENT
DTSTART;TZID=America/New_York:20240330T170000
DTEND;TZID=America/New_York:20240330T200000
DTSTAMP:20260423T174424
CREATED:20240226T145001Z
LAST-MODIFIED:20240226T145001Z
UID:1534-1711818000-1711828800@dolphinsgrill.com
SUMMARY:Teddy V.
DESCRIPTION:Teddy is back!!! The Fullest One Man Band you’ve ever heard. He plays along to it alwaysCome enjoy with a Live Acoustic Guitar or Electric Guitar and a strong Lead Vocal. Classic Rock / Oldies / Trop-Rock / Smooth Jazz / R&B / Pop and Funk from the 50’s\, 60’s\, 70’s\, 80’s\, 90’s to Present Hits. Lots of Originals Too!
URL:https://dolphinsgrill.com/event/teddy-v-20/
LOCATION:Dolphins Waterfront Bar & Grill\, 310 Lagoon Way\, Merritt Island\, FL\, 32953\, United States
ATTACH;FMTTYPE=image/jpeg:https://dolphinsgrill.com/wp-content/uploads/2023/01/teddyV.jpeg
END:VEVENT
END:VCALENDAR