BEGIN:VCALENDAR
VERSION:2.0
PRODID:-//Dolphins Waterfront Bar &amp; Grill - ECPv6.15.20//NONSGML v1.0//EN
CALSCALE:GREGORIAN
METHOD:PUBLISH
X-WR-CALNAME:Dolphins Waterfront Bar &amp; Grill
X-ORIGINAL-URL:https://dolphinsgrill.com
X-WR-CALDESC:Events for Dolphins Waterfront Bar &amp; Grill
REFRESH-INTERVAL;VALUE=DURATION:PT1H
X-Robots-Tag:noindex
X-PUBLISHED-TTL:PT1H
BEGIN:VTIMEZONE
TZID:America/New_York
BEGIN:DAYLIGHT
TZOFFSETFROM:-0500
TZOFFSETTO:-0400
TZNAME:EDT
DTSTART:20220313T070000
END:DAYLIGHT
BEGIN:STANDARD
TZOFFSETFROM:-0400
TZOFFSETTO:-0500
TZNAME:EST
DTSTART:20221106T060000
END:STANDARD
BEGIN:DAYLIGHT
TZOFFSETFROM:-0500
TZOFFSETTO:-0400
TZNAME:EDT
DTSTART:20230312T070000
END:DAYLIGHT
BEGIN:STANDARD
TZOFFSETFROM:-0400
TZOFFSETTO:-0500
TZNAME:EST
DTSTART:20231105T060000
END:STANDARD
BEGIN:DAYLIGHT
TZOFFSETFROM:-0500
TZOFFSETTO:-0400
TZNAME:EDT
DTSTART:20240310T070000
END:DAYLIGHT
BEGIN:STANDARD
TZOFFSETFROM:-0400
TZOFFSETTO:-0500
TZNAME:EST
DTSTART:20241103T060000
END:STANDARD
END:VTIMEZONE
BEGIN:VEVENT
DTSTART;TZID=America/New_York:20230903T160000
DTEND;TZID=America/New_York:20230903T190000
DTSTAMP:20260424T045836
CREATED:20230828T185836Z
LAST-MODIFIED:20230828T185836Z
UID:1301-1693756800-1693767600@dolphinsgrill.com
SUMMARY:Joshua Keels
DESCRIPTION:Solo acoustic guitar with a chill unique style.
URL:https://dolphinsgrill.com/event/joshua-keels-10/
LOCATION:Dolphins Waterfront Bar & Grill\, 310 Lagoon Way\, Merritt Island\, FL\, 32953\, United States
ATTACH;FMTTYPE=image/jpeg:https://dolphinsgrill.com/wp-content/uploads/2022/08/joshuakeels.jpeg
END:VEVENT
BEGIN:VEVENT
DTSTART;TZID=America/New_York:20230908T170000
DTEND;TZID=America/New_York:20230908T200000
DTSTAMP:20260424T045836
CREATED:20230818T135538Z
LAST-MODIFIED:20230818T135538Z
UID:1276-1694192400-1694203200@dolphinsgrill.com
SUMMARY:Captain Tom
DESCRIPTION:Captain Tom is a solo guitarist/singer that plays a classic selection of acoustic rock and folk music.
URL:https://dolphinsgrill.com/event/captain-tom-10/
LOCATION:Dolphins Waterfront Bar & Grill\, 310 Lagoon Way\, Merritt Island\, FL\, 32953\, United States
ATTACH;FMTTYPE=application/pdf:https://dolphinsgrill.com/wp-content/uploads/2022/12/CaptTom-GeorgeDragon78.pdf
END:VEVENT
BEGIN:VEVENT
DTSTART;TZID=America/New_York:20230909T170000
DTEND;TZID=America/New_York:20230909T200000
DTSTAMP:20260424T045836
CREATED:20230818T135617Z
LAST-MODIFIED:20230818T135617Z
UID:1278-1694278800-1694289600@dolphinsgrill.com
SUMMARY:Anna. Delgado Trio
DESCRIPTION:Catch the good vibes with the Anna Delgado Trio and the sound of all your favorite songs!
URL:https://dolphinsgrill.com/event/anna-delgado-trio-8/
LOCATION:Dolphins Waterfront Bar & Grill\, 310 Lagoon Way\, Merritt Island\, FL\, 32953\, United States
ATTACH;FMTTYPE=application/pdf:https://dolphinsgrill.com/wp-content/uploads/2023/04/anna.pdf
END:VEVENT
BEGIN:VEVENT
DTSTART;TZID=America/New_York:20230910T160000
DTEND;TZID=America/New_York:20230910T190000
DTSTAMP:20260424T045836
CREATED:20230818T135702Z
LAST-MODIFIED:20230818T135702Z
UID:1280-1694361600-1694372400@dolphinsgrill.com
SUMMARY:Ravon Steely Roden
DESCRIPTION:Ravon is Producer\, Singer\, Steelpan\, Songwriter\, and super energetic performer of Island music! You are not going t o want to miss his Reggaebeat!
URL:https://dolphinsgrill.com/event/ravon-steely-roden-8/
LOCATION:Dolphins Waterfront Bar & Grill\, 310 Lagoon Way\, Merritt Island\, FL\, 32953\, United States
ATTACH;FMTTYPE=image/jpeg:https://dolphinsgrill.com/wp-content/uploads/2022/08/ravon.jpeg
END:VEVENT
BEGIN:VEVENT
DTSTART;TZID=America/New_York:20230915T170000
DTEND;TZID=America/New_York:20230915T200000
DTSTAMP:20260424T045836
CREATED:20230818T135801Z
LAST-MODIFIED:20230818T135801Z
UID:1282-1694797200-1694808000@dolphinsgrill.com
SUMMARY:Salt and Pepper
DESCRIPTION:Jonathan Honeycutt from Hot Pink and Pepper play a variety of music that everyone will enjoy.
URL:https://dolphinsgrill.com/event/salt-and-pepper-5/
LOCATION:Dolphins Waterfront Bar & Grill\, 310 Lagoon Way\, Merritt Island\, FL\, 32953\, United States
ATTACH;FMTTYPE=image/jpeg:https://dolphinsgrill.com/wp-content/uploads/2023/03/IMG_7172.jpg
END:VEVENT
BEGIN:VEVENT
DTSTART;TZID=America/New_York:20230916T170000
DTEND;TZID=America/New_York:20230916T200000
DTSTAMP:20260424T045836
CREATED:20230818T135832Z
LAST-MODIFIED:20230818T135832Z
UID:1284-1694883600-1694894400@dolphinsgrill.com
SUMMARY:Jersey Mike
DESCRIPTION:Come enjoy the local beat of Jersey Mike.
URL:https://dolphinsgrill.com/event/jersey-mike-11/
LOCATION:Dolphins Waterfront Bar & Grill\, 310 Lagoon Way\, Merritt Island\, FL\, 32953\, United States
ATTACH;FMTTYPE=image/jpeg:https://dolphinsgrill.com/wp-content/uploads/2023/01/jerseymike.jpeg
END:VEVENT
BEGIN:VEVENT
DTSTART;TZID=America/New_York:20230917T160000
DTEND;TZID=America/New_York:20230917T190000
DTSTAMP:20260424T045836
CREATED:20230818T135901Z
LAST-MODIFIED:20230818T135901Z
UID:1286-1694966400-1694977200@dolphinsgrill.com
SUMMARY:Billy Cockrell
DESCRIPTION:Bill Cockrell is the king of trop rock. A multitalented musician\, that can play guitar\, banjo\, flute\, keyboards\, steel drums\, and more.
URL:https://dolphinsgrill.com/event/billy-cockrell-10/
LOCATION:Dolphins Waterfront Bar & Grill\, 310 Lagoon Way\, Merritt Island\, FL\, 32953\, United States
ATTACH;FMTTYPE=image/jpeg:https://dolphinsgrill.com/wp-content/uploads/2022/08/billC.jpeg
END:VEVENT
BEGIN:VEVENT
DTSTART;TZID=America/New_York:20230922T180000
DTEND;TZID=America/New_York:20230922T210000
DTSTAMP:20260424T045836
CREATED:20230912T161354Z
LAST-MODIFIED:20230912T161354Z
UID:1305-1695405600-1695416400@dolphinsgrill.com
SUMMARY:Coastal Breed
DESCRIPTION:Kick off of Rock the Dock!
URL:https://dolphinsgrill.com/event/coastal-breed/
LOCATION:Dolphins Waterfront Bar & Grill\, 310 Lagoon Way\, Merritt Island\, FL\, 32953\, United States
ATTACH;FMTTYPE=image/jpeg:https://dolphinsgrill.com/wp-content/uploads/2023/09/CBIMG_1936-1-1.jpeg
END:VEVENT
BEGIN:VEVENT
DTSTART;TZID=America/New_York:20230922T180000
DTEND;TZID=America/New_York:20230924T200000
DTSTAMP:20260424T045836
CREATED:20230828T170120Z
LAST-MODIFIED:20230917T002206Z
UID:1298-1695405600-1695585600@dolphinsgrill.com
SUMMARY:Rock the Dock Line up
DESCRIPTION:We are very proud of the all Local talent line up for Rock the Dock:  Coastal Breed\, Tru Phonic\, Phoenix\, Johnny Danger\, and electric Syndicate Trio.
URL:https://dolphinsgrill.com/event/rock-the-dock-line-up/
LOCATION:Dolphins Waterfront Bar & Grill\, 310 Lagoon Way\, Merritt Island\, FL\, 32953\, United States
ATTACH;FMTTYPE=application/pdf:https://dolphinsgrill.com/wp-content/uploads/2023/08/RockDockBandsGrfx47-1.pdf
END:VEVENT
BEGIN:VEVENT
DTSTART;TZID=America/New_York:20230922T180000
DTEND;TZID=America/New_York:20230924T210000
DTSTAMP:20260424T045836
CREATED:20230822T175057Z
LAST-MODIFIED:20230917T001954Z
UID:1288-1695405600-1695589200@dolphinsgrill.com
SUMMARY:Rock the Dock
DESCRIPTION:Join us September 22-24 for the following line up\, playing from dinner yacht\, Charlotte: \nCoastal Breed\, Tru Phonic\, Phoenix\, Johnny Danger\, & Syndicate electric trio!
URL:https://dolphinsgrill.com/event/surprise-coming/
LOCATION:Dolphins Waterfront Bar & Grill\, 310 Lagoon Way\, Merritt Island\, FL\, 32953\, United States
ATTACH;FMTTYPE=application/pdf:https://dolphinsgrill.com/wp-content/uploads/2023/08/RockDockTopGrfx28-1.pdf
END:VEVENT
BEGIN:VEVENT
DTSTART;TZID=America/New_York:20230923T130000
DTEND;TZID=America/New_York:20230923T160000
DTSTAMP:20260424T045836
CREATED:20230912T163540Z
LAST-MODIFIED:20230917T000813Z
UID:1308-1695474000-1695484800@dolphinsgrill.com
SUMMARY:Tru Phonic
DESCRIPTION:1st up Saturday Tru Phonic! Amazing local talent.
URL:https://dolphinsgrill.com/event/truphonic/
LOCATION:Dolphins Waterfront Bar & Grill\, 310 Lagoon Way\, Merritt Island\, FL\, 32953\, United States
ATTACH;FMTTYPE=application/pdf:https://dolphinsgrill.com/wp-content/uploads/2023/09/TRuPhonic.pdf
END:VEVENT
BEGIN:VEVENT
DTSTART;TZID=America/New_York:20230923T180000
DTEND;TZID=America/New_York:20230923T210000
DTSTAMP:20260424T045836
CREATED:20230912T170231Z
LAST-MODIFIED:20230912T170231Z
UID:1312-1695492000-1695502800@dolphinsgrill.com
SUMMARY:Phoenix
DESCRIPTION:Saturday night’s party down band.
URL:https://dolphinsgrill.com/event/phoenix/
LOCATION:Dolphins Waterfront Bar & Grill\, 310 Lagoon Way\, Merritt Island\, FL\, 32953\, United States
ATTACH;FMTTYPE=application/pdf:https://dolphinsgrill.com/wp-content/uploads/2023/09/Phoenix27.pdf
END:VEVENT
BEGIN:VEVENT
DTSTART;TZID=America/New_York:20230924T130000
DTEND;TZID=America/New_York:20230924T160000
DTSTAMP:20260424T045836
CREATED:20230912T170349Z
LAST-MODIFIED:20230912T170349Z
UID:1315-1695560400-1695571200@dolphinsgrill.com
SUMMARY:Johnny Danger
DESCRIPTION:Sunday kicks off with Johnny Danger Live! \nJohnny Danger Live is a solo guitarist\, singer\, and interactive entertainer with over twenty years of experience. JDL is also an accomplished songwriter and the most recent winner of the Runaway Country Music Festivals. Runaway Rockstar Competition. JDLs performances include a repertoire of over two thousand songs\, featuring a vast array of music from timeless classics to the current hits on the radio and online.
URL:https://dolphinsgrill.com/event/johnny-danger-12/
LOCATION:Dolphins Waterfront Bar & Grill\, 310 Lagoon Way\, Merritt Island\, FL\, 32953\, United States
ATTACH;FMTTYPE=image/jpeg:https://dolphinsgrill.com/wp-content/uploads/2022/08/jpg5BPtbx679.jpg
END:VEVENT
BEGIN:VEVENT
DTSTART;TZID=America/New_York:20230924T170000
DTEND;TZID=America/New_York:20230924T200000
DTSTAMP:20260424T045836
CREATED:20230912T170608Z
LAST-MODIFIED:20230912T170742Z
UID:1317-1695574800-1695585600@dolphinsgrill.com
SUMMARY:The Syndicate Electric Trio
DESCRIPTION:Wrapping up Sunday with electric Syndicate Trio!
URL:https://dolphinsgrill.com/event/the-syndicate-electric-trio/
LOCATION:FL
ATTACH;FMTTYPE=application/pdf:https://dolphinsgrill.com/wp-content/uploads/2023/09/syndicate.pdf
END:VEVENT
BEGIN:VEVENT
DTSTART;TZID=America/New_York:20230929T170000
DTEND;TZID=America/New_York:20230929T200000
DTSTAMP:20260424T045836
CREATED:20230917T001227Z
LAST-MODIFIED:20230917T001227Z
UID:1332-1696006800-1696017600@dolphinsgrill.com
SUMMARY:Indian River Band
DESCRIPTION:Come see our local talent\, Indian River Band playing acoustic cover from the 60\, 70 & 80’s.
URL:https://dolphinsgrill.com/event/indian-river-band-5/
LOCATION:Dolphins Waterfront Bar & Grill\, 310 Lagoon Way\, Merritt Island\, FL\, 32953\, United States
ATTACH;FMTTYPE=image/jpeg:https://dolphinsgrill.com/wp-content/uploads/2022/11/indianriverband.jpeg
END:VEVENT
BEGIN:VEVENT
DTSTART;TZID=America/New_York:20230930T170000
DTEND;TZID=America/New_York:20230930T200000
DTSTAMP:20260424T045836
CREATED:20230917T001423Z
LAST-MODIFIED:20230917T001423Z
UID:1334-1696093200-1696104000@dolphinsgrill.com
SUMMARY:Kenny & Bo
DESCRIPTION:Local Cocoa Beach Musicians playing a special blend of Music- Americana as a duo since 2015. Their music is easy listening classic\, “American Country Folk Blues.” \nMichael “Bo” Boukedes on: lead vocals\, acoustic & electric guitars\, twelve strings\, nylon\, & harmonicas! \nKenny Cohen on: Lead vocals\, fender electric bass\, saxophone\, & flute! \n  \nCome out and enjoy these veteran local musicians.
URL:https://dolphinsgrill.com/event/kenny-bo-15/
LOCATION:Dolphins Waterfront Bar & Grill\, 310 Lagoon Way\, Merritt Island\, FL\, 32953\, United States
ATTACH;FMTTYPE=application/pdf:https://dolphinsgrill.com/wp-content/uploads/2022/12/KennyBo-1.pdf
END:VEVENT
BEGIN:VEVENT
DTSTART;TZID=America/New_York:20231007T170000
DTEND;TZID=America/New_York:20231007T200000
DTSTAMP:20260424T045836
CREATED:20230327T155937Z
LAST-MODIFIED:20230926T183659Z
UID:1050-1696698000-1696708800@dolphinsgrill.com
SUMMARY:Fundecided
DESCRIPTION:Live\, Fun\, Guitar\, Steel Drum and Marimba! Playing all your island favorites\, and MORE! The Tiki Band!
URL:https://dolphinsgrill.com/event/fundecided-7/
LOCATION:Dolphins Waterfront Bar & Grill\, 310 Lagoon Way\, Merritt Island\, FL\, 32953\, United States
ATTACH;FMTTYPE=image/jpeg:https://dolphinsgrill.com/wp-content/uploads/2022/08/fundecided.jpeg
END:VEVENT
BEGIN:VEVENT
DTSTART;TZID=America/New_York:20231008T160000
DTEND;TZID=America/New_York:20231008T190000
DTSTAMP:20260424T045836
CREATED:20230926T183807Z
LAST-MODIFIED:20230926T183807Z
UID:1341-1696780800-1696791600@dolphinsgrill.com
SUMMARY:Ravon Steely Roden
DESCRIPTION:Ravon is Producer\, Singer\, Steelpan\, Songwriter\, and super energetic performer of Island music! You are not going t o want to miss his Reggaebeat!
URL:https://dolphinsgrill.com/event/ravon-steely-roden-9/
LOCATION:Dolphins Waterfront Bar & Grill\, 310 Lagoon Way\, Merritt Island\, FL\, 32953\, United States
ATTACH;FMTTYPE=image/jpeg:https://dolphinsgrill.com/wp-content/uploads/2022/08/ravon.jpeg
END:VEVENT
BEGIN:VEVENT
DTSTART;TZID=America/New_York:20231013T170000
DTEND;TZID=America/New_York:20231013T200000
DTSTAMP:20260424T045836
CREATED:20230613T180451Z
LAST-MODIFIED:20230926T183910Z
UID:1191-1697216400-1697227200@dolphinsgrill.com
SUMMARY:Teddy V.
DESCRIPTION:The Fullest One Man Band you’ve ever heard. I play along to it always with a Live Acoustic Guitar or Electric Guitar and a strong Lead Vocal. Classic Rock / Oldies / Trop-Rock / Smooth Jazz / R&B / Pop and Funk from the 50’s\, 60’s\, 70’s\, 80’s\, 90’s to Present Hits. Lots of Originals Too!
URL:https://dolphinsgrill.com/event/teddy-v-16/
LOCATION:Dolphins Waterfront Bar & Grill\, 310 Lagoon Way\, Merritt Island\, FL\, 32953\, United States
ATTACH;FMTTYPE=image/jpeg:https://dolphinsgrill.com/wp-content/uploads/2023/01/teddyV.jpeg
END:VEVENT
BEGIN:VEVENT
DTSTART;TZID=America/New_York:20231014T170000
DTEND;TZID=America/New_York:20231014T200000
DTSTAMP:20260424T045836
CREATED:20230926T184009Z
LAST-MODIFIED:20230926T184009Z
UID:1343-1697302800-1697313600@dolphinsgrill.com
SUMMARY:Joshua Keels
DESCRIPTION:Solo acoustic guitar with a chill unique style.
URL:https://dolphinsgrill.com/event/joshua-keels-11/
LOCATION:Dolphins Waterfront Bar & Grill\, 310 Lagoon Way\, Merritt Island\, FL\, 32953\, United States
ATTACH;FMTTYPE=image/jpeg:https://dolphinsgrill.com/wp-content/uploads/2022/08/joshuakeels.jpeg
END:VEVENT
BEGIN:VEVENT
DTSTART;TZID=America/New_York:20231015T160000
DTEND;TZID=America/New_York:20231015T190000
DTSTAMP:20260424T045836
CREATED:20230926T184045Z
LAST-MODIFIED:20230926T184045Z
UID:1345-1697385600-1697396400@dolphinsgrill.com
SUMMARY:Billy Cockrell
DESCRIPTION:Bill Cockrell is the king of trop rock. A multitalented musician\, that can play guitar\, banjo\, flute\, keyboards\, steel drums\, and more.
URL:https://dolphinsgrill.com/event/billy-cockrell-11/
LOCATION:Dolphins Waterfront Bar & Grill\, 310 Lagoon Way\, Merritt Island\, FL\, 32953\, United States
ATTACH;FMTTYPE=image/jpeg:https://dolphinsgrill.com/wp-content/uploads/2022/08/billC.jpeg
END:VEVENT
BEGIN:VEVENT
DTSTART;TZID=America/New_York:20231020T170000
DTEND;TZID=America/New_York:20231020T200000
DTSTAMP:20260424T045836
CREATED:20231019T150109Z
LAST-MODIFIED:20231019T173126Z
UID:1395-1697821200-1697832000@dolphinsgrill.com
SUMMARY:Toiya Lee
DESCRIPTION:Come hear Toiya’s unique pop\, country\, latin\, and rock vibe!
URL:https://dolphinsgrill.com/event/toiya-lee/
LOCATION:Dolphins Waterfront Bar & Grill\, 310 Lagoon Way\, Merritt Island\, FL\, 32953\, United States
ATTACH;FMTTYPE=application/pdf:https://dolphinsgrill.com/wp-content/uploads/2023/10/toiya2.pdf
END:VEVENT
BEGIN:VEVENT
DTSTART;TZID=America/New_York:20231021T170000
DTEND;TZID=America/New_York:20231021T200000
DTSTAMP:20260424T045836
CREATED:20230926T184234Z
LAST-MODIFIED:20230926T184234Z
UID:1347-1697907600-1697918400@dolphinsgrill.com
SUMMARY:Jersey Mike
DESCRIPTION:Come enjoy the local beat of Jersey Mike.
URL:https://dolphinsgrill.com/event/jersey-mike-12/
LOCATION:Dolphins Waterfront Bar & Grill\, 310 Lagoon Way\, Merritt Island\, FL\, 32953\, United States
ATTACH;FMTTYPE=image/jpeg:https://dolphinsgrill.com/wp-content/uploads/2023/01/jerseymike.jpeg
END:VEVENT
BEGIN:VEVENT
DTSTART;TZID=America/New_York:20231022T160000
DTEND;TZID=America/New_York:20231022T190000
DTSTAMP:20260424T045836
CREATED:20230926T184337Z
LAST-MODIFIED:20230926T184337Z
UID:1349-1697990400-1698001200@dolphinsgrill.com
SUMMARY:Johnny Danger
DESCRIPTION:Sunday kicks off with Johnny Danger Live! \nJohnny Danger Live is a solo guitarist\, singer\, and interactive entertainer with over twenty years of experience. JDL is also an accomplished songwriter and the most recent winner of the Runaway Country Music Festivals. Runaway Rockstar Competition. JDLs performances include a repertoire of over two thousand songs\, featuring a vast array of music from timeless classics to the current hits on the radio and online.
URL:https://dolphinsgrill.com/event/johnny-danger-13/
LOCATION:Dolphins Waterfront Bar & Grill\, 310 Lagoon Way\, Merritt Island\, FL\, 32953\, United States
ATTACH;FMTTYPE=image/jpeg:https://dolphinsgrill.com/wp-content/uploads/2022/08/jpg5BPtbx679.jpg
END:VEVENT
BEGIN:VEVENT
DTSTART;TZID=America/New_York:20231027T170000
DTEND;TZID=America/New_York:20231027T200000
DTSTAMP:20260424T045836
CREATED:20230926T184410Z
LAST-MODIFIED:20230926T184410Z
UID:1351-1698426000-1698436800@dolphinsgrill.com
SUMMARY:Kenny & Bo
DESCRIPTION:Local Cocoa Beach Musicians playing a special blend of Music- Americana as a duo since 2015. Their music is easy listening classic\, “American Country Folk Blues.” \nMichael “Bo” Boukedes on: lead vocals\, acoustic & electric guitars\, twelve strings\, nylon\, & harmonicas! \nKenny Cohen on: Lead vocals\, fender electric bass\, saxophone\, & flute! \n  \nCome out and enjoy these veteran local musicians.
URL:https://dolphinsgrill.com/event/kenny-bo-16/
LOCATION:Dolphins Waterfront Bar & Grill\, 310 Lagoon Way\, Merritt Island\, FL\, 32953\, United States
ATTACH;FMTTYPE=application/pdf:https://dolphinsgrill.com/wp-content/uploads/2022/12/KennyBo-1.pdf
END:VEVENT
BEGIN:VEVENT
DTSTART;TZID=America/New_York:20231028T170000
DTEND;TZID=America/New_York:20231028T200000
DTSTAMP:20260424T045836
CREATED:20230926T184656Z
LAST-MODIFIED:20230926T184656Z
UID:1353-1698512400-1698523200@dolphinsgrill.com
SUMMARY:Everette Stevens
DESCRIPTION:Everette Stevens of Freeman Music Duo will be playing at Dolphins with his unique chill music.
URL:https://dolphinsgrill.com/event/everette-stevens-7/
LOCATION:Dolphins Waterfront Bar & Grill\, 310 Lagoon Way\, Merritt Island\, FL\, 32953\, United States
ATTACH;FMTTYPE=application/pdf:https://dolphinsgrill.com/wp-content/uploads/2023/06/Everettestevensduo.pdf
END:VEVENT
BEGIN:VEVENT
DTSTART;TZID=America/New_York:20231029T160000
DTEND;TZID=America/New_York:20231029T190000
DTSTAMP:20260424T045836
CREATED:20230926T184813Z
LAST-MODIFIED:20230926T184813Z
UID:1355-1698595200-1698606000@dolphinsgrill.com
SUMMARY:Salt and Pepper
DESCRIPTION:Jonathan Honeycutt from Hot Pink and Salt play a variety of music that everyone will enjoy.
URL:https://dolphinsgrill.com/event/salt-and-pepper-6/
LOCATION:Dolphins Waterfront Bar & Grill\, 310 Lagoon Way\, Merritt Island\, FL\, 32953\, United States
ATTACH;FMTTYPE=image/jpeg:https://dolphinsgrill.com/wp-content/uploads/2023/03/IMG_7172.jpg
END:VEVENT
BEGIN:VEVENT
DTSTART;TZID=America/New_York:20231103T170000
DTEND;TZID=America/New_York:20231103T200000
DTSTAMP:20260424T045836
CREATED:20231016T190300Z
LAST-MODIFIED:20231016T190300Z
UID:1358-1699030800-1699041600@dolphinsgrill.com
SUMMARY:The Syndicate Duo
DESCRIPTION:Brevard based variety music duo. Rock\, Reggae\, Country\, Hip Hop\, and more…family friendly.
URL:https://dolphinsgrill.com/event/the-syndicate-duo-8/
LOCATION:Dolphins Waterfront Bar & Grill\, 310 Lagoon Way\, Merritt Island\, FL\, 32953\, United States
ATTACH;FMTTYPE=application/pdf:https://dolphinsgrill.com/wp-content/uploads/2022/12/syndicate-1.pdf
END:VEVENT
BEGIN:VEVENT
DTSTART;TZID=America/New_York:20231104T170000
DTEND;TZID=America/New_York:20231104T200000
DTSTAMP:20260424T045836
CREATED:20231016T203212Z
LAST-MODIFIED:20231016T203212Z
UID:1368-1699117200-1699128000@dolphinsgrill.com
SUMMARY:Elizer Martinez
DESCRIPTION:Elizer Martinez brings his unique talent to Dolphins.
URL:https://dolphinsgrill.com/event/elizer-martinez/
LOCATION:Dolphins Waterfront Bar & Grill\, 310 Lagoon Way\, Merritt Island\, FL\, 32953\, United States
ATTACH;FMTTYPE=image/png:https://dolphinsgrill.com/wp-content/uploads/2023/10/elizer.png
END:VEVENT
BEGIN:VEVENT
DTSTART;TZID=America/New_York:20231105T160000
DTEND;TZID=America/New_York:20231105T190000
DTSTAMP:20260424T045836
CREATED:20231016T190548Z
LAST-MODIFIED:20231016T190548Z
UID:1361-1699200000-1699210800@dolphinsgrill.com
SUMMARY:Billy Cockrell
DESCRIPTION:Bill Cockrell is the king of trop rock. A multitalented musician\, that can play guitar\, banjo\, flute\, keyboards\, steel drums\, and more.
URL:https://dolphinsgrill.com/event/billy-cockrell-12/
LOCATION:Dolphins Waterfront Bar & Grill\, 310 Lagoon Way\, Merritt Island\, FL\, 32953\, United States
ATTACH;FMTTYPE=image/jpeg:https://dolphinsgrill.com/wp-content/uploads/2022/08/billC.jpeg
END:VEVENT
END:VCALENDAR