BEGIN:VCALENDAR
VERSION:2.0
PRODID:-//Dolphins Waterfront Bar &amp; Grill - ECPv6.15.20//NONSGML v1.0//EN
CALSCALE:GREGORIAN
METHOD:PUBLISH
X-WR-CALNAME:Dolphins Waterfront Bar &amp; Grill
X-ORIGINAL-URL:https://dolphinsgrill.com
X-WR-CALDESC:Events for Dolphins Waterfront Bar &amp; Grill
REFRESH-INTERVAL;VALUE=DURATION:PT1H
X-Robots-Tag:noindex
X-PUBLISHED-TTL:PT1H
BEGIN:VTIMEZONE
TZID:America/New_York
BEGIN:DAYLIGHT
TZOFFSETFROM:-0500
TZOFFSETTO:-0400
TZNAME:EDT
DTSTART:20250309T070000
END:DAYLIGHT
BEGIN:STANDARD
TZOFFSETFROM:-0400
TZOFFSETTO:-0500
TZNAME:EST
DTSTART:20251102T060000
END:STANDARD
BEGIN:DAYLIGHT
TZOFFSETFROM:-0500
TZOFFSETTO:-0400
TZNAME:EDT
DTSTART:20260308T070000
END:DAYLIGHT
BEGIN:STANDARD
TZOFFSETFROM:-0400
TZOFFSETTO:-0500
TZNAME:EST
DTSTART:20261101T060000
END:STANDARD
BEGIN:DAYLIGHT
TZOFFSETFROM:-0500
TZOFFSETTO:-0400
TZNAME:EDT
DTSTART:20270314T070000
END:DAYLIGHT
BEGIN:STANDARD
TZOFFSETFROM:-0400
TZOFFSETTO:-0500
TZNAME:EST
DTSTART:20271107T060000
END:STANDARD
END:VTIMEZONE
BEGIN:VEVENT
DTSTART;TZID=America/New_York:20260313T170000
DTEND;TZID=America/New_York:20260313T200000
DTSTAMP:20260423T182904
CREATED:20250417T164033Z
LAST-MODIFIED:20260216T191624Z
UID:2107-1773421200-1773432000@dolphinsgrill.com
SUMMARY:Pink Spice
DESCRIPTION:Come out for the energetic cool vibe of Pink Spice.
URL:https://dolphinsgrill.com/event/pink-spice/
LOCATION:Dolphins Waterfront Bar & Grill\, 310 Lagoon Way\, Merritt Island\, FL\, 32953\, United States
ATTACH;FMTTYPE=image/jpeg:https://dolphinsgrill.com/wp-content/uploads/2025/04/IMG_1225.jpeg
END:VEVENT
BEGIN:VEVENT
DTSTART;TZID=America/New_York:20260321T170000
DTEND;TZID=America/New_York:20260418T200000
DTSTAMP:20260423T182904
CREATED:20250416T114746Z
LAST-MODIFIED:20260418T105629Z
UID:2087-1774112400-1776542400@dolphinsgrill.com
SUMMARY:Salt and Pepper
DESCRIPTION:Come out for chill beat of Jonathan Honeycutt from Hot Pink\, Pepper\, and  Salt\, awesome percussions\, play a variety of music that everyone will enjoy.
URL:https://dolphinsgrill.com/event/salt-and-pepper-9/
LOCATION:Dolphins Waterfront Bar & Grill\, 310 Lagoon Way\, Merritt Island\, FL\, 32953\, United States
ATTACH;FMTTYPE=image/jpeg:https://dolphinsgrill.com/wp-content/uploads/2023/03/IMG_7172.jpg
END:VEVENT
BEGIN:VEVENT
DTSTART;TZID=America/New_York:20260322T160000
DTEND;TZID=America/New_York:20260322T190000
DTSTAMP:20260423T182904
CREATED:20250609T184851Z
LAST-MODIFIED:20260216T191953Z
UID:2190-1774195200-1774206000@dolphinsgrill.com
SUMMARY:Captain Tom
DESCRIPTION:Captain Tom is a solo guitarist/singer that plays a classic selection of acoustic rock and folk music.
URL:https://dolphinsgrill.com/event/captain-tom-15/
LOCATION:Dolphins Waterfront Bar & Grill\, 310 Lagoon Way\, Merritt Island\, FL\, 32953\, United States
ATTACH;FMTTYPE=application/pdf:https://dolphinsgrill.com/wp-content/uploads/2022/12/CaptTom-GeorgeDragon78.pdf
END:VEVENT
BEGIN:VEVENT
DTSTART;TZID=America/New_York:20260327T170000
DTEND;TZID=America/New_York:20260327T200000
DTSTAMP:20260423T182904
CREATED:20260115T170348Z
LAST-MODIFIED:20260310T190152Z
UID:2402-1774630800-1774641600@dolphinsgrill.com
SUMMARY:Jason Dumolot
DESCRIPTION:Join Jason to chill and relax to the Island vibe.
URL:https://dolphinsgrill.com/event/jason-dumolot-3/
LOCATION:Dolphins Waterfront Bar & Grill\, 310 Lagoon Way\, Merritt Island\, FL\, 32953\, United States
ATTACH;FMTTYPE=image/jpeg:https://dolphinsgrill.com/wp-content/uploads/2024/07/IMG_1570.jpg
END:VEVENT
BEGIN:VEVENT
DTSTART;TZID=America/New_York:20260329T160000
DTEND;TZID=America/New_York:20260329T190000
DTSTAMP:20260423T182904
CREATED:20250313T200447Z
LAST-MODIFIED:20260310T190300Z
UID:2076-1774800000-1774810800@dolphinsgrill.com
SUMMARY:Kenny & Bo
DESCRIPTION:Come out with your friends for a special Island style vibe. \nLocal Cocoa Beach Musicians playing a special blend of Music- Americana as a duo since 2015. Their music is easy listening classic\, “American Country Folk Blues.” \nMichael “Bo” Boukedes on: lead vocals\, acoustic & electric guitars\, twelve strings\, nylon\, & harmonicas! \nKenny Cohen on: Lead vocals\, fender electric bass\, saxophone\, & flute! \n  \nCome out and enjoy these veteran local musicians.
URL:https://dolphinsgrill.com/event/kenny-bo-27/
LOCATION:Dolphins Waterfront Bar & Grill\, 310 Lagoon Way\, Merritt Island\, FL\, 32953\, United States
ATTACH;FMTTYPE=application/pdf:https://dolphinsgrill.com/wp-content/uploads/2022/12/KennyBo-1.pdf
END:VEVENT
BEGIN:VEVENT
DTSTART;TZID=America/New_York:20260404T170000
DTEND;TZID=America/New_York:20260404T200000
DTSTAMP:20260423T182904
CREATED:20260326T193747Z
LAST-MODIFIED:20260326T193747Z
UID:2437-1775322000-1775332800@dolphinsgrill.com
SUMMARY:LionHart Trio
DESCRIPTION:
URL:https://dolphinsgrill.com/event/lionhart-trio/
LOCATION:FL
END:VEVENT
BEGIN:VEVENT
DTSTART;TZID=America/New_York:20260405T160000
DTEND;TZID=America/New_York:20260405T190000
DTSTAMP:20260423T182904
CREATED:20251203T184905Z
LAST-MODIFIED:20260326T193853Z
UID:2383-1775404800-1775415600@dolphinsgrill.com
SUMMARY:Teddy V.
DESCRIPTION:Teddy is back!!! The Fullest One Man Band you’ve ever heard. He plays along to it alwaysCome enjoy with a Live Acoustic Guitar or Electric Guitar and a strong Lead Vocal. Classic Rock / Oldies / Trop-Rock / Smooth Jazz / R&B / Pop and Funk from the 50’s\, 60’s\, 70’s\, 80’s\, 90’s to Present Hits. Lots of Originals Too!
URL:https://dolphinsgrill.com/event/teddy-v-23/
LOCATION:Dolphins Waterfront Bar & Grill\, 310 Lagoon Way\, Merritt Island\, FL\, 32953\, United States
ATTACH;FMTTYPE=image/jpeg:https://dolphinsgrill.com/wp-content/uploads/2023/01/teddyV.jpeg
END:VEVENT
BEGIN:VEVENT
DTSTART;TZID=America/New_York:20260411T170000
DTEND;TZID=America/New_York:20260411T200000
DTSTAMP:20260423T182904
CREATED:20250609T184514Z
LAST-MODIFIED:20260326T194022Z
UID:2184-1775926800-1775937600@dolphinsgrill.com
SUMMARY:Joshua Keels
DESCRIPTION:Come relax and enjoy Joshua Keels and his acoustic guitar. The vibe is sure to set the tone for a great night.
URL:https://dolphinsgrill.com/event/joshua-keels-23/
LOCATION:Dolphins Waterfront Bar & Grill\, 310 Lagoon Way\, Merritt Island\, FL\, 32953\, United States
ATTACH;FMTTYPE=image/jpeg:https://dolphinsgrill.com/wp-content/uploads/2022/08/joshuakeels.jpeg
END:VEVENT
BEGIN:VEVENT
DTSTART;TZID=America/New_York:20260412T160000
DTEND;TZID=America/New_York:20260412T190000
DTSTAMP:20260423T182904
CREATED:20260216T191751Z
LAST-MODIFIED:20260326T194054Z
UID:2413-1776009600-1776020400@dolphinsgrill.com
SUMMARY:Anna Delgado Band
DESCRIPTION:Catch the good vibes with the Anna Delgado Band and the sound of all your favorite songs!
URL:https://dolphinsgrill.com/event/anna-delgado-band-9/
LOCATION:Dolphins Waterfront Bar & Grill\, 310 Lagoon Way\, Merritt Island\, FL\, 32953\, United States
ATTACH;FMTTYPE=image/jpeg:https://dolphinsgrill.com/wp-content/uploads/2024/06/Band022524wRich.jpeg
END:VEVENT
BEGIN:VEVENT
DTSTART;TZID=America/New_York:20260419T160000
DTEND;TZID=America/New_York:20260419T190000
DTSTAMP:20260423T182904
CREATED:20220819T185901Z
LAST-MODIFIED:20260418T105656Z
UID:523-1776614400-1776625200@dolphinsgrill.com
SUMMARY:Bill Cockrell
DESCRIPTION:Bill Cockrell is the king of trop rock. A multitalented musician\, that can play guitar\, banjo\, flute\, keyboards\, steel drums\, and more.
URL:https://dolphinsgrill.com/event/bill-cockrell-2/
LOCATION:Dolphins Waterfront Bar & Grill\, 310 Lagoon Way\, Merritt Island\, FL\, 32953\, United States
ATTACH;FMTTYPE=image/jpeg:https://dolphinsgrill.com/wp-content/uploads/2022/08/billC.jpeg
END:VEVENT
BEGIN:VEVENT
DTSTART;TZID=America/New_York:20260424T170000
DTEND;TZID=America/New_York:20260424T200000
DTSTAMP:20260423T182904
CREATED:20260115T170204Z
LAST-MODIFIED:20260418T105730Z
UID:2400-1777050000-1777060800@dolphinsgrill.com
SUMMARY:Innuendo
DESCRIPTION:Come on out to Dolphins for Innuendo. These two have a unique beat we think you are going to like.
URL:https://dolphinsgrill.com/event/innuendo-2/
LOCATION:Dolphins Waterfront Bar & Grill\, 310 Lagoon Way\, Merritt Island\, FL\, 32953\, United States
ATTACH;FMTTYPE=image/jpeg:https://dolphinsgrill.com/wp-content/uploads/2025/07/7724080097826551663.jpeg
END:VEVENT
BEGIN:VEVENT
DTSTART;TZID=America/New_York:20260425T170000
DTEND;TZID=America/New_York:20260425T200000
DTSTAMP:20260423T182904
CREATED:20240619T190636Z
LAST-MODIFIED:20260418T105814Z
UID:1808-1777136400-1777147200@dolphinsgrill.com
SUMMARY:Tim England
DESCRIPTION:Come enjoy an acoustic array from 2nd time back Tim England!
URL:https://dolphinsgrill.com/event/teddy-v-22/
LOCATION:Dolphins Waterfront Bar & Grill\, 310 Lagoon Way\, Merritt Island\, FL\, 32953\, United States
ATTACH;FMTTYPE=image/jpeg:https://dolphinsgrill.com/wp-content/uploads/2024/06/7419143769536194158.jpeg
END:VEVENT
BEGIN:VEVENT
DTSTART;TZID=America/New_York:20260426T170000
DTEND;TZID=America/New_York:20260426T200000
DTSTAMP:20260423T182904
CREATED:20250811T175136Z
LAST-MODIFIED:20260418T105842Z
UID:2273-1777222800-1777233600@dolphinsgrill.com
SUMMARY:Rick Cupoli
DESCRIPTION:Come on out for Rick Cupoli’s rocking vibe at Dolphins.
URL:https://dolphinsgrill.com/event/rick-cupola/
LOCATION:Dolphins Waterfront Bar & Grill\, 310 Lagoon Way\, Merritt Island\, FL\, 32953\, United States
ATTACH;FMTTYPE=image/jpeg:https://dolphinsgrill.com/wp-content/uploads/2025/08/Rick-Cupoli-1.jpeg
END:VEVENT
BEGIN:VEVENT
DTSTART;TZID=America/New_York:20260501T170000
DTEND;TZID=America/New_York:20260501T200000
DTSTAMP:20260423T182904
CREATED:20251203T182540Z
LAST-MODIFIED:20260418T105933Z
UID:2377-1777654800-1777665600@dolphinsgrill.com
SUMMARY:The Syndicate Duo
DESCRIPTION:Brevard based variety music duo. Rock\, Reggae\, Country\, Hip Hop\, and more…family friendly.
URL:https://dolphinsgrill.com/event/the-syndicate-duo-19/
LOCATION:Dolphins Waterfront Bar & Grill\, 310 Lagoon Way\, Merritt Island\, FL\, 32953\, United States
ATTACH;FMTTYPE=application/pdf:https://dolphinsgrill.com/wp-content/uploads/2022/12/syndicate-1.pdf
END:VEVENT
BEGIN:VEVENT
DTSTART;TZID=America/New_York:20260502T170000
DTEND;TZID=America/New_York:20260502T200000
DTSTAMP:20260423T182904
CREATED:20250521T175604Z
LAST-MODIFIED:20260418T110001Z
UID:2162-1777741200-1777752000@dolphinsgrill.com
SUMMARY:Redfish Rich
DESCRIPTION:Rich spent the last 8 years as a full time musician in Saint Augustine Fl.  He has played at places like The Milltop\, Mi Casa\, Salt Life\, The Conch House and many more. He is now back to his roots in Titusville. Rich worked on the Space Shuttle and played music at many local Spacecoast venues and now is a regular at Dolphins! \n 
URL:https://dolphinsgrill.com/event/redfish-rich-10/
LOCATION:Dolphins Waterfront Bar & Grill\, 310 Lagoon Way\, Merritt Island\, FL\, 32953\, United States
ATTACH;FMTTYPE=image/webp:https://dolphinsgrill.com/wp-content/uploads/2022/12/redfishrich.webp
END:VEVENT
BEGIN:VEVENT
DTSTART;TZID=America/New_York:20260503T160000
DTEND;TZID=America/New_York:20260503T190000
DTSTAMP:20260423T182904
CREATED:20260326T193944Z
LAST-MODIFIED:20260418T110029Z
UID:2439-1777824000-1777834800@dolphinsgrill.com
SUMMARY:Jason Dumolot
DESCRIPTION:Join Jason to chill and relax to the Island vibe.
URL:https://dolphinsgrill.com/event/jason-dumolot-4/
LOCATION:Dolphins Waterfront Bar & Grill\, 310 Lagoon Way\, Merritt Island\, FL\, 32953\, United States
ATTACH;FMTTYPE=image/jpeg:https://dolphinsgrill.com/wp-content/uploads/2024/07/IMG_1570.jpg
END:VEVENT
END:VCALENDAR