BEGIN:VCALENDAR
VERSION:2.0
PRODID:-//Dolphins Waterfront Bar &amp; Grill - ECPv6.15.20//NONSGML v1.0//EN
CALSCALE:GREGORIAN
METHOD:PUBLISH
X-WR-CALNAME:Dolphins Waterfront Bar &amp; Grill
X-ORIGINAL-URL:https://dolphinsgrill.com
X-WR-CALDESC:Events for Dolphins Waterfront Bar &amp; Grill
REFRESH-INTERVAL;VALUE=DURATION:PT1H
X-Robots-Tag:noindex
X-PUBLISHED-TTL:PT1H
BEGIN:VTIMEZONE
TZID:America/New_York
BEGIN:DAYLIGHT
TZOFFSETFROM:-0500
TZOFFSETTO:-0400
TZNAME:EDT
DTSTART:20220313T070000
END:DAYLIGHT
BEGIN:STANDARD
TZOFFSETFROM:-0400
TZOFFSETTO:-0500
TZNAME:EST
DTSTART:20221106T060000
END:STANDARD
BEGIN:DAYLIGHT
TZOFFSETFROM:-0500
TZOFFSETTO:-0400
TZNAME:EDT
DTSTART:20230312T070000
END:DAYLIGHT
BEGIN:STANDARD
TZOFFSETFROM:-0400
TZOFFSETTO:-0500
TZNAME:EST
DTSTART:20231105T060000
END:STANDARD
BEGIN:DAYLIGHT
TZOFFSETFROM:-0500
TZOFFSETTO:-0400
TZNAME:EDT
DTSTART:20240310T070000
END:DAYLIGHT
BEGIN:STANDARD
TZOFFSETFROM:-0400
TZOFFSETTO:-0500
TZNAME:EST
DTSTART:20241103T060000
END:STANDARD
END:VTIMEZONE
BEGIN:VEVENT
DTSTART;TZID=America/New_York:20230512T170000
DTEND;TZID=America/New_York:20230512T200000
DTSTAMP:20260423T193133
CREATED:20230428T195956Z
LAST-MODIFIED:20230428T195956Z
UID:1115-1683910800-1683921600@dolphinsgrill.com
SUMMARY:Teddy V.
DESCRIPTION:The Fullest One Man Band you’ve ever heard. I play along to it always with a Live Acoustic Guitar or Electric Guitar and a strong Lead Vocal. Classic Rock / Oldies / Trop-Rock / Smooth Jazz / R&B / Pop and Funk from the 50’s\, 60’s\, 70’s\, 80’s\, 90’s to Present Hits. Lots of Originals Too!
URL:https://dolphinsgrill.com/event/teddy-v-14/
LOCATION:Dolphins Waterfront Bar & Grill\, 310 Lagoon Way\, Merritt Island\, FL\, 32953\, United States
ATTACH;FMTTYPE=image/jpeg:https://dolphinsgrill.com/wp-content/uploads/2023/01/teddyV.jpeg
END:VEVENT
BEGIN:VEVENT
DTSTART;TZID=America/New_York:20230507T160000
DTEND;TZID=America/New_York:20230507T190000
DTSTAMP:20260423T193133
CREATED:20230428T195913Z
LAST-MODIFIED:20230428T195913Z
UID:1113-1683475200-1683486000@dolphinsgrill.com
SUMMARY:Billy Cockrell
DESCRIPTION:Bill Cockrell is the king of trop rock. A multitalented musician\, that can play guitar\, banjo\, flute\, keyboards\, steel drums\, and more.
URL:https://dolphinsgrill.com/event/billy-cockrell-6/
LOCATION:Dolphins Waterfront Bar & Grill\, 310 Lagoon Way\, Merritt Island\, FL\, 32953\, United States
ATTACH;FMTTYPE=image/jpeg:https://dolphinsgrill.com/wp-content/uploads/2022/08/billC.jpeg
END:VEVENT
BEGIN:VEVENT
DTSTART;TZID=America/New_York:20230506T170000
DTEND;TZID=America/New_York:20230506T200000
DTSTAMP:20260423T193133
CREATED:20230428T195820Z
LAST-MODIFIED:20230428T195820Z
UID:1111-1683392400-1683403200@dolphinsgrill.com
SUMMARY:Captain Tom
DESCRIPTION:Captain Tom is a solo guitarist/singer that plays a classic selection of acoustic rock and folk music.
URL:https://dolphinsgrill.com/event/captain-tom-5/
LOCATION:Dolphins Waterfront Bar & Grill\, 310 Lagoon Way\, Merritt Island\, FL\, 32953\, United States
ATTACH;FMTTYPE=application/pdf:https://dolphinsgrill.com/wp-content/uploads/2022/12/CaptTom-GeorgeDragon78.pdf
END:VEVENT
BEGIN:VEVENT
DTSTART;TZID=America/New_York:20230505T170000
DTEND;TZID=America/New_York:20230505T200000
DTSTAMP:20260423T193133
CREATED:20230428T195651Z
LAST-MODIFIED:20230428T195651Z
UID:1109-1683306000-1683316800@dolphinsgrill.com
SUMMARY:Redfish Rich
DESCRIPTION:Rich spent the last 8 years as a full time musician in Saint Augustine Fl.  He has played at places like The Milltop\, Mi Casa\, Salt Life\, The Conch House and many more. He is now back to his roots in Titusville. Rich worked on the Space Shuttle and played music at many local Spacecoast venues and now will debut at Dolphins! \n 
URL:https://dolphinsgrill.com/event/redfish-rich-4/
LOCATION:Dolphins Waterfront Bar & Grill\, 310 Lagoon Way\, Merritt Island\, FL\, 32953\, United States
ATTACH;FMTTYPE=image/webp:https://dolphinsgrill.com/wp-content/uploads/2022/12/redfishrich.webp
END:VEVENT
BEGIN:VEVENT
DTSTART;TZID=America/New_York:20230504T170000
DTEND;TZID=America/New_York:20230504T200000
DTSTAMP:20260423T193133
CREATED:20230428T195433Z
LAST-MODIFIED:20230428T195433Z
UID:1106-1683219600-1683230400@dolphinsgrill.com
SUMMARY:The Tiki Band
DESCRIPTION:Trop rockers\, Tony & Melissa\, right off the cruise ships join us for a unique Island experience.
URL:https://dolphinsgrill.com/event/the-tiki-band/
LOCATION:Dolphins Waterfront Bar & Grill\, 310 Lagoon Way\, Merritt Island\, FL\, 32953\, United States
ATTACH;FMTTYPE=application/pdf:https://dolphinsgrill.com/wp-content/uploads/2023/04/tikiband.pdf
END:VEVENT
BEGIN:VEVENT
DTSTART;TZID=America/New_York:20230430T160000
DTEND;TZID=America/New_York:20230430T190000
DTSTAMP:20260423T193133
CREATED:20230328T162417Z
LAST-MODIFIED:20230328T162417Z
UID:1073-1682870400-1682881200@dolphinsgrill.com
SUMMARY:Johnny Danger
DESCRIPTION:Johnny Danger Live is a solo guitarist\, singer\, and interactive entertainer with over twenty years of experience. JDL is also an accomplished songwriter and the most recent winner of the Runaway Country Music Festivals. Runaway Rockstar Competition. JDLs performances include a repertoire of over two thousand songs\, featuring a vast array of music from timeless classics to the current hits on the radio and online.
URL:https://dolphinsgrill.com/event/johnny-danger-9/
LOCATION:Dolphins Waterfront Bar & Grill\, 310 Lagoon Way\, Merritt Island\, FL\, 32953\, United States
ATTACH;FMTTYPE=image/jpeg:https://dolphinsgrill.com/wp-content/uploads/2022/08/jpg5BPtbx679.jpg
END:VEVENT
BEGIN:VEVENT
DTSTART;TZID=America/New_York:20230429T170000
DTEND;TZID=America/New_York:20230429T200000
DTSTAMP:20260423T193133
CREATED:20230328T162316Z
LAST-MODIFIED:20230328T162316Z
UID:1071-1682787600-1682798400@dolphinsgrill.com
SUMMARY:Kenny & Bo
DESCRIPTION:Local Cocoa Beach Musicians playing a special blend of Music- Americana as a duo since 2015. Their music is easy listening classic\, “American Country Folk Blues.” \nMichael “Bo” Boukedes on: lead vocals\, acoustic & electric guitars\, twelve strings\, nylon\, & harmonicas! \nKenny Cohen on: Lead vocals\, fender electric bass\, saxophone\, & flute! \n  \nCome out and enjoy these veteran local musicians.
URL:https://dolphinsgrill.com/event/kenny-bo-10/
LOCATION:Dolphins Waterfront Bar & Grill\, 310 Lagoon Way\, Merritt Island\, FL\, 32953\, United States
ATTACH;FMTTYPE=application/pdf:https://dolphinsgrill.com/wp-content/uploads/2022/12/KennyBo-1.pdf
END:VEVENT
BEGIN:VEVENT
DTSTART;TZID=America/New_York:20230428T170000
DTEND;TZID=America/New_York:20230428T200000
DTSTAMP:20260423T193133
CREATED:20230328T162238Z
LAST-MODIFIED:20230328T162238Z
UID:1068-1682701200-1682712000@dolphinsgrill.com
SUMMARY:Salt and Pepper
DESCRIPTION:Jonathan Honeycutt from Hot Pink and friend play a variety of music that everyone will enjoy.
URL:https://dolphinsgrill.com/event/salt-and-pepper-2/
LOCATION:Dolphins Waterfront Bar & Grill\, 310 Lagoon Way\, Merritt Island\, FL\, 32953\, United States
ATTACH;FMTTYPE=image/jpeg:https://dolphinsgrill.com/wp-content/uploads/2023/03/IMG_7172.jpg
END:VEVENT
BEGIN:VEVENT
DTSTART;TZID=America/New_York:20230423T160000
DTEND;TZID=America/New_York:20230423T190000
DTSTAMP:20260423T193133
CREATED:20230328T161625Z
LAST-MODIFIED:20230328T161625Z
UID:1066-1682265600-1682276400@dolphinsgrill.com
SUMMARY:Billy Cockrell
DESCRIPTION:Bill Cockrell is the king of trop rock. A multitalented musician\, that can play guitar\, banjo\, flute\, keyboards\, steel drums\, and more.
URL:https://dolphinsgrill.com/event/billy-cockrell-5/
LOCATION:Dolphins Waterfront Bar & Grill\, 310 Lagoon Way\, Merritt Island\, FL\, 32953\, United States
ATTACH;FMTTYPE=image/jpeg:https://dolphinsgrill.com/wp-content/uploads/2022/08/billC.jpeg
END:VEVENT
BEGIN:VEVENT
DTSTART;TZID=America/New_York:20230422T170000
DTEND;TZID=America/New_York:20230422T200000
DTSTAMP:20260423T193133
CREATED:20230328T161548Z
LAST-MODIFIED:20230328T161548Z
UID:1064-1682182800-1682193600@dolphinsgrill.com
SUMMARY:Everette Stevens
DESCRIPTION:Everette Stevens of Freeman Music will be playing at Dolphins with his unique chill music.
URL:https://dolphinsgrill.com/event/everette-stevens-3/
LOCATION:Dolphins Waterfront Bar & Grill\, 310 Lagoon Way\, Merritt Island\, FL\, 32953\, United States
ATTACH;FMTTYPE=application/pdf:https://dolphinsgrill.com/wp-content/uploads/2022/12/Everett-Freeman-music.pdf
END:VEVENT
BEGIN:VEVENT
DTSTART;TZID=America/New_York:20230421T170000
DTEND;TZID=America/New_York:20230421T200000
DTSTAMP:20260423T193133
CREATED:20230420T175920Z
LAST-MODIFIED:20230420T175920Z
UID:1103-1682096400-1682107200@dolphinsgrill.com
SUMMARY:Indian River Band
DESCRIPTION:Come see our local talent\, Indian River Band playing acoustic cover from the 60\, 70 & 80’s.
URL:https://dolphinsgrill.com/event/indian-river-band-2/
LOCATION:Dolphins Waterfront Bar & Grill\, 310 Lagoon Way\, Merritt Island\, FL\, 32953\, United States
ATTACH;FMTTYPE=image/jpeg:https://dolphinsgrill.com/wp-content/uploads/2022/11/indianriverband.jpeg
END:VEVENT
BEGIN:VEVENT
DTSTART;TZID=America/New_York:20230416T160000
DTEND;TZID=America/New_York:20230416T190000
DTSTAMP:20260423T193133
CREATED:20230327T165314Z
LAST-MODIFIED:20230327T165314Z
UID:1060-1681660800-1681671600@dolphinsgrill.com
SUMMARY:Ravon Steely Roden
DESCRIPTION:Ravon is Producer\, Singer\, Steelpan\, Songwriter\, and super energetic performer of Island music! You are not going t o want to miss his Reggaebeat!
URL:https://dolphinsgrill.com/event/ravon-steely-roden-3/
LOCATION:Dolphins Waterfront Bar & Grill\, 310 Lagoon Way\, Merritt Island\, FL\, 32953\, United States
ATTACH;FMTTYPE=image/jpeg:https://dolphinsgrill.com/wp-content/uploads/2022/08/ravon.jpeg
END:VEVENT
BEGIN:VEVENT
DTSTART;TZID=America/New_York:20230415T170000
DTEND;TZID=America/New_York:20230415T200000
DTSTAMP:20260423T193133
CREATED:20230327T165153Z
LAST-MODIFIED:20230327T165153Z
UID:1056-1681578000-1681588800@dolphinsgrill.com
SUMMARY:Jersey Mike
DESCRIPTION:Come enjoy the local beat of Jersey Mike.
URL:https://dolphinsgrill.com/event/jersey-mike-6/
LOCATION:Dolphins Waterfront Bar & Grill\, 310 Lagoon Way\, Merritt Island\, FL\, 32953\, United States
ATTACH;FMTTYPE=image/jpeg:https://dolphinsgrill.com/wp-content/uploads/2023/01/jerseymike.jpeg
END:VEVENT
BEGIN:VEVENT
DTSTART;TZID=America/New_York:20230414T170000
DTEND;TZID=America/New_York:20230414T200000
DTSTAMP:20260423T193133
CREATED:20230327T160126Z
LAST-MODIFIED:20230327T160126Z
UID:1054-1681491600-1681502400@dolphinsgrill.com
SUMMARY:Redfish Rich
DESCRIPTION:Rich spent the last 8 years as a full time musician in Saint Augustine Fl.  He has played at places like The Milltop\, Mi Casa\, Salt Life\, The Conch House and many more. He is now back to his roots in Titusville. Rich worked on the Space Shuttle and played music at many local Spacecoast venues and now will debut at Dolphins! \n 
URL:https://dolphinsgrill.com/event/redfish-rich-3/
LOCATION:Dolphins Waterfront Bar & Grill\, 310 Lagoon Way\, Merritt Island\, FL\, 32953\, United States
ATTACH;FMTTYPE=image/webp:https://dolphinsgrill.com/wp-content/uploads/2022/12/redfishrich.webp
END:VEVENT
BEGIN:VEVENT
DTSTART;TZID=America/New_York:20230414T160000
DTEND;TZID=America/New_York:20230414T190000
DTSTAMP:20260423T193133
CREATED:20240105T184955Z
LAST-MODIFIED:20240105T184955Z
UID:1458-1681488000-1681498800@dolphinsgrill.com
SUMMARY:Redfish Rich
DESCRIPTION:Rich spent the last 8 years as a full time musician in Saint Augustine Fl.  He has played at places like The Milltop\, Mi Casa\, Salt Life\, The Conch House and many more. He is now back to his roots in Titusville. Rich worked on the Space Shuttle and played music at many local Spacecoast venues and now will debut at Dolphins! \n 
URL:https://dolphinsgrill.com/event/redfish-rich-5/
LOCATION:Dolphins Waterfront Bar & Grill\, 310 Lagoon Way\, Merritt Island\, FL\, 32953\, United States
ATTACH;FMTTYPE=image/webp:https://dolphinsgrill.com/wp-content/uploads/2022/12/redfishrich.webp
END:VEVENT
BEGIN:VEVENT
DTSTART;TZID=America/New_York:20230409T160000
DTEND;TZID=America/New_York:20230409T190000
DTSTAMP:20260423T193133
CREATED:20230327T160044Z
LAST-MODIFIED:20230327T160044Z
UID:1052-1681056000-1681066800@dolphinsgrill.com
SUMMARY:Joshua Keels
DESCRIPTION:Solo acoustic guitar with a chill unique style
URL:https://dolphinsgrill.com/event/joshua-keels-4/
LOCATION:Dolphins Waterfront Bar & Grill\, 310 Lagoon Way\, Merritt Island\, FL\, 32953\, United States
ATTACH;FMTTYPE=image/jpeg:https://dolphinsgrill.com/wp-content/uploads/2022/08/joshuakeels.jpeg
END:VEVENT
BEGIN:VEVENT
DTSTART;TZID=America/New_York:20230409T110000
DTEND;TZID=America/New_York:20230409T190000
DTSTAMP:20260423T193133
CREATED:20230403T163945Z
LAST-MODIFIED:20230403T163945Z
UID:1087-1681038000-1681066800@dolphinsgrill.com
SUMMARY:Easter Hours 11-7 pm and Easter Specials
DESCRIPTION:Menu to follow
URL:https://dolphinsgrill.com/event/easter-hours-11-7-pm-and-easter-specials/
LOCATION:Dolphins Waterfront Bar & Grill\, 310 Lagoon Way\, Merritt Island\, FL\, 32953\, United States
ATTACH;FMTTYPE=image/jpeg:https://dolphinsgrill.com/wp-content/uploads/2023/04/6C0E5B49-521C-47FE-9D35-0FF67FF1F8E7.jpeg
END:VEVENT
BEGIN:VEVENT
DTSTART;TZID=America/New_York:20230407T170000
DTEND;TZID=America/New_York:20230407T200000
DTSTAMP:20260423T193133
CREATED:20230327T155834Z
LAST-MODIFIED:20230327T155834Z
UID:1048-1680886800-1680897600@dolphinsgrill.com
SUMMARY:Teddy V.
DESCRIPTION:The Fullest One Man Band you’ve ever heard. I play along to it always with a Live Acoustic Guitar or Electric Guitar and a strong Lead Vocal. Classic Rock / Oldies / Trop-Rock / Smooth Jazz / R&B / Pop and Funk from the 50’s\, 60’s\, 70’s\, 80’s\, 90’s to Present Hits. Lots of Originals Too!
URL:https://dolphinsgrill.com/event/teddy-v-13/
LOCATION:Dolphins Waterfront Bar & Grill\, 310 Lagoon Way\, Merritt Island\, FL\, 32953\, United States
ATTACH;FMTTYPE=image/jpeg:https://dolphinsgrill.com/wp-content/uploads/2023/01/teddyV.jpeg
END:VEVENT
BEGIN:VEVENT
DTSTART;TZID=America/New_York:20230402T160000
DTEND;TZID=America/New_York:20230402T190000
DTSTAMP:20260423T193133
CREATED:20230327T155729Z
LAST-MODIFIED:20230327T155729Z
UID:1046-1680451200-1680462000@dolphinsgrill.com
SUMMARY:The Syndicate Duo
DESCRIPTION:Brevard based variety music duo. Rock\, Reggae\, Country\, Hip Hop\, and more…family friendly.
URL:https://dolphinsgrill.com/event/the-syndicate-duo-3/
LOCATION:Dolphins Waterfront Bar & Grill\, 310 Lagoon Way\, Merritt Island\, FL\, 32953\, United States
ATTACH;FMTTYPE=application/pdf:https://dolphinsgrill.com/wp-content/uploads/2022/12/syndicate-1.pdf
END:VEVENT
BEGIN:VEVENT
DTSTART;TZID=America/New_York:20230401T170000
DTEND;TZID=America/New_York:20230401T200000
DTSTAMP:20260423T193133
CREATED:20230327T155640Z
LAST-MODIFIED:20230327T155640Z
UID:1044-1680368400-1680379200@dolphinsgrill.com
SUMMARY:Sound Traveler Band
DESCRIPTION:With 2800+ shows over 10+ years as a full-time duo\, Sound Traveler (Bob & Patty Tatum) has taken a unique blend of acoustic music to 8 states and 5 foreign countries\, using their love of music and 10 different instruments to create feel-good shows for eclectic audiences of all ages. Whether you enjoy fresh arrangements of rock/pop/country favorites\, light jazz\, or even a touch of gospel or bluegrass\, you’re sure to have a good time.
URL:https://dolphinsgrill.com/event/sound-traveler-band-4/
LOCATION:Dolphins Waterfront Bar & Grill\, 310 Lagoon Way\, Merritt Island\, FL\, 32953\, United States
ATTACH;FMTTYPE=image/jpeg:https://dolphinsgrill.com/wp-content/uploads/2023/01/SoundTravelerwww.soundtravelerband.com_.jpeg
END:VEVENT
BEGIN:VEVENT
DTSTART;TZID=America/New_York:20230331T170000
DTEND;TZID=America/New_York:20230331T200000
DTSTAMP:20260423T193133
CREATED:20230315T122755Z
LAST-MODIFIED:20230315T122755Z
UID:1040-1680282000-1680292800@dolphinsgrill.com
SUMMARY:Drew Halverson
DESCRIPTION:Solo acoustic guitar playing everything from Beatles to 90’s alternative.
URL:https://dolphinsgrill.com/event/drew-halverson-9/
LOCATION:Dolphins Waterfront Bar & Grill\, 310 Lagoon Way\, Merritt Island\, FL\, 32953\, United States
ATTACH;FMTTYPE=application/pdf:https://dolphinsgrill.com/wp-content/uploads/2022/12/drew-1.pdf
END:VEVENT
BEGIN:VEVENT
DTSTART;TZID=America/New_York:20230326T160000
DTEND;TZID=America/New_York:20230326T190000
DTSTAMP:20260423T193133
CREATED:20230315T122533Z
LAST-MODIFIED:20230315T122533Z
UID:1038-1679846400-1679857200@dolphinsgrill.com
SUMMARY:Billy Cockrell
DESCRIPTION:Bill Cockrell is the king of trop rock. A multitalented musician\, that can play guitar\, banjo\, flute\, keyboards\, steel drums\, and more.
URL:https://dolphinsgrill.com/event/billy-cockrell-4/
LOCATION:Dolphins Waterfront Bar & Grill\, 310 Lagoon Way\, Merritt Island\, FL\, 32953\, United States
ATTACH;FMTTYPE=image/jpeg:https://dolphinsgrill.com/wp-content/uploads/2022/08/billC.jpeg
END:VEVENT
BEGIN:VEVENT
DTSTART;TZID=America/New_York:20230325T180000
DTEND;TZID=America/New_York:20230325T210000
DTSTAMP:20260423T193133
CREATED:20230315T122120Z
LAST-MODIFIED:20230315T122346Z
UID:1036-1679767200-1679778000@dolphinsgrill.com
SUMMARY:Salt and Pepper
DESCRIPTION:Jonathan Honeycutt from Hot Pink and friend play a variety of music that everyone will enjoy.
URL:https://dolphinsgrill.com/event/salt-and-pepper/
LOCATION:Dolphins Waterfront Bar & Grill\, 310 Lagoon Way\, Merritt Island\, FL\, 32953\, United States
END:VEVENT
BEGIN:VEVENT
DTSTART;TZID=America/New_York:20230325T150000
DTEND;TZID=America/New_York:20230325T180000
DTSTAMP:20260423T193133
CREATED:20230315T120718Z
LAST-MODIFIED:20230315T121507Z
UID:1034-1679756400-1679767200@dolphinsgrill.com
SUMMARY:Everette Stevens
DESCRIPTION:Everette Stevens of Freeman Music will be playing at Dolphins with his unique chill music.
URL:https://dolphinsgrill.com/event/everette-stevens-2/
LOCATION:Dolphins Waterfront Bar & Grill\, 310 Lagoon Way\, Merritt Island\, FL\, 32953\, United States
ATTACH;FMTTYPE=application/pdf:https://dolphinsgrill.com/wp-content/uploads/2022/12/Everett-Freeman-music.pdf
END:VEVENT
BEGIN:VEVENT
DTSTART;TZID=America/New_York:20230324T170000
DTEND;TZID=America/New_York:20230324T200000
DTSTAMP:20260423T193133
CREATED:20230315T120314Z
LAST-MODIFIED:20230315T120343Z
UID:1031-1679677200-1679688000@dolphinsgrill.com
SUMMARY:Kenny & Bo
DESCRIPTION:Local Cocoa Beach Musicians playing a special blend of Music- Americana as a duo since 2015. Their music is easy listening classic\, “American Country Folk Blues.” \nMichael “Bo” Boukedes on: lead vocals\, acoustic & electric guitars\, twelve strings\, nylon\, & harmonicas! \nKenny Cohen on: Lead vocals\, fender electric bass\, saxophone\, & flute! \n  \nCome out and enjoy these veteran local musicians.
URL:https://dolphinsgrill.com/event/kenny-bo-9/
LOCATION:Dolphins Waterfront Bar & Grill\, 310 Lagoon Way\, Merritt Island\, FL\, 32953\, United States
ATTACH;FMTTYPE=application/pdf:https://dolphinsgrill.com/wp-content/uploads/2022/12/KennyBo-1.pdf
END:VEVENT
BEGIN:VEVENT
DTSTART;TZID=America/New_York:20230319T160000
DTEND;TZID=America/New_York:20230319T190000
DTSTAMP:20260423T193133
CREATED:20230222T190533Z
LAST-MODIFIED:20230222T190533Z
UID:1025-1679241600-1679252400@dolphinsgrill.com
SUMMARY:Johnny Danger
DESCRIPTION:Johnny Danger Live is a solo guitarist\, singer\, and interactive entertainer with over twenty years of experience. JDL is also an accomplished songwriter and the most recent winner of the Runaway Country Music Festivals. Runaway Rockstar Competition. JDLs performances include a repertoire of over two thousand songs\, featuring a vast array of music from timeless classics to the current hits on the radio and online.
URL:https://dolphinsgrill.com/event/johnny-danger-8/
LOCATION:Dolphins Waterfront Bar & Grill\, 310 Lagoon Way\, Merritt Island\, FL\, 32953\, United States
ATTACH;FMTTYPE=image/jpeg:https://dolphinsgrill.com/wp-content/uploads/2022/08/jpg5BPtbx679.jpg
END:VEVENT
BEGIN:VEVENT
DTSTART;TZID=America/New_York:20230318T180000
DTEND;TZID=America/New_York:20230318T210000
DTSTAMP:20260423T193133
CREATED:20230315T115455Z
LAST-MODIFIED:20230315T115455Z
UID:1029-1679162400-1679173200@dolphinsgrill.com
SUMMARY:Captain Tom
DESCRIPTION:Captain Tom is a solo guitarist/singer that plays a classic selection of acoustic rock and folk music.
URL:https://dolphinsgrill.com/event/captain-tom-4/
LOCATION:Dolphins Waterfront Bar & Grill\, 310 Lagoon Way\, Merritt Island\, FL\, 32953\, United States
ATTACH;FMTTYPE=application/pdf:https://dolphinsgrill.com/wp-content/uploads/2022/12/CaptTom-GeorgeDragon78.pdf
END:VEVENT
BEGIN:VEVENT
DTSTART;TZID=America/New_York:20230318T150000
DTEND;TZID=America/New_York:20230318T180000
DTSTAMP:20260423T193133
CREATED:20230222T190213Z
LAST-MODIFIED:20230222T190213Z
UID:1021-1679151600-1679162400@dolphinsgrill.com
SUMMARY:The Syndicate Duo
DESCRIPTION:Brevard based variety music duo. Rock\, Reggae\, Country\, Hip Hop\, and more…family friendly.
URL:https://dolphinsgrill.com/event/the-syndicate-duo-2/
LOCATION:Dolphins Waterfront Bar & Grill\, 310 Lagoon Way\, Merritt Island\, FL\, 32953\, United States
ATTACH;FMTTYPE=application/pdf:https://dolphinsgrill.com/wp-content/uploads/2022/12/syndicate-1.pdf
END:VEVENT
BEGIN:VEVENT
DTSTART;TZID=America/New_York:20230317T170000
DTEND;TZID=America/New_York:20230317T200000
DTSTAMP:20260423T193133
CREATED:20230222T190050Z
LAST-MODIFIED:20230222T190050Z
UID:1019-1679072400-1679083200@dolphinsgrill.com
SUMMARY:Anna. Delgado Trio
DESCRIPTION:Happy Saint Patricks! Catch the good luck and  vibes with the Anna Delgado Trio!
URL:https://dolphinsgrill.com/event/anna-delgado-trio-3/
LOCATION:Dolphins Waterfront Bar & Grill\, 310 Lagoon Way\, Merritt Island\, FL\, 32953\, United States
ATTACH;FMTTYPE=image/jpeg:https://dolphinsgrill.com/wp-content/uploads/2023/01/anna.jpg
END:VEVENT
BEGIN:VEVENT
DTSTART;TZID=America/New_York:20230312T160000
DTEND;TZID=America/New_York:20230312T190000
DTSTAMP:20260423T193133
CREATED:20230216T165407Z
LAST-MODIFIED:20230312T135954Z
UID:1010-1678636800-1678647600@dolphinsgrill.com
SUMMARY:Don Middlebrook
DESCRIPTION:Don Middlebrook is a Florida Trop Rock\, Americana\, Country Rock n Roll singer/songwriter from the frozen North. East Lansing\, Michigan is ground zero. He travels a circuit from Michigan to Key West.  Original Florida swamp rock\, with authentic country sensibilities\, give Don a heart of pure trop rock!
URL:https://dolphinsgrill.com/event/don-meadowbrook/
LOCATION:Dolphins Waterfront Bar & Grill\, 310 Lagoon Way\, Merritt Island\, FL\, 32953\, United States
ATTACH;FMTTYPE=image/jpeg:https://dolphinsgrill.com/wp-content/uploads/2023/02/donmeadowbrook.jpeg
END:VEVENT
END:VCALENDAR