BEGIN:VCALENDAR
VERSION:2.0
PRODID:-//Dolphins Waterfront Bar &amp; Grill - ECPv6.15.20//NONSGML v1.0//EN
CALSCALE:GREGORIAN
METHOD:PUBLISH
X-WR-CALNAME:Dolphins Waterfront Bar &amp; Grill
X-ORIGINAL-URL:https://dolphinsgrill.com
X-WR-CALDESC:Events for Dolphins Waterfront Bar &amp; Grill
REFRESH-INTERVAL;VALUE=DURATION:PT1H
X-Robots-Tag:noindex
X-PUBLISHED-TTL:PT1H
BEGIN:VTIMEZONE
TZID:America/New_York
BEGIN:DAYLIGHT
TZOFFSETFROM:-0500
TZOFFSETTO:-0400
TZNAME:EDT
DTSTART:20230312T070000
END:DAYLIGHT
BEGIN:STANDARD
TZOFFSETFROM:-0400
TZOFFSETTO:-0500
TZNAME:EST
DTSTART:20231105T060000
END:STANDARD
BEGIN:DAYLIGHT
TZOFFSETFROM:-0500
TZOFFSETTO:-0400
TZNAME:EDT
DTSTART:20240310T070000
END:DAYLIGHT
BEGIN:STANDARD
TZOFFSETFROM:-0400
TZOFFSETTO:-0500
TZNAME:EST
DTSTART:20241103T060000
END:STANDARD
BEGIN:DAYLIGHT
TZOFFSETFROM:-0500
TZOFFSETTO:-0400
TZNAME:EDT
DTSTART:20250309T070000
END:DAYLIGHT
BEGIN:STANDARD
TZOFFSETFROM:-0400
TZOFFSETTO:-0500
TZNAME:EST
DTSTART:20251102T060000
END:STANDARD
END:VTIMEZONE
BEGIN:VEVENT
DTSTART;TZID=America/New_York:20240406T170000
DTEND;TZID=America/New_York:20240406T200000
DTSTAMP:20260423T203618
CREATED:20240314T175835Z
LAST-MODIFIED:20240314T175835Z
UID:1649-1712422800-1712433600@dolphinsgrill.com
SUMMARY:The Tiki Band
DESCRIPTION:Trop rockers\, Tony & Melissa\, right off the cruise ships join us for a unique Island experience.
URL:https://dolphinsgrill.com/event/the-tiki-band-5/
LOCATION:Dolphins Waterfront Bar & Grill\, 310 Lagoon Way\, Merritt Island\, FL\, 32953\, United States
ATTACH;FMTTYPE=application/pdf:https://dolphinsgrill.com/wp-content/uploads/2023/04/tikiband.pdf
END:VEVENT
BEGIN:VEVENT
DTSTART;TZID=America/New_York:20240405T170000
DTEND;TZID=America/New_York:20240405T200000
DTSTAMP:20260423T203618
CREATED:20240314T175739Z
LAST-MODIFIED:20240314T175739Z
UID:1647-1712336400-1712347200@dolphinsgrill.com
SUMMARY:The Syndicate Duo
DESCRIPTION:Brevard based variety music duo. Rock\, Reggae\, Country\, Hip Hop\, and more…family friendly.
URL:https://dolphinsgrill.com/event/the-syndicate-duo-13/
LOCATION:Dolphins Waterfront Bar & Grill\, 310 Lagoon Way\, Merritt Island\, FL\, 32953\, United States
ATTACH;FMTTYPE=application/pdf:https://dolphinsgrill.com/wp-content/uploads/2022/12/syndicate-1.pdf
END:VEVENT
BEGIN:VEVENT
DTSTART;TZID=America/New_York:20240330T170000
DTEND;TZID=America/New_York:20240330T200000
DTSTAMP:20260423T203618
CREATED:20240226T145001Z
LAST-MODIFIED:20240226T145001Z
UID:1534-1711818000-1711828800@dolphinsgrill.com
SUMMARY:Teddy V.
DESCRIPTION:Teddy is back!!! The Fullest One Man Band you’ve ever heard. He plays along to it alwaysCome enjoy with a Live Acoustic Guitar or Electric Guitar and a strong Lead Vocal. Classic Rock / Oldies / Trop-Rock / Smooth Jazz / R&B / Pop and Funk from the 50’s\, 60’s\, 70’s\, 80’s\, 90’s to Present Hits. Lots of Originals Too!
URL:https://dolphinsgrill.com/event/teddy-v-20/
LOCATION:Dolphins Waterfront Bar & Grill\, 310 Lagoon Way\, Merritt Island\, FL\, 32953\, United States
ATTACH;FMTTYPE=image/jpeg:https://dolphinsgrill.com/wp-content/uploads/2023/01/teddyV.jpeg
END:VEVENT
BEGIN:VEVENT
DTSTART;TZID=America/New_York:20240329T170000
DTEND;TZID=America/New_York:20240329T200000
DTSTAMP:20260423T203618
CREATED:20240226T144844Z
LAST-MODIFIED:20240226T144844Z
UID:1532-1711731600-1711742400@dolphinsgrill.com
SUMMARY:Kenny & Bo
DESCRIPTION:Come out with your friends for a special Island style vibe. \nLocal Cocoa Beach Musicians playing a special blend of Music- Americana as a duo since 2015. Their music is easy listening classic\, “American Country Folk Blues.” \nMichael “Bo” Boukedes on: lead vocals\, acoustic & electric guitars\, twelve strings\, nylon\, & harmonicas! \nKenny Cohen on: Lead vocals\, fender electric bass\, saxophone\, & flute! \n  \nCome out and enjoy these veteran local musicians.
URL:https://dolphinsgrill.com/event/kenny-bo-20/
LOCATION:Dolphins Waterfront Bar & Grill\, 310 Lagoon Way\, Merritt Island\, FL\, 32953\, United States
ATTACH;FMTTYPE=application/pdf:https://dolphinsgrill.com/wp-content/uploads/2022/12/KennyBo-1.pdf
END:VEVENT
BEGIN:VEVENT
DTSTART;TZID=America/New_York:20240324T160000
DTEND;TZID=America/New_York:20240324T190000
DTSTAMP:20260423T203618
CREATED:20240226T144732Z
LAST-MODIFIED:20240226T144732Z
UID:1530-1711296000-1711306800@dolphinsgrill.com
SUMMARY:Redfish Rich
DESCRIPTION:Rich spent the last 8 years as a full time musician in Saint Augustine Fl.  He has played at places like The Milltop\, Mi Casa\, Salt Life\, The Conch House and many more. He is now back to his roots in Titusville. Rich worked on the Space Shuttle and played music at many local Spacecoast venues and now is a regular at Dolphins! \n 
URL:https://dolphinsgrill.com/event/redfish-rich-6/
LOCATION:Dolphins Waterfront Bar & Grill\, 310 Lagoon Way\, Merritt Island\, FL\, 32953\, United States
ATTACH;FMTTYPE=image/webp:https://dolphinsgrill.com/wp-content/uploads/2022/12/redfishrich.webp
END:VEVENT
BEGIN:VEVENT
DTSTART;TZID=America/New_York:20240323T170000
DTEND;TZID=America/New_York:20240323T200000
DTSTAMP:20260423T203618
CREATED:20240226T144604Z
LAST-MODIFIED:20240226T144604Z
UID:1528-1711213200-1711224000@dolphinsgrill.com
SUMMARY:Everette Stevens
DESCRIPTION:Everette Stevens of Freeman Music Duo will be playing at Dolphins with his unique chill music.
URL:https://dolphinsgrill.com/event/everette-stevens-11/
LOCATION:Dolphins Waterfront Bar & Grill\, 310 Lagoon Way\, Merritt Island\, FL\, 32953\, United States
ATTACH;FMTTYPE=application/pdf:https://dolphinsgrill.com/wp-content/uploads/2023/06/Everettestevensduo.pdf
END:VEVENT
BEGIN:VEVENT
DTSTART;TZID=America/New_York:20240322T170000
DTEND;TZID=America/New_York:20240322T200000
DTSTAMP:20260423T203618
CREATED:20240226T144502Z
LAST-MODIFIED:20240226T144502Z
UID:1526-1711126800-1711137600@dolphinsgrill.com
SUMMARY:Anna. Delgado Trio
DESCRIPTION:Catch the good vibes with the Anna Delgado Trio and the sound of all your favorite songs!
URL:https://dolphinsgrill.com/event/anna-delgado-trio-13/
LOCATION:Dolphins Waterfront Bar & Grill\, 310 Lagoon Way\, Merritt Island\, FL\, 32953\, United States
ATTACH;FMTTYPE=application/pdf:https://dolphinsgrill.com/wp-content/uploads/2023/04/anna.pdf
END:VEVENT
BEGIN:VEVENT
DTSTART;TZID=America/New_York:20240317T160000
DTEND;TZID=America/New_York:20240317T190000
DTSTAMP:20260423T203618
CREATED:20230517T095639Z
LAST-MODIFIED:20240226T144036Z
UID:1137-1710691200-1710702000@dolphinsgrill.com
SUMMARY:Mark Houghton
DESCRIPTION:Mark Houghton is a  cover artist\, fusion band from Orlando! He is described as a spectacular collaboration of talent and crowd entertainment with his down home country vocals.
URL:https://dolphinsgrill.com/event/mark-houghton-2/
LOCATION:Dolphins Waterfront Bar & Grill\, 310 Lagoon Way\, Merritt Island\, FL\, 32953\, United States
ATTACH;FMTTYPE=image/jpeg:https://dolphinsgrill.com/wp-content/uploads/2022/12/Mark-Houghton-1536x1025-1.jpeg
END:VEVENT
BEGIN:VEVENT
DTSTART;TZID=America/New_York:20240315T170000
DTEND;TZID=America/New_York:20240315T200000
DTSTAMP:20260423T203618
CREATED:20240226T143836Z
LAST-MODIFIED:20240226T143836Z
UID:1522-1710522000-1710532800@dolphinsgrill.com
SUMMARY:Indian River Band
DESCRIPTION:Come see our local talent\, Indian River Band playing acoustic cover from the 60\, 70 & 80’s.
URL:https://dolphinsgrill.com/event/indian-river-band-7/
LOCATION:Dolphins Waterfront Bar & Grill\, 310 Lagoon Way\, Merritt Island\, FL\, 32953\, United States
ATTACH;FMTTYPE=image/jpeg:https://dolphinsgrill.com/wp-content/uploads/2022/11/indianriverband.jpeg
END:VEVENT
BEGIN:VEVENT
DTSTART;TZID=America/New_York:20240310T170000
DTEND;TZID=America/New_York:20240310T200000
DTSTAMP:20260423T203618
CREATED:20240226T143740Z
LAST-MODIFIED:20240226T143740Z
UID:1520-1710090000-1710100800@dolphinsgrill.com
SUMMARY:Ravon Steely Roden
DESCRIPTION:Come enjoy the Island life with Steely Roden! Ravon is Producer\, Singer\, Steelpan\, Songwriter\, and super energetic performer of Island music! You are not going to want to miss his Reggaebeat!
URL:https://dolphinsgrill.com/event/ravon-steely-roden-13/
LOCATION:Dolphins Waterfront Bar & Grill\, 310 Lagoon Way\, Merritt Island\, FL\, 32953\, United States
ATTACH;FMTTYPE=image/jpeg:https://dolphinsgrill.com/wp-content/uploads/2022/08/ravon.jpeg
END:VEVENT
BEGIN:VEVENT
DTSTART;TZID=America/New_York:20240309T170000
DTEND;TZID=America/New_York:20240309T200000
DTSTAMP:20260423T203618
CREATED:20240226T143702Z
LAST-MODIFIED:20240226T143702Z
UID:1518-1710003600-1710014400@dolphinsgrill.com
SUMMARY:Joshua Keels
DESCRIPTION:Come relax and enjoy Joshua Keels and his acoustic guitar. The vibe is sure to set the tone for a great night.
URL:https://dolphinsgrill.com/event/joshua-keels-16/
LOCATION:Dolphins Waterfront Bar & Grill\, 310 Lagoon Way\, Merritt Island\, FL\, 32953\, United States
ATTACH;FMTTYPE=image/jpeg:https://dolphinsgrill.com/wp-content/uploads/2022/08/joshuakeels.jpeg
END:VEVENT
BEGIN:VEVENT
DTSTART;TZID=America/New_York:20240308T170000
DTEND;TZID=America/New_York:20240308T200000
DTSTAMP:20260423T203618
CREATED:20240226T143622Z
LAST-MODIFIED:20240226T143622Z
UID:1516-1709917200-1709928000@dolphinsgrill.com
SUMMARY:Jersey Mike
DESCRIPTION:Come enjoy the local beat of Jersey Mike.
URL:https://dolphinsgrill.com/event/jersey-mike-16/
LOCATION:Dolphins Waterfront Bar & Grill\, 310 Lagoon Way\, Merritt Island\, FL\, 32953\, United States
ATTACH;FMTTYPE=image/jpeg:https://dolphinsgrill.com/wp-content/uploads/2023/01/jerseymike.jpeg
END:VEVENT
BEGIN:VEVENT
DTSTART;TZID=America/New_York:20240303T160000
DTEND;TZID=America/New_York:20240303T190000
DTSTAMP:20260423T203618
CREATED:20240226T143545Z
LAST-MODIFIED:20240226T143545Z
UID:1514-1709481600-1709492400@dolphinsgrill.com
SUMMARY:Billy Cockrell
DESCRIPTION:Bill Cockrell is the king of trop rock. A multitalented musician\, that can play guitar\, banjo\, flute\, keyboards\, steel drums\, and more.
URL:https://dolphinsgrill.com/event/billy-cockrell-15/
LOCATION:Dolphins Waterfront Bar & Grill\, 310 Lagoon Way\, Merritt Island\, FL\, 32953\, United States
ATTACH;FMTTYPE=image/jpeg:https://dolphinsgrill.com/wp-content/uploads/2022/08/billC.jpeg
END:VEVENT
BEGIN:VEVENT
DTSTART;TZID=America/New_York:20240302T170000
DTEND;TZID=America/New_York:20240302T200000
DTSTAMP:20260423T203618
CREATED:20240226T143505Z
LAST-MODIFIED:20240226T143505Z
UID:1512-1709398800-1709409600@dolphinsgrill.com
SUMMARY:The Tiki Band
DESCRIPTION:Trop rockers\, Tony & Melissa\, right off the cruise ships join us for a unique Island experience.
URL:https://dolphinsgrill.com/event/the-tiki-band-4/
LOCATION:Dolphins Waterfront Bar & Grill\, 310 Lagoon Way\, Merritt Island\, FL\, 32953\, United States
ATTACH;FMTTYPE=application/pdf:https://dolphinsgrill.com/wp-content/uploads/2023/04/tikiband.pdf
END:VEVENT
BEGIN:VEVENT
DTSTART;TZID=America/New_York:20240301T170000
DTEND;TZID=America/New_York:20240301T200000
DTSTAMP:20260423T203618
CREATED:20240226T143021Z
LAST-MODIFIED:20240226T143021Z
UID:1509-1709312400-1709323200@dolphinsgrill.com
SUMMARY:The Syndicate Duo
DESCRIPTION:Brevard based variety music duo. Rock\, Reggae\, Country\, Hip Hop\, and more…family friendly.
URL:https://dolphinsgrill.com/event/the-syndicate-duo-12/
LOCATION:Dolphins Waterfront Bar & Grill\, 310 Lagoon Way\, Merritt Island\, FL\, 32953\, United States
ATTACH;FMTTYPE=application/pdf:https://dolphinsgrill.com/wp-content/uploads/2022/12/syndicate-1.pdf
END:VEVENT
BEGIN:VEVENT
DTSTART;TZID=America/New_York:20240225T160000
DTEND;TZID=America/New_York:20240225T190000
DTSTAMP:20260423T203618
CREATED:20240215T175942Z
LAST-MODIFIED:20240215T175942Z
UID:1502-1708876800-1708887600@dolphinsgrill.com
SUMMARY:Anna. Delgado Trio
DESCRIPTION:Catch the good vibes with the Anna Delgado Trio and the sound of all your favorite songs!
URL:https://dolphinsgrill.com/event/anna-delgado-trio-12/
LOCATION:Dolphins Waterfront Bar & Grill\, 310 Lagoon Way\, Merritt Island\, FL\, 32953\, United States
ATTACH;FMTTYPE=application/pdf:https://dolphinsgrill.com/wp-content/uploads/2023/04/anna.pdf
END:VEVENT
BEGIN:VEVENT
DTSTART;TZID=America/New_York:20240223T170000
DTEND;TZID=America/New_York:20240223T200000
DTSTAMP:20260423T203618
CREATED:20240202T201457Z
LAST-MODIFIED:20240223T203826Z
UID:1493-1708707600-1708718400@dolphinsgrill.com
SUMMARY:Natty's Common Roots
DESCRIPTION:Please welcome Natty’s Common Roots to their Dolphins debut. Natty has the chill laid back beat that sways perfectly to the Island vibe. He is a local artist that has played with many of our favorite bands. Come out and enjoy this acoustic duo.
URL:https://dolphinsgrill.com/event/nattys-common-roots/
LOCATION:Dolphins Waterfront Bar & Grill\, 310 Lagoon Way\, Merritt Island\, FL\, 32953\, United States
ATTACH;FMTTYPE=image/png:https://dolphinsgrill.com/wp-content/uploads/2024/02/natty.png
END:VEVENT
BEGIN:VEVENT
DTSTART;TZID=America/New_York:20240217T170000
DTEND;TZID=America/New_York:20240217T200000
DTSTAMP:20260423T203618
CREATED:20240202T194225Z
LAST-MODIFIED:20240202T194225Z
UID:1488-1708189200-1708200000@dolphinsgrill.com
SUMMARY:Ravon Steely Roden
DESCRIPTION:Come enjoy the Island life with Steely Roden! Ravon is Producer\, Singer\, Steelpan\, Songwriter\, and super energetic performer of Island music! You are not going to want to miss his Reggaebeat!
URL:https://dolphinsgrill.com/event/ravon-steely-roden-12/
LOCATION:Dolphins Waterfront Bar & Grill\, 310 Lagoon Way\, Merritt Island\, FL\, 32953\, United States
ATTACH;FMTTYPE=image/jpeg:https://dolphinsgrill.com/wp-content/uploads/2022/08/ravon.jpeg
END:VEVENT
BEGIN:VEVENT
DTSTART;TZID=America/New_York:20240217T103000
DTEND;TZID=America/New_York:20240217T120000
DTSTAMP:20260423T203618
CREATED:20240215T172625Z
LAST-MODIFIED:20240215T172625Z
UID:1497-1708165800-1708171200@dolphinsgrill.com
SUMMARY:NCAA rowing scrimmage
DESCRIPTION:See University of Tennessee battle University of Louisville Saturday morning.
URL:https://dolphinsgrill.com/event/ncaa-rowing-scrimmage/
LOCATION:Dolphins Waterfront Bar & Grill\, 310 Lagoon Way\, Merritt Island\, FL\, 32953\, United States
ATTACH;FMTTYPE=image/jpeg:https://dolphinsgrill.com/wp-content/uploads/2024/02/rTgirlsowing2021.jpeg
END:VEVENT
BEGIN:VEVENT
DTSTART;TZID=America/New_York:20240216T170000
DTEND;TZID=America/New_York:20240216T200000
DTSTAMP:20260423T203618
CREATED:20240202T194031Z
LAST-MODIFIED:20240202T194031Z
UID:1486-1708102800-1708113600@dolphinsgrill.com
SUMMARY:Sound Traveler Band
DESCRIPTION:With 2800+ shows over 10+ years as a full-time duo\, Sound Traveler (Bob & Patty Tatum) has taken a unique blend of acoustic music to 8 states and 5 foreign countries\, using their love of music and 10 different instruments to create feel-good shows for eclectic audiences of all ages. Whether you enjoy fresh arrangements of rock/pop/country favorites\, light jazz\, or even a touch of gospel or bluegrass\, you’re sure to have a good time.
URL:https://dolphinsgrill.com/event/sound-traveler-band-6/
LOCATION:Dolphins Waterfront Bar & Grill\, 310 Lagoon Way\, Merritt Island\, FL\, 32953\, United States
ATTACH;FMTTYPE=image/jpeg:https://dolphinsgrill.com/wp-content/uploads/2023/01/SoundTravelerwww.soundtravelerband.com_.jpeg
END:VEVENT
BEGIN:VEVENT
DTSTART;TZID=America/New_York:20240214T170000
DTEND;TZID=America/New_York:20240214T200000
DTSTAMP:20260423T203618
CREATED:20240202T194604Z
LAST-MODIFIED:20240202T194604Z
UID:1491-1707930000-1707940800@dolphinsgrill.com
SUMMARY:Kenny & Bo
DESCRIPTION:Come out with your special someone for a romantic Island style vibe. \nLocal Cocoa Beach Musicians playing a special blend of Music- Americana as a duo since 2015. Their music is easy listening classic\, “American Country Folk Blues.” \nMichael “Bo” Boukedes on: lead vocals\, acoustic & electric guitars\, twelve strings\, nylon\, & harmonicas! \nKenny Cohen on: Lead vocals\, fender electric bass\, saxophone\, & flute! \n  \nCome out and enjoy these veteran local musicians.
URL:https://dolphinsgrill.com/event/kenny-bo-19/
LOCATION:Dolphins Waterfront Bar & Grill\, 310 Lagoon Way\, Merritt Island\, FL\, 32953\, United States
ATTACH;FMTTYPE=application/pdf:https://dolphinsgrill.com/wp-content/uploads/2022/12/KennyBo-1.pdf
END:VEVENT
BEGIN:VEVENT
DTSTART;TZID=America/New_York:20240210T170000
DTEND;TZID=America/New_York:20240210T200000
DTSTAMP:20260423T203618
CREATED:20240202T193857Z
LAST-MODIFIED:20240202T193857Z
UID:1484-1707584400-1707595200@dolphinsgrill.com
SUMMARY:Joshua Keels
DESCRIPTION:Come relax and enjoy Joshua Keels and his acoustic guitar. The vibe is sure to set the tone for a great night.
URL:https://dolphinsgrill.com/event/joshua-keels-15/
LOCATION:Dolphins Waterfront Bar & Grill\, 310 Lagoon Way\, Merritt Island\, FL\, 32953\, United States
ATTACH;FMTTYPE=image/jpeg:https://dolphinsgrill.com/wp-content/uploads/2022/08/joshuakeels.jpeg
END:VEVENT
BEGIN:VEVENT
DTSTART;TZID=America/New_York:20240209T170000
DTEND;TZID=America/New_York:20240209T200000
DTSTAMP:20260423T203618
CREATED:20240202T193724Z
LAST-MODIFIED:20240202T193724Z
UID:1482-1707498000-1707508800@dolphinsgrill.com
SUMMARY:Jersey Mike
DESCRIPTION:Come enjoy the local beat of Jersey Mike.
URL:https://dolphinsgrill.com/event/jersey-mike-15/
LOCATION:Dolphins Waterfront Bar & Grill\, 310 Lagoon Way\, Merritt Island\, FL\, 32953\, United States
ATTACH;FMTTYPE=image/jpeg:https://dolphinsgrill.com/wp-content/uploads/2023/01/jerseymike.jpeg
END:VEVENT
BEGIN:VEVENT
DTSTART;TZID=America/New_York:20240204T160000
DTEND;TZID=America/New_York:20240204T190000
DTSTAMP:20260423T203618
CREATED:20240124T171316Z
LAST-MODIFIED:20240124T171420Z
UID:1477-1707062400-1707073200@dolphinsgrill.com
SUMMARY:Fond Kiser
DESCRIPTION:Fond Kiser is St. Augustine’s spectacular multi-talented musician who is known for his phenomenal songwriting narration\, his expansive musical knowledge\, and his heartfelt lyrical poetry
URL:https://dolphinsgrill.com/event/fond-kiser/
LOCATION:Dolphins Waterfront Bar & Grill\, 310 Lagoon Way\, Merritt Island\, FL\, 32953\, United States
ATTACH;FMTTYPE=image/jpeg:https://dolphinsgrill.com/wp-content/uploads/2024/01/fondkiser.jpg
END:VEVENT
BEGIN:VEVENT
DTSTART;TZID=America/New_York:20240203T170000
DTEND;TZID=America/New_York:20240203T200000
DTSTAMP:20260423T203618
CREATED:20240105T184423Z
LAST-MODIFIED:20240124T164532Z
UID:1450-1706979600-1706990400@dolphinsgrill.com
SUMMARY:The Tiki Band
DESCRIPTION:Trop rockers\, Tony & Melissa\, right off the cruise ships join us for a unique Island experience.
URL:https://dolphinsgrill.com/event/the-tiki-band-3/
LOCATION:Dolphins Waterfront Bar & Grill\, 310 Lagoon Way\, Merritt Island\, FL\, 32953\, United States
ATTACH;FMTTYPE=application/pdf:https://dolphinsgrill.com/wp-content/uploads/2023/04/tikiband.pdf
END:VEVENT
BEGIN:VEVENT
DTSTART;TZID=America/New_York:20240202T170000
DTEND;TZID=America/New_York:20240202T200000
DTSTAMP:20260423T203618
CREATED:20240124T164451Z
LAST-MODIFIED:20240124T164451Z
UID:1475-1706893200-1706904000@dolphinsgrill.com
SUMMARY:The Syndicate Duo
DESCRIPTION:Brevard based variety music duo. Rock\, Reggae\, Country\, Hip Hop\, and more…family friendly.
URL:https://dolphinsgrill.com/event/the-syndicate-duo-11/
LOCATION:Dolphins Waterfront Bar & Grill\, 310 Lagoon Way\, Merritt Island\, FL\, 32953\, United States
ATTACH;FMTTYPE=application/pdf:https://dolphinsgrill.com/wp-content/uploads/2022/12/syndicate-1.pdf
END:VEVENT
BEGIN:VEVENT
DTSTART;TZID=America/New_York:20240128T160000
DTEND;TZID=America/New_York:20240128T190000
DTSTAMP:20260423T203618
CREATED:20240105T185427Z
LAST-MODIFIED:20240105T185427Z
UID:1469-1706457600-1706468400@dolphinsgrill.com
SUMMARY:Johnny Danger
DESCRIPTION:Sunday Funday with Johnny Danger Live! \nJohnny Danger Live is a solo guitarist\, singer\, and interactive entertainer with over twenty years of experience. JDL is also an accomplished songwriter and the most recent winner of the Runaway Country Music Festivals. Runaway Rockstar Competition. JDLs performances include a repertoire of over two thousand songs\, featuring a vast array of music from timeless classics to the current hits on the radio and online.
URL:https://dolphinsgrill.com/event/johnny-danger-16/
LOCATION:Dolphins Waterfront Bar & Grill\, 310 Lagoon Way\, Merritt Island\, FL\, 32953\, United States
ATTACH;FMTTYPE=image/jpeg:https://dolphinsgrill.com/wp-content/uploads/2022/08/jpg5BPtbx679.jpg
END:VEVENT
BEGIN:VEVENT
DTSTART;TZID=America/New_York:20240127T170000
DTEND;TZID=America/New_York:20240127T200000
DTSTAMP:20260423T203618
CREATED:20240105T185347Z
LAST-MODIFIED:20240105T185347Z
UID:1467-1706374800-1706385600@dolphinsgrill.com
SUMMARY:Everette Stevens
DESCRIPTION:Everette Stevens of Freeman Music Duo will be playing at Dolphins with his unique chill music.
URL:https://dolphinsgrill.com/event/everette-stevens-10/
LOCATION:Dolphins Waterfront Bar & Grill\, 310 Lagoon Way\, Merritt Island\, FL\, 32953\, United States
ATTACH;FMTTYPE=application/pdf:https://dolphinsgrill.com/wp-content/uploads/2023/06/Everettestevensduo.pdf
END:VEVENT
BEGIN:VEVENT
DTSTART;TZID=America/New_York:20240126T170000
DTEND;TZID=America/New_York:20240126T200000
DTSTAMP:20260423T203618
CREATED:20240105T185307Z
LAST-MODIFIED:20240105T185307Z
UID:1465-1706288400-1706299200@dolphinsgrill.com
SUMMARY:Teddy V.
DESCRIPTION:Teddy is back!!! The Fullest One Man Band you’ve ever heard. He plays along to it always with a Live Acoustic Guitar or Electric Guitar and a strong Lead Vocal. Classic Rock / Oldies / Trop-Rock / Smooth Jazz / R&B / Pop and Funk from the 50’s\, 60’s\, 70’s\, 80’s\, 90’s to Present Hits. Lots of Originals Too!
URL:https://dolphinsgrill.com/event/teddy-v-19/
LOCATION:Dolphins Waterfront Bar & Grill\, 310 Lagoon Way\, Merritt Island\, FL\, 32953\, United States
ATTACH;FMTTYPE=image/jpeg:https://dolphinsgrill.com/wp-content/uploads/2023/01/teddyV.jpeg
END:VEVENT
BEGIN:VEVENT
DTSTART;TZID=America/New_York:20240121T160000
DTEND;TZID=America/New_York:20240121T190000
DTSTAMP:20260423T203618
CREATED:20240105T185220Z
LAST-MODIFIED:20240105T185220Z
UID:1463-1705852800-1705863600@dolphinsgrill.com
SUMMARY:Billy Cockrell
DESCRIPTION:Bill Cockrell is the king of trop rock. A multitalented musician\, that can play guitar\, banjo\, flute\, keyboards\, steel drums\, and more.
URL:https://dolphinsgrill.com/event/billy-cockrell-14/
LOCATION:Dolphins Waterfront Bar & Grill\, 310 Lagoon Way\, Merritt Island\, FL\, 32953\, United States
ATTACH;FMTTYPE=image/jpeg:https://dolphinsgrill.com/wp-content/uploads/2022/08/billC.jpeg
END:VEVENT
END:VCALENDAR