BEGIN:VCALENDAR
VERSION:2.0
PRODID:-//Dolphins Waterfront Bar &amp; Grill - ECPv6.15.20//NONSGML v1.0//EN
CALSCALE:GREGORIAN
METHOD:PUBLISH
X-WR-CALNAME:Dolphins Waterfront Bar &amp; Grill
X-ORIGINAL-URL:https://dolphinsgrill.com
X-WR-CALDESC:Events for Dolphins Waterfront Bar &amp; Grill
REFRESH-INTERVAL;VALUE=DURATION:PT1H
X-Robots-Tag:noindex
X-PUBLISHED-TTL:PT1H
BEGIN:VTIMEZONE
TZID:America/New_York
BEGIN:DAYLIGHT
TZOFFSETFROM:-0500
TZOFFSETTO:-0400
TZNAME:EDT
DTSTART:20220313T070000
END:DAYLIGHT
BEGIN:STANDARD
TZOFFSETFROM:-0400
TZOFFSETTO:-0500
TZNAME:EST
DTSTART:20221106T060000
END:STANDARD
BEGIN:DAYLIGHT
TZOFFSETFROM:-0500
TZOFFSETTO:-0400
TZNAME:EDT
DTSTART:20230312T070000
END:DAYLIGHT
BEGIN:STANDARD
TZOFFSETFROM:-0400
TZOFFSETTO:-0500
TZNAME:EST
DTSTART:20231105T060000
END:STANDARD
BEGIN:DAYLIGHT
TZOFFSETFROM:-0500
TZOFFSETTO:-0400
TZNAME:EDT
DTSTART:20240310T070000
END:DAYLIGHT
BEGIN:STANDARD
TZOFFSETFROM:-0400
TZOFFSETTO:-0500
TZNAME:EST
DTSTART:20241103T060000
END:STANDARD
END:VTIMEZONE
BEGIN:VEVENT
DTSTART;TZID=America/New_York:20230311T183000
DTEND;TZID=America/New_York:20230311T213000
DTSTAMP:20260423T145538
CREATED:20230216T151419Z
LAST-MODIFIED:20230216T151419Z
UID:1008-1678559400-1678570200@dolphinsgrill.com
SUMMARY:Redfish Rich
DESCRIPTION:Rich spent the last 8 years as a full time musician in Saint Augustine Fl.  He has played at places like The Milltop\, Mi Casa\, Salt Life\, The Conch House and many more. He is now back to his roots in Titusville. Rich worked on the Space Shuttle and played music at many local Spacecoast venues and now will debut at Dolphins! \n 
URL:https://dolphinsgrill.com/event/redfish-rich-2/
LOCATION:Dolphins Waterfront Bar & Grill\, 310 Lagoon Way\, Merritt Island\, FL\, 32953\, United States
ATTACH;FMTTYPE=image/webp:https://dolphinsgrill.com/wp-content/uploads/2022/12/redfishrich.webp
END:VEVENT
BEGIN:VEVENT
DTSTART;TZID=America/New_York:20230311T150000
DTEND;TZID=America/New_York:20230311T180000
DTSTAMP:20260423T145538
CREATED:20230216T151318Z
LAST-MODIFIED:20230216T151318Z
UID:1006-1678546800-1678557600@dolphinsgrill.com
SUMMARY:Joshua Keels
DESCRIPTION:Solo acoustic guitar with a chill unique style
URL:https://dolphinsgrill.com/event/joshua-keels-3/
LOCATION:Dolphins Waterfront Bar & Grill\, 310 Lagoon Way\, Merritt Island\, FL\, 32953\, United States
ATTACH;FMTTYPE=image/jpeg:https://dolphinsgrill.com/wp-content/uploads/2022/08/joshuakeels.jpeg
END:VEVENT
BEGIN:VEVENT
DTSTART;TZID=America/New_York:20230310T170000
DTEND;TZID=America/New_York:20230310T200000
DTSTAMP:20260423T145538
CREATED:20230216T151203Z
LAST-MODIFIED:20230216T151203Z
UID:1004-1678467600-1678478400@dolphinsgrill.com
SUMMARY:Sound Traveler Band
DESCRIPTION:With 2800+ shows over 10+ years as a full-time duo\, Sound Traveler (Bob & Patty Tatum) has taken a unique blend of acoustic music to 8 states and 5 foreign countries\, using their love of music and 10 different instruments to create feel-good shows for eclectic audiences of all ages. Whether you enjoy fresh arrangements of rock/pop/country favorites\, light jazz\, or even a touch of gospel or bluegrass\, you’re sure to have a good time.
URL:https://dolphinsgrill.com/event/sound-traveler-band-3/
LOCATION:Dolphins Waterfront Bar & Grill\, 310 Lagoon Way\, Merritt Island\, FL\, 32953\, United States
ATTACH;FMTTYPE=image/jpeg:https://dolphinsgrill.com/wp-content/uploads/2023/01/SoundTravelerwww.soundtravelerband.com_.jpeg
END:VEVENT
BEGIN:VEVENT
DTSTART;TZID=America/New_York:20230305T160000
DTEND;TZID=America/New_York:20230305T190000
DTSTAMP:20260423T145538
CREATED:20230216T151110Z
LAST-MODIFIED:20230216T151110Z
UID:1002-1678032000-1678042800@dolphinsgrill.com
SUMMARY:Ravon Steely Roden
DESCRIPTION:Ravon is Producer\, Singer\, Steelpan\, Songwriter\, and super energetic performer of Island music! You are not going t o want to miss his Reggaebeat!
URL:https://dolphinsgrill.com/event/ravon-steely-roden-2/
LOCATION:Dolphins Waterfront Bar & Grill\, 310 Lagoon Way\, Merritt Island\, FL\, 32953\, United States
ATTACH;FMTTYPE=image/jpeg:https://dolphinsgrill.com/wp-content/uploads/2022/08/ravon.jpeg
END:VEVENT
BEGIN:VEVENT
DTSTART;TZID=America/New_York:20230304T170000
DTEND;TZID=America/New_York:20230304T200000
DTSTAMP:20260423T145538
CREATED:20230216T151027Z
LAST-MODIFIED:20230216T151027Z
UID:1000-1677949200-1677960000@dolphinsgrill.com
SUMMARY:Fundecided
DESCRIPTION:Live\, Fun\, Guitar\, Steel Drum and Marimba! Playing all your island favorites\, and MORE! The Tiki Band!
URL:https://dolphinsgrill.com/event/fundecided-6/
LOCATION:Dolphins Waterfront Bar & Grill\, 310 Lagoon Way\, Merritt Island\, FL\, 32953\, United States
ATTACH;FMTTYPE=image/jpeg:https://dolphinsgrill.com/wp-content/uploads/2022/08/fundecided.jpeg
END:VEVENT
BEGIN:VEVENT
DTSTART;TZID=America/New_York:20230303T170000
DTEND;TZID=America/New_York:20230303T200000
DTSTAMP:20260423T145538
CREATED:20230216T150925Z
LAST-MODIFIED:20230216T150925Z
UID:998-1677862800-1677873600@dolphinsgrill.com
SUMMARY:Captain Tom
DESCRIPTION:Captain Tom is a solo guitarist/singer that plays a classic selection of acoustic rock and folk music.
URL:https://dolphinsgrill.com/event/captain-tom-3/
LOCATION:Dolphins Waterfront Bar & Grill\, 310 Lagoon Way\, Merritt Island\, FL\, 32953\, United States
ATTACH;FMTTYPE=application/pdf:https://dolphinsgrill.com/wp-content/uploads/2022/12/CaptTom-GeorgeDragon78.pdf
END:VEVENT
BEGIN:VEVENT
DTSTART;TZID=America/New_York:20230226T160000
DTEND;TZID=America/New_York:20230226T190000
DTSTAMP:20260423T145538
CREATED:20230130T225709Z
LAST-MODIFIED:20230130T225709Z
UID:922-1677427200-1677438000@dolphinsgrill.com
SUMMARY:Johnny Danger
DESCRIPTION:Johnny Danger Live is a solo guitarist\, singer\, and interactive entertainer with over twenty years of experience. JDL is also an accomplished songwriter and the most recent winner of the Runaway Country Music Festivals. Runaway Rockstar Competition. JDLs performances include a repertoire of over two thousand songs\, featuring a vast array of music from timeless classics to the current hits on the radio and online.
URL:https://dolphinsgrill.com/event/johnny-danger-7/
LOCATION:Dolphins Waterfront Bar & Grill\, 310 Lagoon Way\, Merritt Island\, FL\, 32953\, United States
ATTACH;FMTTYPE=image/jpeg:https://dolphinsgrill.com/wp-content/uploads/2022/08/jpg5BPtbx679.jpg
END:VEVENT
BEGIN:VEVENT
DTSTART;TZID=America/New_York:20230225T183000
DTEND;TZID=America/New_York:20230225T213000
DTSTAMP:20260423T145538
CREATED:20230130T225603Z
LAST-MODIFIED:20230130T225603Z
UID:920-1677349800-1677360600@dolphinsgrill.com
SUMMARY:Billy Cockrell
DESCRIPTION:Bill Cockrell is the king of trop rock. A multitalented musician\, that can play guitar\, banjo\, flute\, keyboards\, steel drums\, and more.
URL:https://dolphinsgrill.com/event/billy-cockrell-2/
LOCATION:Dolphins Waterfront Bar & Grill\, 310 Lagoon Way\, Merritt Island\, FL\, 32953\, United States
ATTACH;FMTTYPE=image/jpeg:https://dolphinsgrill.com/wp-content/uploads/2022/08/billC.jpeg
END:VEVENT
BEGIN:VEVENT
DTSTART;TZID=America/New_York:20230225T150000
DTEND;TZID=America/New_York:20230225T180000
DTSTAMP:20260423T145538
CREATED:20230130T225502Z
LAST-MODIFIED:20230130T225502Z
UID:918-1677337200-1677348000@dolphinsgrill.com
SUMMARY:Kenny & Bo
DESCRIPTION:Local Cocoa Beach Musicians playing a special blend of Music- Americana as a duo since 2015. Their music is easy listening classic\, “American Country Folk Blues.” \nMichael “Bo” Boukedes on: lead vocals\, acoustic & electric guitars\, twelve strings\, nylon\, & harmonicas! \nKenny Cohen on: Lead vocals\, fender electric bass\, saxophone\, & flute! \n  \nCome out and enjoy these veteran local musicians.
URL:https://dolphinsgrill.com/event/kenny-bo-6/
LOCATION:Dolphins Waterfront Bar & Grill\, 310 Lagoon Way\, Merritt Island\, FL\, 32953\, United States
ATTACH;FMTTYPE=application/pdf:https://dolphinsgrill.com/wp-content/uploads/2022/12/KennyBo-1.pdf
END:VEVENT
BEGIN:VEVENT
DTSTART;TZID=America/New_York:20230224T170000
DTEND;TZID=America/New_York:20230224T200000
DTSTAMP:20260423T145538
CREATED:20230130T224427Z
LAST-MODIFIED:20230130T224427Z
UID:914-1677258000-1677268800@dolphinsgrill.com
SUMMARY:Teddy V.
DESCRIPTION:The Fullest One Man Band you’ve ever heard. I play along to it always with a Live Acoustic Guitar or Electric Guitar and a strong Lead Vocal. Classic Rock / Oldies / Trop-Rock / Smooth Jazz / R&B / Pop and Funk from the 50’s\, 60’s\, 70’s\, 80’s\, 90’s to Present Hits. Lots of Originals Too!
URL:https://dolphinsgrill.com/event/teddy-v-12/
LOCATION:Dolphins Waterfront Bar & Grill\, 310 Lagoon Way\, Merritt Island\, FL\, 32953\, United States
ATTACH;FMTTYPE=image/jpeg:https://dolphinsgrill.com/wp-content/uploads/2023/01/teddyV.jpeg
END:VEVENT
BEGIN:VEVENT
DTSTART;TZID=America/New_York:20230219T160000
DTEND;TZID=America/New_York:20230219T190000
DTSTAMP:20260423T145538
CREATED:20230130T224230Z
LAST-MODIFIED:20230130T224230Z
UID:912-1676822400-1676833200@dolphinsgrill.com
SUMMARY:Ravon Steely Roden
DESCRIPTION:Ravon is Producer\, Singer\, Steelpan\, Songwriter\, and super energetic performer of Island music! You are not going t o want to miss his Reggaebeat!
URL:https://dolphinsgrill.com/event/ravon-steely-roden/
LOCATION:Dolphins Waterfront Bar & Grill\, 310 Lagoon Way\, Merritt Island\, FL\, 32953\, United States
ATTACH;FMTTYPE=image/jpeg:https://dolphinsgrill.com/wp-content/uploads/2022/08/ravon.jpeg
END:VEVENT
BEGIN:VEVENT
DTSTART;TZID=America/New_York:20230218T183000
DTEND;TZID=America/New_York:20230218T213000
DTSTAMP:20260423T145538
CREATED:20230130T193021Z
LAST-MODIFIED:20230130T193021Z
UID:909-1676745000-1676755800@dolphinsgrill.com
SUMMARY:Jersey Mike
DESCRIPTION:Come enjoy the local beat of Jersey Mike.
URL:https://dolphinsgrill.com/event/jersey-mike-5/
LOCATION:Dolphins Waterfront Bar & Grill\, 310 Lagoon Way\, Merritt Island\, FL\, 32953\, United States
ATTACH;FMTTYPE=image/jpeg:https://dolphinsgrill.com/wp-content/uploads/2023/01/jerseymike.jpeg
END:VEVENT
BEGIN:VEVENT
DTSTART;TZID=America/New_York:20230218T150000
DTEND;TZID=America/New_York:20230218T180000
DTSTAMP:20260423T145538
CREATED:20230130T192508Z
LAST-MODIFIED:20230130T192822Z
UID:896-1676732400-1676743200@dolphinsgrill.com
SUMMARY:Syndicate Duo
DESCRIPTION:Brevard based variety music duo. Rock\, Reggae\, Country\, Hip Hop\, and more…family friendly.
URL:https://dolphinsgrill.com/event/syndicate-duo/
LOCATION:Dolphins Waterfront Bar & Grill\, 310 Lagoon Way\, Merritt Island\, FL\, 32953\, United States
ATTACH;FMTTYPE=image/jpeg:https://dolphinsgrill.com/wp-content/uploads/2023/01/thesyndicate.jpeg
END:VEVENT
BEGIN:VEVENT
DTSTART;TZID=America/New_York:20230217T170000
DTEND;TZID=America/New_York:20230217T200000
DTSTAMP:20260423T145538
CREATED:20230130T192125Z
LAST-MODIFIED:20230130T192125Z
UID:893-1676653200-1676664000@dolphinsgrill.com
SUMMARY:Kenny & Bo
DESCRIPTION:Local Cocoa Beach Musicians playing a special blend of Music- Americana as a duo since 2015. Their music is easy listening classic\, “American Country Folk Blues.” \nMichael “Bo” Boukedes on: lead vocals\, acoustic & electric guitars\, twelve strings\, nylon\, & harmonicas! \nKenny Cohen on: Lead vocals\, fender electric bass\, saxophone\, & flute! \n  \nCome out and enjoy these veteran local musicians.
URL:https://dolphinsgrill.com/event/kenny-bo-8/
LOCATION:Dolphins Waterfront Bar & Grill\, 310 Lagoon Way\, Merritt Island\, FL\, 32953\, United States
ATTACH;FMTTYPE=application/pdf:https://dolphinsgrill.com/wp-content/uploads/2023/01/KennyBo-2.pdf
END:VEVENT
BEGIN:VEVENT
DTSTART;TZID=America/New_York:20230214T170000
DTEND;TZID=America/New_York:20230214T200000
DTSTAMP:20260423T145538
CREATED:20230130T191955Z
LAST-MODIFIED:20230130T191955Z
UID:889-1676394000-1676404800@dolphinsgrill.com
SUMMARY:Kenny & Bo
DESCRIPTION:Celebrate Valentine’s Day with Local Cocoa Beach Musicians playing a special blend of Music- Americana as a duo since 2015. Their music is easy listening classic\, “American Country Folk Blues.” \nMichael “Bo” Boukedes on: lead vocals\, acoustic & electric guitars\, twelve strings\, nylon\, & harmonicas! \nKenny Cohen on: Lead vocals\, fender electric bass\, saxophone\, & flute! \n  \nCome out and enjoy these veteran local musicians.
URL:https://dolphinsgrill.com/event/kenny-bo-7/
LOCATION:Dolphins Waterfront Bar & Grill\, 310 Lagoon Way\, Merritt Island\, FL\, 32953\, United States
ATTACH;FMTTYPE=application/pdf:https://dolphinsgrill.com/wp-content/uploads/2023/01/KennyBo-1.pdf
END:VEVENT
BEGIN:VEVENT
DTSTART;TZID=America/New_York:20230212T180000
DTEND;TZID=America/New_York:20230212T180000
DTSTAMP:20260423T145538
CREATED:20230206T142702Z
LAST-MODIFIED:20230206T142919Z
UID:924-1676224800-1676224800@dolphinsgrill.com
SUMMARY:Super Bowl Party at Dolphins
DESCRIPTION:  \nWatch with friends on our Big Screen TV’s \nCheer on your team! \n\nHappy Hour All Day\n\n(Game starts at 6:30) \n\nWing Specials\nSuper Bowl Games & Prizes\n\n 
URL:https://dolphinsgrill.com/event/super-bowl-party/
LOCATION:Dolphins Waterfront Bar & Grill\, 310 Lagoon Way\, Merritt Island\, FL\, 32953\, United States
ATTACH;FMTTYPE=image/jpeg:https://dolphinsgrill.com/wp-content/uploads/2023/02/images-2.jpg
END:VEVENT
BEGIN:VEVENT
DTSTART;TZID=America/New_York:20230211T170000
DTEND;TZID=America/New_York:20230211T200000
DTSTAMP:20260423T145538
CREATED:20230211T173523Z
LAST-MODIFIED:20230211T173523Z
UID:982-1676134800-1676145600@dolphinsgrill.com
SUMMARY:Billy Cockrell
DESCRIPTION:Bill Cockrell is the king of trop rock. A multitalented musician\, that can play guitar\, banjo\, flute\, keyboards\, steel drums\, and more.
URL:https://dolphinsgrill.com/event/billy-cockrell-3/
LOCATION:Dolphins Waterfront Bar & Grill\, 310 Lagoon Way\, Merritt Island\, FL\, 32953\, United States
ATTACH;FMTTYPE=image/jpeg:https://dolphinsgrill.com/wp-content/uploads/2022/08/billC.jpeg
END:VEVENT
BEGIN:VEVENT
DTSTART;TZID=America/New_York:20230210T170000
DTEND;TZID=America/New_York:20230210T200000
DTSTAMP:20260423T145538
CREATED:20230130T191722Z
LAST-MODIFIED:20230130T191722Z
UID:884-1676048400-1676059200@dolphinsgrill.com
SUMMARY:Tye Dyed
DESCRIPTION:
URL:https://dolphinsgrill.com/event/tye-dyed-4/
LOCATION:Dolphins Waterfront Bar & Grill\, 310 Lagoon Way\, Merritt Island\, FL\, 32953\, United States
ATTACH;FMTTYPE=image/jpeg:https://dolphinsgrill.com/wp-content/uploads/2022/12/tye-dyed-1-scaled.jpeg
END:VEVENT
BEGIN:VEVENT
DTSTART;TZID=America/New_York:20230205T170000
DTEND;TZID=America/New_York:20230205T200000
DTSTAMP:20260423T145538
CREATED:20230130T191555Z
LAST-MODIFIED:20230130T191555Z
UID:881-1675616400-1675627200@dolphinsgrill.com
SUMMARY:Anna. Delgado Trio
DESCRIPTION:Catch the good vibes with the Anna Delgado Trio!
URL:https://dolphinsgrill.com/event/anna-delgado-trio-2/
LOCATION:Dolphins Waterfront Bar & Grill\, 310 Lagoon Way\, Merritt Island\, FL\, 32953\, United States
ATTACH;FMTTYPE=image/jpeg:https://dolphinsgrill.com/wp-content/uploads/2023/01/anna.jpg
END:VEVENT
BEGIN:VEVENT
DTSTART;TZID=America/New_York:20230204T170000
DTEND;TZID=America/New_York:20230204T200000
DTSTAMP:20260423T145538
CREATED:20230130T190426Z
LAST-MODIFIED:20230130T223550Z
UID:869-1675530000-1675540800@dolphinsgrill.com
SUMMARY:Fundecided
DESCRIPTION:Live\, Fun\, Guitar\, Steel Drum and Marimba! Playing all your island favorites\, and MORE! The Tiki Band!
URL:https://dolphinsgrill.com/event/fundecided-5/
LOCATION:Dolphins Waterfront Bar & Grill\, 310 Lagoon Way\, Merritt Island\, FL\, 32953\, United States
ATTACH;FMTTYPE=image/jpeg:https://dolphinsgrill.com/wp-content/uploads/2022/08/fundecided.jpeg
END:VEVENT
BEGIN:VEVENT
DTSTART;TZID=America/New_York:20230203T170000
DTEND;TZID=America/New_York:20230203T200000
DTSTAMP:20260423T145538
CREATED:20230130T184435Z
LAST-MODIFIED:20230130T184435Z
UID:866-1675443600-1675454400@dolphinsgrill.com
SUMMARY:Sound Traveler Band
DESCRIPTION:With 2800+ shows over 10+ years as a full-time duo\, Sound Traveler (Bob & Patty Tatum) has taken a unique blend of acoustic music to 8 states and 5 foreign countries\, using their love of music and 10 different instruments to create feel-good shows for eclectic audiences of all ages. Whether you enjoy fresh arrangements of rock/pop/country favorites\, light jazz\, or even a touch of gospel or bluegrass\, you’re sure to have a good time.
URL:https://dolphinsgrill.com/event/sound-traveler-band-2/
LOCATION:Dolphins Waterfront Bar & Grill\, 310 Lagoon Way\, Merritt Island\, FL\, 32953\, United States
ATTACH;FMTTYPE=image/jpeg:https://dolphinsgrill.com/wp-content/uploads/2023/01/SoundTravelerwww.soundtravelerband.com_.jpeg
END:VEVENT
BEGIN:VEVENT
DTSTART;TZID=America/New_York:20230129T160000
DTEND;TZID=America/New_York:20230129T190000
DTSTAMP:20260423T145538
CREATED:20221227T181327Z
LAST-MODIFIED:20221227T181327Z
UID:837-1675008000-1675018800@dolphinsgrill.com
SUMMARY:Billy Cockrell
DESCRIPTION:Bill Cockrell is the king of trop rock. A multitalented musician\, that can play guitar\, banjo\, flute\, keyboards\, steel drums\, and more.
URL:https://dolphinsgrill.com/event/billy-cockrell/
LOCATION:Dolphins Waterfront Bar & Grill\, 310 Lagoon Way\, Merritt Island\, FL\, 32953\, United States
ATTACH;FMTTYPE=image/jpeg:https://dolphinsgrill.com/wp-content/uploads/2022/08/billC.jpeg
END:VEVENT
BEGIN:VEVENT
DTSTART;TZID=America/New_York:20230128T190000
DTEND;TZID=America/New_York:20230128T220000
DTSTAMP:20260423T145538
CREATED:20221227T194603Z
LAST-MODIFIED:20221227T194603Z
UID:842-1674932400-1674943200@dolphinsgrill.com
SUMMARY:The Syndicate Duo
DESCRIPTION:Brevard based variety music duo. Rock\, Reggae\, Country\, Hip Hop\, and more…family friendly.
URL:https://dolphinsgrill.com/event/the-syndicate-duo/
LOCATION:Dolphins Waterfront Bar & Grill\, 310 Lagoon Way\, Merritt Island\, FL\, 32953\, United States
ATTACH;FMTTYPE=application/pdf:https://dolphinsgrill.com/wp-content/uploads/2022/12/syndicate-1.pdf
END:VEVENT
BEGIN:VEVENT
DTSTART;TZID=America/New_York:20230128T150000
DTEND;TZID=America/New_York:20230128T180000
DTSTAMP:20260423T145538
CREATED:20221227T175319Z
LAST-MODIFIED:20221227T175319Z
UID:831-1674918000-1674928800@dolphinsgrill.com
SUMMARY:Key Change
DESCRIPTION:This acoustic duo – piano and vocals – features Shelly & Leslie from Bittersweet and the Divas\, sing
URL:https://dolphinsgrill.com/event/key-change-3/
LOCATION:Dolphins Waterfront Bar & Grill\, 310 Lagoon Way\, Merritt Island\, FL\, 32953\, United States
ATTACH;FMTTYPE=image/jpeg:https://dolphinsgrill.com/wp-content/uploads/2022/08/keychange.jpeg
END:VEVENT
BEGIN:VEVENT
DTSTART;TZID=America/New_York:20230127T170000
DTEND;TZID=America/New_York:20230127T200000
DTSTAMP:20260423T145538
CREATED:20221227T175048Z
LAST-MODIFIED:20221227T175048Z
UID:829-1674838800-1674849600@dolphinsgrill.com
SUMMARY:Teddy V
DESCRIPTION:The Fullest One Man Band you’ve ever heard. I play along to it always with a Live Acoustic Guitar or Electric Guitar and a strong Lead Vocal. Classic Rock / Oldies / Trop-Rock / Smooth Jazz / R&B / Pop and Funk from the 50’s\, 60’s\, 70’s\, 80’s\, 90’s to Present Hits. Lots of Originals Too!
URL:https://dolphinsgrill.com/event/teddy-v-11/
LOCATION:Dolphins Waterfront Bar & Grill\, 310 Lagoon Way\, Merritt Island\, FL\, 32953\, United States
ATTACH;FMTTYPE=image/jpeg:https://dolphinsgrill.com/wp-content/uploads/2022/12/teddyV-1.jpeg
END:VEVENT
BEGIN:VEVENT
DTSTART;TZID=America/New_York:20230122T160000
DTEND;TZID=America/New_York:20230122T190000
DTSTAMP:20260423T145538
CREATED:20221227T174835Z
LAST-MODIFIED:20221227T174835Z
UID:826-1674403200-1674414000@dolphinsgrill.com
SUMMARY:Joshua Keels
DESCRIPTION:Solo acoustic guitar with a chill unique style
URL:https://dolphinsgrill.com/event/joshua-keels-2/
LOCATION:Dolphins Waterfront Bar & Grill\, 310 Lagoon Way\, Merritt Island\, FL\, 32953\, United States
ATTACH;FMTTYPE=image/jpeg:https://dolphinsgrill.com/wp-content/uploads/2022/08/joshuakeels.jpeg
END:VEVENT
BEGIN:VEVENT
DTSTART;TZID=America/New_York:20230121T170000
DTEND;TZID=America/New_York:20230121T200000
DTSTAMP:20260423T145538
CREATED:20221227T174325Z
LAST-MODIFIED:20221227T174325Z
UID:823-1674320400-1674331200@dolphinsgrill.com
SUMMARY:Kenny & Bo
DESCRIPTION:Local Cocoa Beach Musicians playing a special blend of Music- Americana as a duo since 2015. Their music is easy listening classic\, “American Country Folk Blues.” \nMichael “Bo” Boukedes on: lead vocals\, acoustic & electric guitars\, twelve strings\, nylon\, & harmonicas! \nKenny Cohen on: Lead vocals\, fender electric bass\, saxophone\, & flute! \n  \nCome out and enjoy these veteran local musicians.
URL:https://dolphinsgrill.com/event/kenny-bo-5/
LOCATION:Dolphins Waterfront Bar & Grill\, 310 Lagoon Way\, Merritt Island\, FL\, 32953\, United States
ATTACH;FMTTYPE=application/pdf:https://dolphinsgrill.com/wp-content/uploads/2022/12/KennyBo-1.pdf
END:VEVENT
BEGIN:VEVENT
DTSTART;TZID=America/New_York:20230120T170000
DTEND;TZID=America/New_York:20230120T200000
DTSTAMP:20260423T145538
CREATED:20221227T173505Z
LAST-MODIFIED:20221227T173505Z
UID:819-1674234000-1674244800@dolphinsgrill.com
SUMMARY:Captain Tom
DESCRIPTION:Captain Tom is a solo guitarist/singer that plays a classic selection of acoustic rock and folk music.
URL:https://dolphinsgrill.com/event/captain-tom-2/
LOCATION:Dolphins Waterfront Bar & Grill\, 310 Lagoon Way\, Merritt Island\, FL\, 32953\, United States
ATTACH;FMTTYPE=application/pdf:https://dolphinsgrill.com/wp-content/uploads/2022/12/CaptTom-GeorgeDragon78.pdf
END:VEVENT
BEGIN:VEVENT
DTSTART;TZID=America/New_York:20230115T160000
DTEND;TZID=America/New_York:20230115T190000
DTSTAMP:20260423T145538
CREATED:20221227T173212Z
LAST-MODIFIED:20221227T173212Z
UID:817-1673798400-1673809200@dolphinsgrill.com
SUMMARY:Ravon Steely Rhoden
DESCRIPTION:Ravon is Producer\, Singer\, Steelpan\, Songwriter\, and super energetic performer of Island music! You are not going t o want to miss his Reggaebeat!
URL:https://dolphinsgrill.com/event/ravon-steely-rhoden-4/
LOCATION:Dolphins Waterfront Bar & Grill\, 310 Lagoon Way\, Merritt Island\, FL\, 32953\, United States
ATTACH;FMTTYPE=image/jpeg:https://dolphinsgrill.com/wp-content/uploads/2022/08/ravon.jpeg
END:VEVENT
BEGIN:VEVENT
DTSTART;TZID=America/New_York:20230114T170000
DTEND;TZID=America/New_York:20230114T200000
DTSTAMP:20260423T145538
CREATED:20221227T172647Z
LAST-MODIFIED:20221227T172647Z
UID:814-1673715600-1673726400@dolphinsgrill.com
SUMMARY:Everette Stevens
DESCRIPTION:Everette Stevens of Freeman Music will be playing at Dolphins with his unique chill music.
URL:https://dolphinsgrill.com/event/everette-stevens/
LOCATION:Dolphins Waterfront Bar & Grill\, 310 Lagoon Way\, Merritt Island\, FL\, 32953\, United States
ATTACH;FMTTYPE=application/pdf:https://dolphinsgrill.com/wp-content/uploads/2022/12/Everett-Freeman-music.pdf
END:VEVENT
END:VCALENDAR