BEGIN:VCALENDAR
VERSION:2.0
PRODID:-//Dolphins Waterfront Bar &amp; Grill - ECPv6.15.20//NONSGML v1.0//EN
CALSCALE:GREGORIAN
METHOD:PUBLISH
X-WR-CALNAME:Dolphins Waterfront Bar &amp; Grill
X-ORIGINAL-URL:https://dolphinsgrill.com
X-WR-CALDESC:Events for Dolphins Waterfront Bar &amp; Grill
REFRESH-INTERVAL;VALUE=DURATION:PT1H
X-Robots-Tag:noindex
X-PUBLISHED-TTL:PT1H
BEGIN:VTIMEZONE
TZID:America/New_York
BEGIN:DAYLIGHT
TZOFFSETFROM:-0500
TZOFFSETTO:-0400
TZNAME:EDT
DTSTART:20210314T070000
END:DAYLIGHT
BEGIN:STANDARD
TZOFFSETFROM:-0400
TZOFFSETTO:-0500
TZNAME:EST
DTSTART:20211107T060000
END:STANDARD
BEGIN:DAYLIGHT
TZOFFSETFROM:-0500
TZOFFSETTO:-0400
TZNAME:EDT
DTSTART:20220313T070000
END:DAYLIGHT
BEGIN:STANDARD
TZOFFSETFROM:-0400
TZOFFSETTO:-0500
TZNAME:EST
DTSTART:20221106T060000
END:STANDARD
BEGIN:DAYLIGHT
TZOFFSETFROM:-0500
TZOFFSETTO:-0400
TZNAME:EDT
DTSTART:20230312T070000
END:DAYLIGHT
BEGIN:STANDARD
TZOFFSETFROM:-0400
TZOFFSETTO:-0500
TZNAME:EST
DTSTART:20231105T060000
END:STANDARD
BEGIN:DAYLIGHT
TZOFFSETFROM:-0500
TZOFFSETTO:-0400
TZNAME:EDT
DTSTART:20240310T070000
END:DAYLIGHT
BEGIN:STANDARD
TZOFFSETFROM:-0400
TZOFFSETTO:-0500
TZNAME:EST
DTSTART:20241103T060000
END:STANDARD
END:VTIMEZONE
BEGIN:VEVENT
DTSTART;TZID=America/New_York:20230113T170000
DTEND;TZID=America/New_York:20230113T200000
DTSTAMP:20260423T132427
CREATED:20221227T172202Z
LAST-MODIFIED:20221227T172202Z
UID:811-1673629200-1673640000@dolphinsgrill.com
SUMMARY:Kenny & Bo
DESCRIPTION:Local Cocoa Beach Musicians playing a special blend of Music- Americana as a duo since 2015. Their music is easy listening classic\, “American Country Folk Blues.” \nMichael “Bo” Boukedes on: lead vocals\, acoustic & electric guitars\, twelve strings\, nylon\, & harmonicas! \nKenny Cohen on: Lead vocals\, fender electric bass\, saxophone\, & flute! \n  \nCome out and enjoy these veteran local musicians.
URL:https://dolphinsgrill.com/event/kenny-bo-4/
LOCATION:Dolphins Waterfront Bar & Grill\, 310 Lagoon Way\, Merritt Island\, FL\, 32953\, United States
ATTACH;FMTTYPE=application/pdf:https://dolphinsgrill.com/wp-content/uploads/2022/12/KennyBo.pdf
END:VEVENT
BEGIN:VEVENT
DTSTART;TZID=America/New_York:20230108T160000
DTEND;TZID=America/New_York:20230108T190000
DTSTAMP:20260423T132427
CREATED:20221227T171608Z
LAST-MODIFIED:20221227T171608Z
UID:809-1673193600-1673204400@dolphinsgrill.com
SUMMARY:Johnny Danger
DESCRIPTION:Johnny Danger Live is a solo guitarist\, singer\, and interactive entertainer with over twenty years of experience. JDL is also an accomplished songwriter and the most recent winner of the Runaway Country Music Festivals. Runaway Rockstar Competition. JDLs performances include a repertoire of over two thousand songs\, featuring a vast array of music from timeless classics to the current hits on the radio and online.
URL:https://dolphinsgrill.com/event/johnny-danger-6/
LOCATION:Dolphins Waterfront Bar & Grill\, 310 Lagoon Way\, Merritt Island\, FL\, 32953\, United States
ATTACH;FMTTYPE=image/jpeg:https://dolphinsgrill.com/wp-content/uploads/2022/08/jpg5BPtbx679.jpg
END:VEVENT
BEGIN:VEVENT
DTSTART;TZID=America/New_York:20230107T170000
DTEND;TZID=America/New_York:20230107T200000
DTSTAMP:20260423T132427
CREATED:20221228T144857Z
LAST-MODIFIED:20221228T144857Z
UID:846-1673110800-1673121600@dolphinsgrill.com
SUMMARY:Sound Traveler Band
DESCRIPTION:With 2800+ shows over 10+ years as a full-time duo\, Sound Traveler (Bob & Patty Tatum) has taken a unique blend of acoustic music to 8 states and 5 foreign countries\, using their love of music and 10 different instruments to create feel-good shows for eclectic audiences of all ages. Whether you enjoy fresh arrangements of rock/pop/country favorites\, light jazz\, or even a touch of gospel or bluegrass\, you’re sure to have a good time.
URL:https://dolphinsgrill.com/event/sound-traveler-band/
LOCATION:Dolphins Waterfront Bar & Grill\, 310 Lagoon Way\, Merritt Island\, FL\, 32953\, United States
ATTACH;FMTTYPE=image/jpeg:https://dolphinsgrill.com/wp-content/uploads/2022/12/SoundTravelerwww.soundtravelerband.com_.jpeg
END:VEVENT
BEGIN:VEVENT
DTSTART;TZID=America/New_York:20230106T170000
DTEND;TZID=America/New_York:20230106T200000
DTSTAMP:20260423T132427
CREATED:20221227T165815Z
LAST-MODIFIED:20221227T165815Z
UID:802-1673024400-1673035200@dolphinsgrill.com
SUMMARY:Mark Houghton
DESCRIPTION:Mark Houghton is a  cover artist\, fusion band from Orlando! He is described as a spectacular collaboration of talent and crowd entertainment with his down home country vocals.
URL:https://dolphinsgrill.com/event/mark-houghton/
LOCATION:Dolphins Waterfront Bar & Grill\, 310 Lagoon Way\, Merritt Island\, FL\, 32953\, United States
ATTACH;FMTTYPE=image/jpeg:https://dolphinsgrill.com/wp-content/uploads/2022/12/Mark-Houghton-1536x1025-1.jpeg
END:VEVENT
BEGIN:VEVENT
DTSTART;TZID=America/New_York:20230101T160000
DTEND;TZID=America/New_York:20230101T190000
DTSTAMP:20260423T132427
CREATED:20221219T200623Z
LAST-MODIFIED:20221219T200623Z
UID:797-1672588800-1672599600@dolphinsgrill.com
SUMMARY:Drew Halverson
DESCRIPTION:Solo acoustic guitar playing everything from Beatles to 90’s alternative.
URL:https://dolphinsgrill.com/event/drew-halverson-8/
LOCATION:Dolphins Waterfront Bar & Grill\, 310 Lagoon Way\, Merritt Island\, FL\, 32953\, United States
ATTACH;FMTTYPE=application/pdf:https://dolphinsgrill.com/wp-content/uploads/2022/12/drew-1.pdf
END:VEVENT
BEGIN:VEVENT
DTSTART;TZID=America/New_York:20230101T120000
DTEND;TZID=America/New_York:20230101T150000
DTSTAMP:20260423T132427
CREATED:20221219T200215Z
LAST-MODIFIED:20221229T165320Z
UID:794-1672574400-1672585200@dolphinsgrill.com
SUMMARY:Sax one the Beach
DESCRIPTION:Nice upbeat duo! Come and enjoy lunch with some cool jazz.
URL:https://dolphinsgrill.com/event/sax-one-the-beach/
LOCATION:Dolphins Waterfront Bar & Grill\, 310 Lagoon Way\, Merritt Island\, FL\, 32953\, United States
ATTACH;FMTTYPE=image/jpeg:https://dolphinsgrill.com/wp-content/uploads/2022/12/sax-onthe-beach.jpeg
END:VEVENT
BEGIN:VEVENT
DTSTART;TZID=America/New_York:20221231T210000
DTEND;TZID=America/New_York:20230101T000000
DTSTAMP:20260423T132427
CREATED:20221206T174239Z
LAST-MODIFIED:20221213T170923Z
UID:760-1672520400-1672531200@dolphinsgrill.com
SUMMARY:Teddy V
DESCRIPTION:Join our New Years Eve Party with Miranda and Teddy V!!!! The Fullest One Man Band you’ve ever heard. I play along to it always with a Live Acoustic Guitar or Electric Guitar and a strong Lead Vocal. Classic Rock / Oldies / Trop-Rock / Smooth Jazz / R&B / Pop and Funk from the 50’s\, 60’s\, 70’s\, 80’s\, 90’s to Present Hits. Lots of Originals Too!!!!
URL:https://dolphinsgrill.com/event/teddy-v-10/
LOCATION:FL
ATTACH;FMTTYPE=image/jpeg:https://dolphinsgrill.com/wp-content/uploads/2022/12/teddyV-1.jpeg
END:VEVENT
BEGIN:VEVENT
DTSTART;TZID=America/New_York:20221231T163000
DTEND;TZID=America/New_York:20221231T193000
DTSTAMP:20260423T132427
CREATED:20221206T173902Z
LAST-MODIFIED:20221228T172236Z
UID:755-1672504200-1672515000@dolphinsgrill.com
SUMMARY:Miranda Realino
DESCRIPTION:Join our New Years Eve Party with Miranda Realino and Teddy V.  Miranda is a local Merritt Island singer songwriter. She plays guitar and keyboards and has techno talent in adding accompaniment and special effects.
URL:https://dolphinsgrill.com/event/miranda-realino-6/
LOCATION:Dolphins Waterfront Bar & Grill\, 310 Lagoon Way\, Merritt Island\, FL\, 32953\, United States
ATTACH;FMTTYPE=image/jpeg:https://dolphinsgrill.com/wp-content/uploads/2022/12/miranda.jpeg
END:VEVENT
BEGIN:VEVENT
DTSTART;TZID=America/New_York:20221230T170000
DTEND;TZID=America/New_York:20221230T200000
DTSTAMP:20260423T132427
CREATED:20221206T173540Z
LAST-MODIFIED:20221229T165218Z
UID:752-1672419600-1672430400@dolphinsgrill.com
SUMMARY:Sax on the Beach
DESCRIPTION:A great Duo from weddings to casual dining.
URL:https://dolphinsgrill.com/event/sax-on-the-beach-3/
LOCATION:Dolphins Waterfront Bar & Grill\, 310 Lagoon Way\, Merritt Island\, FL\, 32953\, United States
ATTACH;FMTTYPE=image/jpeg:https://dolphinsgrill.com/wp-content/uploads/2022/12/sax-onthe-beach.jpeg
END:VEVENT
BEGIN:VEVENT
DTSTART;TZID=America/New_York:20221224T150000
DTEND;TZID=America/New_York:20221224T180000
DTSTAMP:20260423T132427
CREATED:20221212T175946Z
LAST-MODIFIED:20221212T175946Z
UID:777-1671894000-1671904800@dolphinsgrill.com
SUMMARY:Tye Dyed
DESCRIPTION:
URL:https://dolphinsgrill.com/event/tye-dyed-3/
LOCATION:Dolphins Waterfront Bar & Grill\, 310 Lagoon Way\, Merritt Island\, FL\, 32953\, United States
ATTACH;FMTTYPE=image/jpeg:https://dolphinsgrill.com/wp-content/uploads/2022/12/tye-dyed-1-scaled.jpeg
END:VEVENT
BEGIN:VEVENT
DTSTART;TZID=America/New_York:20221223T170000
DTEND;TZID=America/New_York:20221223T170000
DTSTAMP:20260423T132427
CREATED:20221206T172613Z
LAST-MODIFIED:20221206T172613Z
UID:746-1671814800-1671814800@dolphinsgrill.com
SUMMARY:Johnny Danger
DESCRIPTION:Johnny Danger Live is a solo guitarist\, singer\, and interactive entertainer with over twenty years of experience. JDL is also an accomplished songwriter and the most recent winner of the Runaway Country Music Festivals. Runaway Rockstar Competition. JDLs performances include a repertoire of over two thousand songs\, featuring a vast array of music from timeless classics to the current hits on the radio and online.
URL:https://dolphinsgrill.com/event/johnny-danger-5/
LOCATION:Dolphins Waterfront Bar & Grill\, 310 Lagoon Way\, Merritt Island\, FL\, 32953\, United States
ATTACH;FMTTYPE=image/jpeg:https://dolphinsgrill.com/wp-content/uploads/2022/12/johnny.jpeg
END:VEVENT
BEGIN:VEVENT
DTSTART;TZID=America/New_York:20221218T170000
DTEND;TZID=America/New_York:20221218T200000
DTSTAMP:20260423T132427
CREATED:20221206T172158Z
LAST-MODIFIED:20221212T173529Z
UID:743-1671382800-1671393600@dolphinsgrill.com
SUMMARY:Teddy V
DESCRIPTION:The Fullest One Man Band you’ve ever heard. I play along to it always with a Live Acoustic Guitar or Electric Guitar and a strong Lead Vocal. Classic Rock / Oldies / Trop-Rock / Smooth Jazz / R&B / Pop and Funk from the 50’s\, 60’s\, 70’s\, 80’s\, 90’s to Present Hits. Lots of Originals Too!
URL:https://dolphinsgrill.com/event/teddy-v-9/
LOCATION:Dolphins Waterfront Bar & Grill\, 310 Lagoon Way\, Merritt Island\, FL\, 32953\, United States
END:VEVENT
BEGIN:VEVENT
DTSTART;TZID=America/New_York:20221218T130000
DTEND;TZID=America/New_York:20221218T200000
DTSTAMP:20260423T132427
CREATED:20221212T133723Z
LAST-MODIFIED:20221212T185453Z
UID:770-1671368400-1671393600@dolphinsgrill.com
SUMMARY:Jingle Jam at Dolphins
DESCRIPTION:Special Holiday jam featuring Anna Delgado Trio and Teddy V.
URL:https://dolphinsgrill.com/event/jingle-jam-ast-dolphins/
LOCATION:Dolphins Waterfront Bar & Grill\, 310 Lagoon Way\, Merritt Island\, FL\, 32953\, United States
ATTACH;FMTTYPE=image/jpeg:https://dolphinsgrill.com/wp-content/uploads/2022/12/IMG_6743.jpg
END:VEVENT
BEGIN:VEVENT
DTSTART;TZID=America/New_York:20221218T130000
DTEND;TZID=America/New_York:20221218T160000
DTSTAMP:20260423T132427
CREATED:20221212T132306Z
LAST-MODIFIED:20221212T132306Z
UID:764-1671368400-1671379200@dolphinsgrill.com
SUMMARY:Anna Delgado Trio
DESCRIPTION:Catch the good vibes with the Anna Delgado Trio!
URL:https://dolphinsgrill.com/event/anna-delgado-trio/
LOCATION:Dolphins Waterfront Bar & Grill\, 310 Lagoon Way\, Merritt Island\, FL\, 32953\, United States
ATTACH;FMTTYPE=image/jpeg:https://dolphinsgrill.com/wp-content/uploads/2022/12/anna.jpg
END:VEVENT
BEGIN:VEVENT
DTSTART;TZID=America/New_York:20221216T170000
DTEND;TZID=America/New_York:20221216T200000
DTSTAMP:20260423T132427
CREATED:20221205T195800Z
LAST-MODIFIED:20221205T195800Z
UID:734-1671210000-1671220800@dolphinsgrill.com
SUMMARY:Jake Salter
DESCRIPTION:Multifaceted Muscian and entertainer. Local Cocoa Beach Talent!
URL:https://dolphinsgrill.com/event/jake-salter-2/
LOCATION:Dolphins Waterfront Bar & Grill\, 310 Lagoon Way\, Merritt Island\, FL\, 32953\, United States
ATTACH;FMTTYPE=image/jpeg:https://dolphinsgrill.com/wp-content/uploads/2022/12/jakesalter.jpeg
END:VEVENT
BEGIN:VEVENT
DTSTART;TZID=America/New_York:20221211T160000
DTEND;TZID=America/New_York:20221211T160000
DTSTAMP:20260423T132427
CREATED:20221205T195221Z
LAST-MODIFIED:20221205T195221Z
UID:730-1670774400-1670774400@dolphinsgrill.com
SUMMARY:Sax on the beach
DESCRIPTION:A great Duo from weddings to casual dining.
URL:https://dolphinsgrill.com/event/sax-on-the-beach-2/
LOCATION:Dolphins Waterfront Bar & Grill\, 310 Lagoon Way\, Merritt Island\, FL\, 32953\, United States
END:VEVENT
BEGIN:VEVENT
DTSTART;TZID=America/New_York:20221210T170000
DTEND;TZID=America/New_York:20221210T200000
DTSTAMP:20260423T132427
CREATED:20221130T185252Z
LAST-MODIFIED:20221130T185252Z
UID:721-1670691600-1670702400@dolphinsgrill.com
SUMMARY:Jersey Mike
DESCRIPTION:Come enjoy the local beat of Jersey Mike.
URL:https://dolphinsgrill.com/event/jersey-mike-4/
LOCATION:Dolphins Waterfront Bar & Grill\, 310 Lagoon Way\, Merritt Island\, FL\, 32953\, United States
ATTACH;FMTTYPE=image/jpeg:https://dolphinsgrill.com/wp-content/uploads/2022/09/jerseymike.jpeg
END:VEVENT
BEGIN:VEVENT
DTSTART;TZID=America/New_York:20221209T170000
DTEND;TZID=America/New_York:20221209T200000
DTSTAMP:20260423T132427
CREATED:20221129T220506Z
LAST-MODIFIED:20221129T220506Z
UID:717-1670605200-1670616000@dolphinsgrill.com
SUMMARY:Teddy V
DESCRIPTION:The Fullest One Man Band you’ve ever heard. I play along to it always with a Live Acoustic Guitar or Electric Guitar and a strong Lead Vocal. Classic Rock / Oldies / Trop-Rock / Smooth Jazz / R&B / Pop and Funk from the 50’s\, 60’s\, 70’s\, 80’s\, 90’s to Present Hits. Lots of Originals Too!
URL:https://dolphinsgrill.com/event/teddy-v-8/
LOCATION:Dolphins Waterfront Bar & Grill\, 310 Lagoon Way\, Merritt Island\, FL\, 32953\, United States
END:VEVENT
BEGIN:VEVENT
DTSTART;TZID=America/New_York:20221206T080000
DTEND;TZID=America/New_York:20221206T170000
DTSTAMP:20260423T132427
CREATED:20221206T173034Z
LAST-MODIFIED:20221206T173246Z
UID:749-1670313600-1670346000@dolphinsgrill.com
SUMMARY:Tye Dyed
DESCRIPTION:Tye Dyed plays all your favorites from the 60’s\, 70’s\, 80’s & 90’s classic rock!
URL:https://dolphinsgrill.com/event/tye-dyed-2/
LOCATION:FL
ATTACH;FMTTYPE=image/jpeg:https://dolphinsgrill.com/wp-content/uploads/2022/12/tye-dyed-scaled.jpeg
END:VEVENT
BEGIN:VEVENT
DTSTART;TZID=America/New_York:20221205T080000
DTEND;TZID=America/New_York:20221224T190000
DTSTAMP:20260423T132427
CREATED:20221205T181010Z
LAST-MODIFIED:20221213T175458Z
UID:725-1670227200-1671908400@dolphinsgrill.com
SUMMARY:Book Your Christmas Party Now!
DESCRIPTION:Please call Dolphins 321 338 2220 to book your Holiday Parties> We will close early Christmas Eve and all day Christmas.
URL:https://dolphinsgrill.com/event/book-your-christmas-party-now/
LOCATION:Dolphins Waterfront Bar & Grill\, 310 Lagoon Way\, Merritt Island\, FL\, 32953\, United States
ATTACH;FMTTYPE=image/webp:https://dolphinsgrill.com/wp-content/uploads/2022/12/xmas-e1670954086662.webp
END:VEVENT
BEGIN:VEVENT
DTSTART;TZID=America/New_York:20221204T160000
DTEND;TZID=America/New_York:20221204T190000
DTSTAMP:20260423T132427
CREATED:20221129T225829Z
LAST-MODIFIED:20221129T225829Z
UID:716-1670169600-1670180400@dolphinsgrill.com
SUMMARY:Drew Halverson
DESCRIPTION:Solo acoustic guitar playing everything from Beatles to 90’s alternative.
URL:https://dolphinsgrill.com/event/drew-halverson-6/
LOCATION:Dolphins Waterfront Bar & Grill\, 310 Lagoon Way\, Merritt Island\, FL\, 32953\, United States
ATTACH;FMTTYPE=application/pdf:https://dolphinsgrill.com/wp-content/uploads/2022/09/drew.pdf
END:VEVENT
BEGIN:VEVENT
DTSTART;TZID=America/New_York:20221203T170000
DTEND;TZID=America/New_York:20221203T200000
DTSTAMP:20260423T132427
CREATED:20221126T195825Z
LAST-MODIFIED:20221126T195825Z
UID:710-1670086800-1670097600@dolphinsgrill.com
SUMMARY:Fundecided
DESCRIPTION:Live\, Fun\, Guitar\, Steel Drum and Marimba! Playing all your island favorites\, and MORE! The Tiki Band!
URL:https://dolphinsgrill.com/event/fundecided-4/
LOCATION:Dolphins Waterfront Bar & Grill\, 310 Lagoon Way\, Merritt Island\, FL\, 32953\, United States
ATTACH;FMTTYPE=image/jpeg:https://dolphinsgrill.com/wp-content/uploads/2022/08/fundecided.jpeg
END:VEVENT
BEGIN:VEVENT
DTSTART;TZID=America/New_York:20221202T170000
DTEND;TZID=America/New_York:20221202T200000
DTSTAMP:20260423T132427
CREATED:20221126T195749Z
LAST-MODIFIED:20221126T195749Z
UID:708-1670000400-1670011200@dolphinsgrill.com
SUMMARY:Miranda Realino
DESCRIPTION:Miranda is a local Merritt Island singer songwriter. She plays guitar and keyboards and has techno talent in adding accompaniment and special effects.
URL:https://dolphinsgrill.com/event/miranda-realino-5/
LOCATION:Dolphins Waterfront Bar & Grill\, 310 Lagoon Way\, Merritt Island\, FL\, 32953\, United States
ATTACH;FMTTYPE=image/jpeg:https://dolphinsgrill.com/wp-content/uploads/2022/08/miranda.jpeg
END:VEVENT
BEGIN:VEVENT
DTSTART;TZID=America/New_York:20221127T160000
DTEND;TZID=America/New_York:20221127T190000
DTSTAMP:20260423T132427
CREATED:20221126T195655Z
LAST-MODIFIED:20221126T195655Z
UID:706-1669564800-1669575600@dolphinsgrill.com
SUMMARY:Kenny & Bo
DESCRIPTION:Local Cocoa Beach Musicians playing a special blend of Music- Americana as a duo since 2015. Their music is easy listening classic\, “American Country Folk Blues.” \nMichael “Bo” Boukedes on: lead vocals\, acoustic & electric guitars\, twelve strings\, nylon\, & harmonicas! \nKenny Cohen on: Lead vocals\, fender electric bass\, saxophone\, & flute! \n  \nCome out and enjoy these veteran local musicians.
URL:https://dolphinsgrill.com/event/kenny-bo-3/
LOCATION:Dolphins Waterfront Bar & Grill\, 310 Lagoon Way\, Merritt Island\, FL\, 32953\, United States
ATTACH;FMTTYPE=application/pdf:https://dolphinsgrill.com/wp-content/uploads/2022/09/KennyBo.pdf
END:VEVENT
BEGIN:VEVENT
DTSTART;TZID=America/New_York:20221126T170000
DTEND;TZID=America/New_York:20221126T200000
DTSTAMP:20260423T132427
CREATED:20221102T190627Z
LAST-MODIFIED:20221102T190627Z
UID:699-1669482000-1669492800@dolphinsgrill.com
SUMMARY:Jersey Mike
DESCRIPTION:Come enjoy the local beat of Jersey Mike.
URL:https://dolphinsgrill.com/event/jersey-mike-3/
LOCATION:Dolphins Waterfront Bar & Grill\, 310 Lagoon Way\, Merritt Island\, FL\, 32953\, United States
ATTACH;FMTTYPE=image/jpeg:https://dolphinsgrill.com/wp-content/uploads/2022/09/jerseymike.jpeg
END:VEVENT
BEGIN:VEVENT
DTSTART;TZID=America/New_York:20221124T170000
DTEND;TZID=America/New_York:20221124T200000
DTSTAMP:20260423T132427
CREATED:20221102T190527Z
LAST-MODIFIED:20221102T190527Z
UID:697-1669309200-1669320000@dolphinsgrill.com
SUMMARY:Tye Dyed
DESCRIPTION:Got lucky with a 3 for 1 musicians with Tye Dyed this Friday. Florida State award winning hamonicist joining the duo!  Playing all your favorites from the 60’s\, 70’s\, 80’s & 90’s classic rock
URL:https://dolphinsgrill.com/event/tye-dyed/
LOCATION:Dolphins Waterfront Bar & Grill\, 310 Lagoon Way\, Merritt Island\, FL\, 32953\, United States
ATTACH;FMTTYPE=application/pdf:https://dolphinsgrill.com/wp-content/uploads/2022/09/gregmcneely-tie-dyed.pdf
END:VEVENT
BEGIN:VEVENT
DTSTART;TZID=America/New_York:20221120T160000
DTEND;TZID=America/New_York:20221120T190000
DTSTAMP:20260423T132427
CREATED:20221102T190233Z
LAST-MODIFIED:20221102T190233Z
UID:695-1668960000-1668970800@dolphinsgrill.com
SUMMARY:Drew Halverson
DESCRIPTION:Solo acoustic guitar playing everything from Beatles to 90’s alternative.
URL:https://dolphinsgrill.com/event/drew-halverson-5/
LOCATION:Dolphins Waterfront Bar & Grill\, 310 Lagoon Way\, Merritt Island\, FL\, 32953\, United States
ATTACH;FMTTYPE=application/pdf:https://dolphinsgrill.com/wp-content/uploads/2022/09/drew.pdf
END:VEVENT
BEGIN:VEVENT
DTSTART;TZID=America/New_York:20221119T170000
DTEND;TZID=America/New_York:20221119T200000
DTSTAMP:20260423T132427
CREATED:20221102T190107Z
LAST-MODIFIED:20221102T190107Z
UID:693-1668877200-1668888000@dolphinsgrill.com
SUMMARY:Teddy V
DESCRIPTION:The Fullest One Man Band you’ve ever heard. I play along to it always with a Live Acoustic Guitar or Electric Guitar and a strong Lead Vocal. Classic Rock / Oldies / Trop-Rock / Smooth Jazz / R&B / Pop and Funk from the 50’s\, 60’s\, 70’s\, 80’s\, 90’s to Present Hits. Lots of Originals Too!
URL:https://dolphinsgrill.com/event/teddy-v-7/
LOCATION:Dolphins Waterfront Bar & Grill\, 310 Lagoon Way\, Merritt Island\, FL\, 32953\, United States
END:VEVENT
BEGIN:VEVENT
DTSTART;TZID=America/New_York:20221118T170000
DTEND;TZID=America/New_York:20221118T200000
DTSTAMP:20260423T132427
CREATED:20221102T185733Z
LAST-MODIFIED:20221102T185733Z
UID:691-1668790800-1668801600@dolphinsgrill.com
SUMMARY:Johnny Danger
DESCRIPTION:Johnny Danger Live is a solo guitarist\, singer\, and interactive entertainer with over twenty years of experience. JDL is also an accomplished songwriter and the most recent winner of the Runaway Country Music Festivals. Runaway Rockstar Competition. JDLs performances include a repertoire of over two thousand songs\, featuring a vast array of music from timeless classics to the current hits on the radio and online.
URL:https://dolphinsgrill.com/event/johnny-danger-4/
LOCATION:Dolphins Waterfront Bar & Grill\, 310 Lagoon Way\, Merritt Island\, FL\, 32953\, United States
END:VEVENT
BEGIN:VEVENT
DTSTART;TZID=America/New_York:20221113T160000
DTEND;TZID=America/New_York:20221113T190000
DTSTAMP:20260423T132427
CREATED:20221102T185357Z
LAST-MODIFIED:20221102T185357Z
UID:689-1668355200-1668366000@dolphinsgrill.com
SUMMARY:Miranda Realino
DESCRIPTION:Miranda is a local Merritt Island singer songwriter. She plays guitar and keyboards and has techno talent in adding accompaniment and special effects.
URL:https://dolphinsgrill.com/event/miranda-realino-4/
LOCATION:Dolphins Waterfront Bar & Grill\, 310 Lagoon Way\, Merritt Island\, FL\, 32953\, United States
ATTACH;FMTTYPE=image/jpeg:https://dolphinsgrill.com/wp-content/uploads/2022/08/miranda.jpeg
END:VEVENT
END:VCALENDAR