BEGIN:VCALENDAR
VERSION:2.0
PRODID:-//Dolphins Waterfront Bar &amp; Grill - ECPv6.15.20//NONSGML v1.0//EN
CALSCALE:GREGORIAN
METHOD:PUBLISH
X-WR-CALNAME:Dolphins Waterfront Bar &amp; Grill
X-ORIGINAL-URL:https://dolphinsgrill.com
X-WR-CALDESC:Events for Dolphins Waterfront Bar &amp; Grill
REFRESH-INTERVAL;VALUE=DURATION:PT1H
X-Robots-Tag:noindex
X-PUBLISHED-TTL:PT1H
BEGIN:VTIMEZONE
TZID:America/New_York
BEGIN:DAYLIGHT
TZOFFSETFROM:-0500
TZOFFSETTO:-0400
TZNAME:EDT
DTSTART:20210314T070000
END:DAYLIGHT
BEGIN:STANDARD
TZOFFSETFROM:-0400
TZOFFSETTO:-0500
TZNAME:EST
DTSTART:20211107T060000
END:STANDARD
BEGIN:DAYLIGHT
TZOFFSETFROM:-0500
TZOFFSETTO:-0400
TZNAME:EDT
DTSTART:20220313T070000
END:DAYLIGHT
BEGIN:STANDARD
TZOFFSETFROM:-0400
TZOFFSETTO:-0500
TZNAME:EST
DTSTART:20221106T060000
END:STANDARD
BEGIN:DAYLIGHT
TZOFFSETFROM:-0500
TZOFFSETTO:-0400
TZNAME:EDT
DTSTART:20230312T070000
END:DAYLIGHT
BEGIN:STANDARD
TZOFFSETFROM:-0400
TZOFFSETTO:-0500
TZNAME:EST
DTSTART:20231105T060000
END:STANDARD
END:VTIMEZONE
BEGIN:VEVENT
DTSTART;TZID=America/New_York:20221204T160000
DTEND;TZID=America/New_York:20221204T190000
DTSTAMP:20260423T161324
CREATED:20221129T225829Z
LAST-MODIFIED:20221129T225829Z
UID:716-1670169600-1670180400@dolphinsgrill.com
SUMMARY:Drew Halverson
DESCRIPTION:Solo acoustic guitar playing everything from Beatles to 90’s alternative.
URL:https://dolphinsgrill.com/event/drew-halverson-6/
LOCATION:Dolphins Waterfront Bar & Grill\, 310 Lagoon Way\, Merritt Island\, FL\, 32953\, United States
ATTACH;FMTTYPE=application/pdf:https://dolphinsgrill.com/wp-content/uploads/2022/09/drew.pdf
END:VEVENT
BEGIN:VEVENT
DTSTART;TZID=America/New_York:20221203T170000
DTEND;TZID=America/New_York:20221203T200000
DTSTAMP:20260423T161324
CREATED:20221126T195825Z
LAST-MODIFIED:20221126T195825Z
UID:710-1670086800-1670097600@dolphinsgrill.com
SUMMARY:Fundecided
DESCRIPTION:Live\, Fun\, Guitar\, Steel Drum and Marimba! Playing all your island favorites\, and MORE! The Tiki Band!
URL:https://dolphinsgrill.com/event/fundecided-4/
LOCATION:Dolphins Waterfront Bar & Grill\, 310 Lagoon Way\, Merritt Island\, FL\, 32953\, United States
ATTACH;FMTTYPE=image/jpeg:https://dolphinsgrill.com/wp-content/uploads/2022/08/fundecided.jpeg
END:VEVENT
BEGIN:VEVENT
DTSTART;TZID=America/New_York:20221202T170000
DTEND;TZID=America/New_York:20221202T200000
DTSTAMP:20260423T161324
CREATED:20221126T195749Z
LAST-MODIFIED:20221126T195749Z
UID:708-1670000400-1670011200@dolphinsgrill.com
SUMMARY:Miranda Realino
DESCRIPTION:Miranda is a local Merritt Island singer songwriter. She plays guitar and keyboards and has techno talent in adding accompaniment and special effects.
URL:https://dolphinsgrill.com/event/miranda-realino-5/
LOCATION:Dolphins Waterfront Bar & Grill\, 310 Lagoon Way\, Merritt Island\, FL\, 32953\, United States
ATTACH;FMTTYPE=image/jpeg:https://dolphinsgrill.com/wp-content/uploads/2022/08/miranda.jpeg
END:VEVENT
BEGIN:VEVENT
DTSTART;TZID=America/New_York:20221127T160000
DTEND;TZID=America/New_York:20221127T190000
DTSTAMP:20260423T161324
CREATED:20221126T195655Z
LAST-MODIFIED:20221126T195655Z
UID:706-1669564800-1669575600@dolphinsgrill.com
SUMMARY:Kenny & Bo
DESCRIPTION:Local Cocoa Beach Musicians playing a special blend of Music- Americana as a duo since 2015. Their music is easy listening classic\, “American Country Folk Blues.” \nMichael “Bo” Boukedes on: lead vocals\, acoustic & electric guitars\, twelve strings\, nylon\, & harmonicas! \nKenny Cohen on: Lead vocals\, fender electric bass\, saxophone\, & flute! \n  \nCome out and enjoy these veteran local musicians.
URL:https://dolphinsgrill.com/event/kenny-bo-3/
LOCATION:Dolphins Waterfront Bar & Grill\, 310 Lagoon Way\, Merritt Island\, FL\, 32953\, United States
ATTACH;FMTTYPE=application/pdf:https://dolphinsgrill.com/wp-content/uploads/2022/09/KennyBo.pdf
END:VEVENT
BEGIN:VEVENT
DTSTART;TZID=America/New_York:20221126T170000
DTEND;TZID=America/New_York:20221126T200000
DTSTAMP:20260423T161324
CREATED:20221102T190627Z
LAST-MODIFIED:20221102T190627Z
UID:699-1669482000-1669492800@dolphinsgrill.com
SUMMARY:Jersey Mike
DESCRIPTION:Come enjoy the local beat of Jersey Mike.
URL:https://dolphinsgrill.com/event/jersey-mike-3/
LOCATION:Dolphins Waterfront Bar & Grill\, 310 Lagoon Way\, Merritt Island\, FL\, 32953\, United States
ATTACH;FMTTYPE=image/jpeg:https://dolphinsgrill.com/wp-content/uploads/2022/09/jerseymike.jpeg
END:VEVENT
BEGIN:VEVENT
DTSTART;TZID=America/New_York:20221124T170000
DTEND;TZID=America/New_York:20221124T200000
DTSTAMP:20260423T161324
CREATED:20221102T190527Z
LAST-MODIFIED:20221102T190527Z
UID:697-1669309200-1669320000@dolphinsgrill.com
SUMMARY:Tye Dyed
DESCRIPTION:Got lucky with a 3 for 1 musicians with Tye Dyed this Friday. Florida State award winning hamonicist joining the duo!  Playing all your favorites from the 60’s\, 70’s\, 80’s & 90’s classic rock
URL:https://dolphinsgrill.com/event/tye-dyed/
LOCATION:Dolphins Waterfront Bar & Grill\, 310 Lagoon Way\, Merritt Island\, FL\, 32953\, United States
ATTACH;FMTTYPE=application/pdf:https://dolphinsgrill.com/wp-content/uploads/2022/09/gregmcneely-tie-dyed.pdf
END:VEVENT
BEGIN:VEVENT
DTSTART;TZID=America/New_York:20221120T160000
DTEND;TZID=America/New_York:20221120T190000
DTSTAMP:20260423T161324
CREATED:20221102T190233Z
LAST-MODIFIED:20221102T190233Z
UID:695-1668960000-1668970800@dolphinsgrill.com
SUMMARY:Drew Halverson
DESCRIPTION:Solo acoustic guitar playing everything from Beatles to 90’s alternative.
URL:https://dolphinsgrill.com/event/drew-halverson-5/
LOCATION:Dolphins Waterfront Bar & Grill\, 310 Lagoon Way\, Merritt Island\, FL\, 32953\, United States
ATTACH;FMTTYPE=application/pdf:https://dolphinsgrill.com/wp-content/uploads/2022/09/drew.pdf
END:VEVENT
BEGIN:VEVENT
DTSTART;TZID=America/New_York:20221119T170000
DTEND;TZID=America/New_York:20221119T200000
DTSTAMP:20260423T161324
CREATED:20221102T190107Z
LAST-MODIFIED:20221102T190107Z
UID:693-1668877200-1668888000@dolphinsgrill.com
SUMMARY:Teddy V
DESCRIPTION:The Fullest One Man Band you’ve ever heard. I play along to it always with a Live Acoustic Guitar or Electric Guitar and a strong Lead Vocal. Classic Rock / Oldies / Trop-Rock / Smooth Jazz / R&B / Pop and Funk from the 50’s\, 60’s\, 70’s\, 80’s\, 90’s to Present Hits. Lots of Originals Too!
URL:https://dolphinsgrill.com/event/teddy-v-7/
LOCATION:Dolphins Waterfront Bar & Grill\, 310 Lagoon Way\, Merritt Island\, FL\, 32953\, United States
END:VEVENT
BEGIN:VEVENT
DTSTART;TZID=America/New_York:20221118T170000
DTEND;TZID=America/New_York:20221118T200000
DTSTAMP:20260423T161324
CREATED:20221102T185733Z
LAST-MODIFIED:20221102T185733Z
UID:691-1668790800-1668801600@dolphinsgrill.com
SUMMARY:Johnny Danger
DESCRIPTION:Johnny Danger Live is a solo guitarist\, singer\, and interactive entertainer with over twenty years of experience. JDL is also an accomplished songwriter and the most recent winner of the Runaway Country Music Festivals. Runaway Rockstar Competition. JDLs performances include a repertoire of over two thousand songs\, featuring a vast array of music from timeless classics to the current hits on the radio and online.
URL:https://dolphinsgrill.com/event/johnny-danger-4/
LOCATION:Dolphins Waterfront Bar & Grill\, 310 Lagoon Way\, Merritt Island\, FL\, 32953\, United States
END:VEVENT
BEGIN:VEVENT
DTSTART;TZID=America/New_York:20221113T160000
DTEND;TZID=America/New_York:20221113T190000
DTSTAMP:20260423T161324
CREATED:20221102T185357Z
LAST-MODIFIED:20221102T185357Z
UID:689-1668355200-1668366000@dolphinsgrill.com
SUMMARY:Miranda Realino
DESCRIPTION:Miranda is a local Merritt Island singer songwriter. She plays guitar and keyboards and has techno talent in adding accompaniment and special effects.
URL:https://dolphinsgrill.com/event/miranda-realino-4/
LOCATION:Dolphins Waterfront Bar & Grill\, 310 Lagoon Way\, Merritt Island\, FL\, 32953\, United States
ATTACH;FMTTYPE=image/jpeg:https://dolphinsgrill.com/wp-content/uploads/2022/08/miranda.jpeg
END:VEVENT
BEGIN:VEVENT
DTSTART;TZID=America/New_York:20221112T170000
DTEND;TZID=America/New_York:20221112T200000
DTSTAMP:20260423T161324
CREATED:20221102T185316Z
LAST-MODIFIED:20221102T185316Z
UID:687-1668272400-1668283200@dolphinsgrill.com
SUMMARY:Fundecided
DESCRIPTION:Live\, Fun\, Guitar\, Steel Drum and Marimba! Playing all your island favorites\, and MORE! The Tiki Band!
URL:https://dolphinsgrill.com/event/fundecided-3/
LOCATION:Dolphins Waterfront Bar & Grill\, 310 Lagoon Way\, Merritt Island\, FL\, 32953\, United States
ATTACH;FMTTYPE=image/jpeg:https://dolphinsgrill.com/wp-content/uploads/2022/08/fundecided.jpeg
END:VEVENT
BEGIN:VEVENT
DTSTART;TZID=America/New_York:20221111T173000
DTEND;TZID=America/New_York:20221111T183000
DTSTAMP:20260423T161324
CREATED:20221102T184218Z
LAST-MODIFIED:20221102T184218Z
UID:683-1668187800-1668191400@dolphinsgrill.com
SUMMARY:Drew Halverson
DESCRIPTION:Solo acoustic guitar playing everything from Beatles to 90’s alternative.
URL:https://dolphinsgrill.com/event/drew-halverson-4/
LOCATION:Dolphins Waterfront Bar & Grill\, 310 Lagoon Way\, Merritt Island\, FL\, 32953\, United States
ATTACH;FMTTYPE=application/pdf:https://dolphinsgrill.com/wp-content/uploads/2022/09/drew.pdf
END:VEVENT
BEGIN:VEVENT
DTSTART;TZID=America/New_York:20221106T160000
DTEND;TZID=America/New_York:20221106T190000
DTSTAMP:20260423T161324
CREATED:20221102T183144Z
LAST-MODIFIED:20221102T183144Z
UID:678-1667750400-1667761200@dolphinsgrill.com
SUMMARY:Indian River Band
DESCRIPTION:Come see our local talent\, Indian River Band playing acoustic cover from the 60\, 70 & 80’s.
URL:https://dolphinsgrill.com/event/indian-river-band/
LOCATION:Dolphins Waterfront Bar & Grill\, 310 Lagoon Way\, Merritt Island\, FL\, 32953\, United States
ATTACH;FMTTYPE=image/jpeg:https://dolphinsgrill.com/wp-content/uploads/2022/11/indianriverband.jpeg
END:VEVENT
BEGIN:VEVENT
DTSTART;TZID=America/New_York:20221105T170000
DTEND;TZID=America/New_York:20221105T200000
DTSTAMP:20260423T161324
CREATED:20221102T183235Z
LAST-MODIFIED:20221102T183235Z
UID:681-1667667600-1667678400@dolphinsgrill.com
SUMMARY:Kenny & Bo
DESCRIPTION:Local Cocoa Beach Musicians playing a special blend of Music- Americana as a duo since 2015. Their music is easy listening classic\, “American Country Folk Blues.” \nMichael “Bo” Boukedes on: lead vocals\, acoustic & electric guitars\, twelve strings\, nylon\, & harmonicas! \nKenny Cohen on: Lead vocals\, fender electric bass\, saxophone\, & flute! \n  \nCome out and enjoy these veteran local musicians.
URL:https://dolphinsgrill.com/event/kenny-bo-2/
LOCATION:Dolphins Waterfront Bar & Grill\, 310 Lagoon Way\, Merritt Island\, FL\, 32953\, United States
ATTACH;FMTTYPE=application/pdf:https://dolphinsgrill.com/wp-content/uploads/2022/09/KennyBo.pdf
END:VEVENT
BEGIN:VEVENT
DTSTART;TZID=America/New_York:20221104T170000
DTEND;TZID=America/New_York:20221104T200000
DTSTAMP:20260423T161324
CREATED:20220822T185835Z
LAST-MODIFIED:20221102T182742Z
UID:536-1667581200-1667592000@dolphinsgrill.com
SUMMARY:Rob and Shane Reggae Duo
DESCRIPTION:Rob and Shane from Part One Tribe national  reggae band\, have an awesome acoustic chill sound.
URL:https://dolphinsgrill.com/event/rob-and-shane-reggae-duo/
LOCATION:Dolphins Waterfront Bar & Grill\, 310 Lagoon Way\, Merritt Island\, FL\, 32953\, United States
ATTACH;FMTTYPE=application/pdf:https://dolphinsgrill.com/wp-content/uploads/2022/08/partofonetribe.pdf
END:VEVENT
BEGIN:VEVENT
DTSTART;TZID=America/New_York:20221030T160000
DTEND;TZID=America/New_York:20221030T190000
DTSTAMP:20260423T161324
CREATED:20220927T172615Z
LAST-MODIFIED:20220927T172615Z
UID:598-1667145600-1667156400@dolphinsgrill.com
SUMMARY:Jersey Mike
DESCRIPTION:Come enjoy the local beat of Jersey Mike.
URL:https://dolphinsgrill.com/event/jersey-mike-2/
LOCATION:Dolphins Waterfront Bar & Grill\, 310 Lagoon Way\, Merritt Island\, FL\, 32953\, United States
ATTACH;FMTTYPE=image/jpeg:https://dolphinsgrill.com/wp-content/uploads/2022/09/jerseymike.jpeg
END:VEVENT
BEGIN:VEVENT
DTSTART;TZID=America/New_York:20221029T170000
DTEND;TZID=America/New_York:20221029T200000
DTSTAMP:20260423T161324
CREATED:20220927T172504Z
LAST-MODIFIED:20220927T172504Z
UID:596-1667062800-1667073600@dolphinsgrill.com
SUMMARY:Teddy V
DESCRIPTION:The Fullest One Man Band you’ve ever heard. I play along to it always with a Live Acoustic Guitar or Electric Guitar and a strong Lead Vocal. Classic Rock / Oldies / Trop-Rock / Smooth Jazz / R&B / Pop and Funk from the 50’s\, 60’s\, 70’s\, 80’s\, 90’s to Present Hits. Lots of Originals Too!
URL:https://dolphinsgrill.com/event/teddy-v-6/
LOCATION:Dolphins Waterfront Bar & Grill\, 310 Lagoon Way\, Merritt Island\, FL\, 32953\, United States
END:VEVENT
BEGIN:VEVENT
DTSTART;TZID=America/New_York:20221028T170000
DTEND;TZID=America/New_York:20221028T200000
DTSTAMP:20260423T161324
CREATED:20220927T172406Z
LAST-MODIFIED:20221004T161912Z
UID:593-1666976400-1666987200@dolphinsgrill.com
SUMMARY:Kenny & Bo
DESCRIPTION:Local Cocoa Beach Musicians playing a special blend of Music- Americana as a duo since 2015. Their music is easy listening classic\, “American Country Folk Blues.” \nMichael “Bo” Boukedes on: lead vocals\, acoustic & electric guitars\, twelve strings\, nylon\, & harmonicas! \nKenny Cohen on: Lead vocals\, fender electric bass\, saxophone\, & flute! \n  \nCome out and enjoy these veteran local musicians.
URL:https://dolphinsgrill.com/event/kenny-bo/
LOCATION:Dolphins Waterfront Bar & Grill\, 310 Lagoon Way\, Merritt Island\, FL\, 32953\, United States
ATTACH;FMTTYPE=application/pdf:https://dolphinsgrill.com/wp-content/uploads/2022/09/KennyBo.pdf
END:VEVENT
BEGIN:VEVENT
DTSTART;TZID=America/New_York:20221023T160000
DTEND;TZID=America/New_York:20221023T190000
DTSTAMP:20260423T161324
CREATED:20220927T172016Z
LAST-MODIFIED:20220927T172016Z
UID:591-1666540800-1666551600@dolphinsgrill.com
SUMMARY:Drew Halverson
DESCRIPTION:Solo acoustic guitar playing everything from Beatles to 90’s alternative.
URL:https://dolphinsgrill.com/event/drew-halverson-3/
LOCATION:Dolphins Waterfront Bar & Grill\, 310 Lagoon Way\, Merritt Island\, FL\, 32953\, United States
ATTACH;FMTTYPE=application/pdf:https://dolphinsgrill.com/wp-content/uploads/2022/09/drew.pdf
END:VEVENT
BEGIN:VEVENT
DTSTART;TZID=America/New_York:20221022T170000
DTEND;TZID=America/New_York:20221022T200000
DTSTAMP:20260423T161324
CREATED:20220927T171929Z
LAST-MODIFIED:20220927T173306Z
UID:588-1666458000-1666468800@dolphinsgrill.com
SUMMARY:Jersey Mike
DESCRIPTION:Come enjoy the local beat of Jersey Mike.
URL:https://dolphinsgrill.com/event/jersey-mike/
LOCATION:Dolphins Waterfront Bar & Grill\, 310 Lagoon Way\, Merritt Island\, FL\, 32953\, United States
ATTACH;FMTTYPE=image/jpeg:https://dolphinsgrill.com/wp-content/uploads/2022/09/jerseymike.jpeg
END:VEVENT
BEGIN:VEVENT
DTSTART;TZID=America/New_York:20221016T160000
DTEND;TZID=America/New_York:20221016T190000
DTSTAMP:20260423T161324
CREATED:20220927T170751Z
LAST-MODIFIED:20220927T170751Z
UID:583-1665936000-1665946800@dolphinsgrill.com
SUMMARY:Teddy V
DESCRIPTION:The Fullest One Man Band you’ve ever heard. I play along to it always with a Live Acoustic Guitar or Electric Guitar and a strong Lead Vocal. Classic Rock / Oldies / Trop-Rock / Smooth Jazz / R&B / Pop and Funk from the 50’s\, 60’s\, 70’s\, 80’s\, 90’s to Present Hits. Lots of Originals Too!
URL:https://dolphinsgrill.com/event/teddy-v-5/
LOCATION:Dolphins Waterfront Bar & Grill\, 310 Lagoon Way\, Merritt Island\, FL\, 32953\, United States
END:VEVENT
BEGIN:VEVENT
DTSTART;TZID=America/New_York:20221015T170000
DTEND;TZID=America/New_York:20221015T200000
DTSTAMP:20260423T161324
CREATED:20220927T170709Z
LAST-MODIFIED:20220927T170709Z
UID:581-1665853200-1665864000@dolphinsgrill.com
SUMMARY:Drew Halverson
DESCRIPTION:Solo acoustic guitar playing everything from Beatles to 90’s alternative.
URL:https://dolphinsgrill.com/event/drew-halverson-2/
LOCATION:Dolphins Waterfront Bar & Grill\, 310 Lagoon Way\, Merritt Island\, FL\, 32953\, United States
ATTACH;FMTTYPE=application/pdf:https://dolphinsgrill.com/wp-content/uploads/2022/09/drew.pdf
END:VEVENT
BEGIN:VEVENT
DTSTART;TZID=America/New_York:20221014T170000
DTEND;TZID=America/New_York:20221014T200000
DTSTAMP:20260423T161324
CREATED:20220927T170636Z
LAST-MODIFIED:20221004T164129Z
UID:579-1665766800-1665777600@dolphinsgrill.com
SUMMARY:Jammin Joe
DESCRIPTION:Local beach musician Jammin Joe playing country\, Caribbean and wild time favorites.
URL:https://dolphinsgrill.com/event/jammin-joe-2/
LOCATION:Dolphins Waterfront Bar & Grill\, 310 Lagoon Way\, Merritt Island\, FL\, 32953\, United States
ATTACH;FMTTYPE=image/jpeg:https://dolphinsgrill.com/wp-content/uploads/2022/09/IMG_4761-1-scaled.jpg
END:VEVENT
BEGIN:VEVENT
DTSTART;TZID=America/New_York:20221009T160000
DTEND;TZID=America/New_York:20221009T190000
DTSTAMP:20260423T161324
CREATED:20220927T170551Z
LAST-MODIFIED:20220927T173048Z
UID:577-1665331200-1665342000@dolphinsgrill.com
SUMMARY:Miranda Realino
DESCRIPTION:Miranda is a local Merritt Island singer songwriter. She plays guitar and keyboards and has techno talent in adding accompaniment and special effects.
URL:https://dolphinsgrill.com/event/miranda-realino-3/
LOCATION:Dolphins Waterfront Bar & Grill\, 310 Lagoon Way\, Merritt Island\, FL\, 32953\, United States
ATTACH;FMTTYPE=image/jpeg:https://dolphinsgrill.com/wp-content/uploads/2022/08/miranda.jpeg
END:VEVENT
BEGIN:VEVENT
DTSTART;TZID=America/New_York:20221009T113000
DTEND;TZID=America/New_York:20221009T143000
DTSTAMP:20260423T161324
CREATED:20221007T180746Z
LAST-MODIFIED:20221007T180746Z
UID:641-1665315000-1665325800@dolphinsgrill.com
SUMMARY:Paul Beach of SWITCH
DESCRIPTION:The Beach performs Yacht Rock Favorites with Love.
URL:https://dolphinsgrill.com/event/paul-beach-of-switch/
LOCATION:Dolphins Waterfront Bar & Grill\, 310 Lagoon Way\, Merritt Island\, FL\, 32953\, United States
ATTACH;FMTTYPE=application/pdf:https://dolphinsgrill.com/wp-content/uploads/2022/10/The_Beach74.pdf
END:VEVENT
BEGIN:VEVENT
DTSTART;TZID=America/New_York:20221008T170000
DTEND;TZID=America/New_York:20221008T200000
DTSTAMP:20260423T161324
CREATED:20220927T170502Z
LAST-MODIFIED:20220927T170502Z
UID:575-1665248400-1665259200@dolphinsgrill.com
SUMMARY:Fundecided
DESCRIPTION:Live\, Fun\, Guitar\, Steel Drum and Marimba! Playing all your island favorites\, and MORE! The Tiki Band!
URL:https://dolphinsgrill.com/event/fundecided-2/
LOCATION:Dolphins Waterfront Bar & Grill\, 310 Lagoon Way\, Merritt Island\, FL\, 32953\, United States
ATTACH;FMTTYPE=image/jpeg:https://dolphinsgrill.com/wp-content/uploads/2022/08/fundecided.jpeg
END:VEVENT
BEGIN:VEVENT
DTSTART;TZID=America/New_York:20221007T170000
DTEND;TZID=America/New_York:20221007T200000
DTSTAMP:20260423T161324
CREATED:20220927T171352Z
LAST-MODIFIED:20221004T162544Z
UID:585-1665162000-1665172800@dolphinsgrill.com
SUMMARY:Tie Dyed
DESCRIPTION:Got lucky with a 3 for 1 musicians with Tye Dyed this Friday. Florida State award winning hamonicist joining the duo!  Playing all your favorites from the 60’s\, 70’s\, 80’s & 90’s classic rock
URL:https://dolphinsgrill.com/event/tie-dyed/
LOCATION:Dolphins Waterfront Bar & Grill\, 310 Lagoon Way\, Merritt Island\, FL\, 32953\, United States
ATTACH;FMTTYPE=application/pdf:https://dolphinsgrill.com/wp-content/uploads/2022/09/gregmcneely-tie-dyed.pdf
END:VEVENT
BEGIN:VEVENT
DTSTART;TZID=America/New_York:20221002T040000
DTEND;TZID=America/New_York:20221002T190000
DTSTAMP:20260423T161324
CREATED:20220927T165627Z
LAST-MODIFIED:20220927T172859Z
UID:570-1664683200-1664737200@dolphinsgrill.com
SUMMARY:Everett Stevens of Freeman Music
DESCRIPTION:Join us Sunday for post Ian live music celebration!
URL:https://dolphinsgrill.com/event/freeman-music/
LOCATION:Dolphins Waterfront Bar & Grill\, 310 Lagoon Way\, Merritt Island\, FL\, 32953\, United States
ATTACH;FMTTYPE=application/pdf:https://dolphinsgrill.com/wp-content/uploads/2022/09/Everett-Freeman-music.pdf
END:VEVENT
BEGIN:VEVENT
DTSTART;TZID=America/New_York:20221001T160000
DTEND;TZID=America/New_York:20221001T190000
DTSTAMP:20260423T161324
CREATED:20220819T183812Z
LAST-MODIFIED:20220819T183812Z
UID:515-1664640000-1664650800@dolphinsgrill.com
SUMMARY:Miranda Realino
DESCRIPTION:Miranda is a local Merritt Island singer songwriter. She plays guitar and keyboards and has techno talent in adding accompaniment and special effects.
URL:https://dolphinsgrill.com/event/miranda-realino-2/
LOCATION:Dolphins Waterfront Bar & Grill\, 310 Lagoon Way\, Merritt Island\, FL\, 32953\, United States
ATTACH;FMTTYPE=image/jpeg:https://dolphinsgrill.com/wp-content/uploads/2022/08/miranda.jpeg
END:VEVENT
BEGIN:VEVENT
DTSTART;TZID=America/New_York:20220930T170000
DTEND;TZID=America/New_York:20220930T200000
DTSTAMP:20260423T161324
CREATED:20220927T165118Z
LAST-MODIFIED:20220927T165118Z
UID:567-1664557200-1664568000@dolphinsgrill.com
SUMMARY:Drew Halverson
DESCRIPTION:Solo acoustic guitar playing everything from Beatles to 90’s alternative.
URL:https://dolphinsgrill.com/event/drew-halverson/
LOCATION:Dolphins Waterfront Bar & Grill\, 310 Lagoon Way\, Merritt Island\, FL\, 32953\, United States
ATTACH;FMTTYPE=application/pdf:https://dolphinsgrill.com/wp-content/uploads/2022/09/drew.pdf
END:VEVENT
END:VCALENDAR