BEGIN:VCALENDAR
VERSION:2.0
PRODID:-//Dolphins Waterfront Bar &amp; Grill - ECPv6.15.20//NONSGML v1.0//EN
CALSCALE:GREGORIAN
METHOD:PUBLISH
X-WR-CALNAME:Dolphins Waterfront Bar &amp; Grill
X-ORIGINAL-URL:https://dolphinsgrill.com
X-WR-CALDESC:Events for Dolphins Waterfront Bar &amp; Grill
REFRESH-INTERVAL;VALUE=DURATION:PT1H
X-Robots-Tag:noindex
X-PUBLISHED-TTL:PT1H
BEGIN:VTIMEZONE
TZID:America/New_York
BEGIN:DAYLIGHT
TZOFFSETFROM:-0500
TZOFFSETTO:-0400
TZNAME:EDT
DTSTART:20210314T070000
END:DAYLIGHT
BEGIN:STANDARD
TZOFFSETFROM:-0400
TZOFFSETTO:-0500
TZNAME:EST
DTSTART:20211107T060000
END:STANDARD
BEGIN:DAYLIGHT
TZOFFSETFROM:-0500
TZOFFSETTO:-0400
TZNAME:EDT
DTSTART:20220313T070000
END:DAYLIGHT
BEGIN:STANDARD
TZOFFSETFROM:-0400
TZOFFSETTO:-0500
TZNAME:EST
DTSTART:20221106T060000
END:STANDARD
BEGIN:DAYLIGHT
TZOFFSETFROM:-0500
TZOFFSETTO:-0400
TZNAME:EDT
DTSTART:20230312T070000
END:DAYLIGHT
BEGIN:STANDARD
TZOFFSETFROM:-0400
TZOFFSETTO:-0500
TZNAME:EST
DTSTART:20231105T060000
END:STANDARD
END:VTIMEZONE
BEGIN:VEVENT
DTSTART;TZID=America/New_York:20220928T110000
DTEND;TZID=America/New_York:20220929T220000
DTSTAMP:20260423T203614
CREATED:20220927T221556Z
LAST-MODIFIED:20220927T222255Z
UID:605-1664362800-1664488800@dolphinsgrill.com
SUMMARY:Closing for Ian. Be safe all!
DESCRIPTION:Stay tuned for opening info for Friday. Post huricane party Saturday and Sunday!
URL:https://dolphinsgrill.com/event/closing-for-ian-be-safe-all/
LOCATION:Dolphins Waterfront Bar & Grill\, 310 Lagoon Way\, Merritt Island\, FL\, 32953\, United States
ATTACH;FMTTYPE=application/pdf:https://dolphinsgrill.com/wp-content/uploads/2022/09/ian.pdf
END:VEVENT
BEGIN:VEVENT
DTSTART;TZID=America/New_York:20220925T170000
DTEND;TZID=America/New_York:20220925T200000
DTSTAMP:20260423T203614
CREATED:20220822T190552Z
LAST-MODIFIED:20220822T190620Z
UID:541-1664125200-1664136000@dolphinsgrill.com
SUMMARY:Teddy V
DESCRIPTION:The Fullest One Man Band you’ve ever heard. I play along to it always with a Live Acoustic Guitar or Electric Guitar and a strong Lead Vocal. Classic Rock / Oldies / Trop-Rock / Smooth Jazz / R&B / Pop and Funk from the 50’s\, 60’s\, 70’s\, 80’s\, 90’s to Present Hits. Lots of Originals Too!
URL:https://dolphinsgrill.com/event/teddy-v-4/
LOCATION:Dolphins Waterfront Bar & Grill\, 310 Lagoon Way\, Merritt Island\, FL\, 32953\, United States
END:VEVENT
BEGIN:VEVENT
DTSTART;TZID=America/New_York:20220924T140000
DTEND;TZID=America/New_York:20220924T170000
DTSTAMP:20260423T203614
CREATED:20220819T191139Z
LAST-MODIFIED:20220819T191139Z
UID:530-1664028000-1664038800@dolphinsgrill.com
SUMMARY:Jake Salter
DESCRIPTION:Multifaceted Muscian and entertainer. Local Cocoa Beach Boy!
URL:https://dolphinsgrill.com/event/jake-salter/
LOCATION:Dolphins Waterfront Bar & Grill\, 310 Lagoon Way\, Merritt Island\, FL\, 32953\, United States
END:VEVENT
BEGIN:VEVENT
DTSTART;TZID=America/New_York:20220923T170000
DTEND;TZID=America/New_York:20220923T200000
DTSTAMP:20260423T203614
CREATED:20220819T190732Z
LAST-MODIFIED:20220819T190732Z
UID:528-1663952400-1663963200@dolphinsgrill.com
SUMMARY:Johnny Danger
DESCRIPTION:Johnny Danger Live is a solo guitarist\, singer\, and interactive entertainer with over twenty years of experience. JDL is also an accomplished songwriter and the most recent winner of the Runaway Country Music Festivals. Runaway Rockstar Competition. JDLs performances include a repertoire of over two thousand songs\, featuring a vast array of music from timeless classics to the current hits on the radio and online.
URL:https://dolphinsgrill.com/event/johnny-danger-2/
LOCATION:Dolphins Waterfront Bar & Grill\, 310 Lagoon Way\, Merritt Island\, FL\, 32953\, United States
END:VEVENT
BEGIN:VEVENT
DTSTART;TZID=America/New_York:20220918T160000
DTEND;TZID=America/New_York:20220918T190000
DTSTAMP:20260423T203614
CREATED:20220819T192850Z
LAST-MODIFIED:20220819T192850Z
UID:533-1663516800-1663527600@dolphinsgrill.com
SUMMARY:Joshua Keels
DESCRIPTION:Solo acoustic guitar with a chill unique style
URL:https://dolphinsgrill.com/event/joshua-keels/
LOCATION:Dolphins Waterfront Bar & Grill\, 310 Lagoon Way\, Merritt Island\, FL\, 32953\, United States
ATTACH;FMTTYPE=image/jpeg:https://dolphinsgrill.com/wp-content/uploads/2022/08/joshuakeels.jpeg
END:VEVENT
BEGIN:VEVENT
DTSTART;TZID=America/New_York:20220916T080000
DTEND;TZID=America/New_York:20220916T170000
DTSTAMP:20260423T203614
CREATED:20220819T190246Z
LAST-MODIFIED:20220819T191239Z
UID:525-1663315200-1663347600@dolphinsgrill.com
SUMMARY:Sax on the Beach
DESCRIPTION:A great duo for all occasions from dining to weddings.
URL:https://dolphinsgrill.com/event/sax-on-the-beach/
LOCATION:Dolphins Waterfront Bar & Grill\, 310 Lagoon Way\, Merritt Island\, FL\, 32953\, United States
ATTACH;FMTTYPE=image/jpeg:https://dolphinsgrill.com/wp-content/uploads/2022/08/sax-onthe-beach.jpeg
END:VEVENT
BEGIN:VEVENT
DTSTART;TZID=America/New_York:20220910T170000
DTEND;TZID=America/New_York:20220910T200000
DTSTAMP:20260423T203614
CREATED:20220819T185821Z
LAST-MODIFIED:20220819T185829Z
UID:520-1662829200-1662840000@dolphinsgrill.com
SUMMARY:Fundecided
DESCRIPTION:Live\, Fun\, Guitar\, Steel Drum and Marimba! Playing all your island favorites\, and MORE! The Tiki Band!
URL:https://dolphinsgrill.com/event/fundecided/
LOCATION:Dolphins Waterfront Bar & Grill\, 310 Lagoon Way\, Merritt Island\, FL\, 32953\, United States
ATTACH;FMTTYPE=image/jpeg:https://dolphinsgrill.com/wp-content/uploads/2022/08/fundecided.jpeg
END:VEVENT
BEGIN:VEVENT
DTSTART;TZID=America/New_York:20220909T170000
DTEND;TZID=America/New_York:20220909T200000
DTSTAMP:20260423T203614
CREATED:20220822T190420Z
LAST-MODIFIED:20220822T190420Z
UID:538-1662742800-1662753600@dolphinsgrill.com
SUMMARY:Captain Tom
DESCRIPTION:Captain Tom is a solo guitarist/singer that plays a classic selection of acoustic rock and folk music.
URL:https://dolphinsgrill.com/event/captain-tom/
LOCATION:Dolphins Waterfront Bar & Grill\, 310 Lagoon Way\, Merritt Island\, FL\, 32953\, United States
ATTACH;FMTTYPE=application/pdf:https://dolphinsgrill.com/wp-content/uploads/2022/08/CaptTom-GeorgeDragon78.pdf
END:VEVENT
BEGIN:VEVENT
DTSTART;TZID=America/New_York:20220904T160000
DTEND;TZID=America/New_York:20220904T190000
DTSTAMP:20260423T203614
CREATED:20220819T185015Z
LAST-MODIFIED:20220819T185015Z
UID:518-1662307200-1662318000@dolphinsgrill.com
SUMMARY:Key Change
DESCRIPTION:This acoustic duo – piano and vocals – features Shelly & Leslie from Bittersweet and the Divas\, sing
URL:https://dolphinsgrill.com/event/key-change-2/
LOCATION:Dolphins Waterfront Bar & Grill\, 310 Lagoon Way\, Merritt Island\, FL\, 32953\, United States
ATTACH;FMTTYPE=image/jpeg:https://dolphinsgrill.com/wp-content/uploads/2022/08/keychange.jpeg
END:VEVENT
BEGIN:VEVENT
DTSTART;TZID=America/New_York:20220903T170000
DTEND;TZID=America/New_York:20220903T200000
DTSTAMP:20260423T203614
CREATED:20220902T174611Z
LAST-MODIFIED:20220902T180040Z
UID:557-1662224400-1662235200@dolphinsgrill.com
SUMMARY:Jammin Joe
DESCRIPTION:Local beach musician Jammin Joe playing country\, Caribbean and wild time favorites.
URL:https://dolphinsgrill.com/event/jammin-joe/
LOCATION:FL
ATTACH;FMTTYPE=image/jpeg:https://dolphinsgrill.com/wp-content/uploads/2022/09/IMG_2449.jpeg
END:VEVENT
BEGIN:VEVENT
DTSTART;TZID=America/New_York:20220902T080000
DTEND;TZID=America/New_York:20220902T170000
DTSTAMP:20260423T203614
CREATED:20220902T175425Z
LAST-MODIFIED:20220902T175610Z
UID:559-1662105600-1662138000@dolphinsgrill.com
SUMMARY:TA Williams
DESCRIPTION:Come on out and check out TA Williams !
URL:https://dolphinsgrill.com/event/ta-williams/
LOCATION:FL
END:VEVENT
BEGIN:VEVENT
DTSTART;TZID=America/New_York:20220828T160000
DTEND;TZID=America/New_York:20220828T190000
DTSTAMP:20260423T203614
CREATED:20220803T194250Z
LAST-MODIFIED:20220818T171441Z
UID:501-1661702400-1661713200@dolphinsgrill.com
SUMMARY:Bill Cockrell
DESCRIPTION:Bill Cockrell is the king of trop rock. A multitalented musician\, that can play guitar\, banjo\, flute\, keyboards\, steel drums\, and more.
URL:https://dolphinsgrill.com/event/bill-cockrell/
LOCATION:Dolphins Waterfront Bar & Grill\, 310 Lagoon Way\, Merritt Island\, FL\, 32953\, United States
ATTACH;FMTTYPE=image/jpeg:https://dolphinsgrill.com/wp-content/uploads/2022/08/billC.jpeg
END:VEVENT
BEGIN:VEVENT
DTSTART;TZID=America/New_York:20220827T170000
DTEND;TZID=America/New_York:20220827T170000
DTSTAMP:20260423T203614
CREATED:20220805T172942Z
LAST-MODIFIED:20220818T171338Z
UID:504-1661619600-1661619600@dolphinsgrill.com
SUMMARY:Key Change
DESCRIPTION:This acoustic duo – piano and vocals – features Shelly & Leslie from Bittersweet and the Divas\, sing
URL:https://dolphinsgrill.com/event/key-change/
LOCATION:Dolphins Waterfront Bar & Grill\, 310 Lagoon Way\, Merritt Island\, FL\, 32953\, United States
ATTACH;FMTTYPE=image/jpeg:https://dolphinsgrill.com/wp-content/uploads/2022/08/keychange.jpeg
END:VEVENT
BEGIN:VEVENT
DTSTART;TZID=America/New_York:20220826T170000
DTEND;TZID=America/New_York:20220826T200000
DTSTAMP:20260423T203614
CREATED:20220802T140614Z
LAST-MODIFIED:20220802T141534Z
UID:461-1661533200-1661544000@dolphinsgrill.com
SUMMARY:Teddy V
DESCRIPTION:The Fullest One Man Band you’ve ever heard. I play along to it always with a Live Acoustic Guitar or Electric Guitar and a strong Lead Vocal. Classic Rock / Oldies / Trop-Rock / Smooth Jazz / R&B / Pop and Funk from the 50’s\, 60’s\, 70’s\, 80’s\, 90’s to Present Hits. Lots of Originals Too!
URL:https://dolphinsgrill.com/event/teddy-v-2/
LOCATION:Dolphins Waterfront Bar & Grill\, 310 Lagoon Way\, Merritt Island\, FL\, 32953\, United States
END:VEVENT
BEGIN:VEVENT
DTSTART;TZID=America/New_York:20220821T160000
DTEND;TZID=America/New_York:20220821T190000
DTSTAMP:20260423T203614
CREATED:20220803T193821Z
LAST-MODIFIED:20220818T171141Z
UID:499-1661097600-1661108400@dolphinsgrill.com
SUMMARY:Ravon Steely Rhoden
DESCRIPTION:Ravon is Producer\, Singer\, Steelpan\, Songwriter\, and super energetic performer of Island music!
URL:https://dolphinsgrill.com/event/ravon-steely-rhoden-3/
LOCATION:Dolphins Waterfront Bar & Grill\, 310 Lagoon Way\, Merritt Island\, FL\, 32953\, United States
ATTACH;FMTTYPE=image/jpeg:https://dolphinsgrill.com/wp-content/uploads/2022/08/ravon.jpeg
END:VEVENT
BEGIN:VEVENT
DTSTART;TZID=America/New_York:20220820T170000
DTEND;TZID=America/New_York:20220820T200000
DTSTAMP:20260423T203614
CREATED:20220803T193621Z
LAST-MODIFIED:20220818T171056Z
UID:495-1661014800-1661025600@dolphinsgrill.com
SUMMARY:Miranda Realino
DESCRIPTION:Miranda is a local Merritt Island singer songwriter. She plays guitar and keyboards and has techno talent in adding accompaniment and special effects.
URL:https://dolphinsgrill.com/event/miranda-realino/
LOCATION:Dolphins Waterfront Bar & Grill\, 310 Lagoon Way\, Merritt Island\, FL\, 32953\, United States
ATTACH;FMTTYPE=image/jpeg:https://dolphinsgrill.com/wp-content/uploads/2022/08/miranda.jpeg
END:VEVENT
BEGIN:VEVENT
DTSTART;TZID=America/New_York:20220819T170000
DTEND;TZID=America/New_York:20220819T200000
DTSTAMP:20260423T203614
CREATED:20220802T144502Z
LAST-MODIFIED:20220818T171016Z
UID:472-1660928400-1660939200@dolphinsgrill.com
SUMMARY:Johnny Danger
DESCRIPTION:Johnny Danger Live is a solo guitarist\, singer\, and interactive entertainer with over twenty years of experience. JDL is also an accomplished songwriter and the most recent winner of the Runaway Country Music Festivals. Runaway Rockstar Competition. JDLs performances include a repertoire of over two thousand songs\, featuring a vast array of music from timeless classics to the current hits on the radio and online.
URL:https://dolphinsgrill.com/event/johnny-danger-3/
LOCATION:Dolphins Waterfront Bar & Grill\, 310 Lagoon Way\, Merritt Island\, FL\, 32953\, United States
END:VEVENT
BEGIN:VEVENT
DTSTART;TZID=America/New_York:20220813T140000
DTEND;TZID=America/New_York:20220813T170000
DTSTAMP:20260423T203614
CREATED:20220802T142503Z
LAST-MODIFIED:20220802T142831Z
UID:463-1660399200-1660410000@dolphinsgrill.com
SUMMARY:Teddy V
DESCRIPTION:The Fullest One Man Band you’ve ever heard. I play along to it always with a Live Acoustic Guitar or Electric Guitar and a strong Lead Vocal. Classic Rock / Oldies / Trop-Rock / Smooth Jazz / R&B / Pop and Funk from the 50’s\, 60’s\, 70’s\, 80’s\, 90’s to Present Hits. Lots of Originals Too!
URL:https://dolphinsgrill.com/event/teddy-v-3/
LOCATION:Dolphins Waterfront Bar & Grill\, 310 Lagoon Way\, Merritt Island\, FL\, 32953\, United States
END:VEVENT
BEGIN:VEVENT
DTSTART;TZID=America/New_York:20220812T170000
DTEND;TZID=America/New_York:20220812T200000
DTSTAMP:20260423T203614
CREATED:20220803T192532Z
LAST-MODIFIED:20220803T192635Z
UID:492-1660323600-1660334400@dolphinsgrill.com
SUMMARY:Ravon Steely Rhoden
DESCRIPTION:Ravon is Producer\, Singer\, Steelpan\, Songwriter\, and super energetic performer of Island music!
URL:https://dolphinsgrill.com/event/ravon-steely-rhoden-2/
LOCATION:FL
ATTACH;FMTTYPE=image/jpeg:https://dolphinsgrill.com/wp-content/uploads/2022/08/ravon.jpeg
END:VEVENT
BEGIN:VEVENT
DTSTART;TZID=America/New_York:20220807T020000
DTEND;TZID=America/New_York:20220807T170000
DTSTAMP:20260423T203614
CREATED:20220802T143550Z
LAST-MODIFIED:20220802T143550Z
UID:466-1659837600-1659891600@dolphinsgrill.com
SUMMARY:Johnny Danger
DESCRIPTION:Johnny Danger Live is a solo guitarist\, singer\, and interactive entertainer with over twenty years of experience. JDL is also an accomplished songwriter and the most recent winner of the Runaway Country Music Festivals. Runaway Rockstar Competition. JDLs performances include a repertoire of over two thousand songs\, featuring a vast array of music from timeless classics to the current hits on the radio and online.
URL:https://dolphinsgrill.com/event/johnny-danger/
LOCATION:Dolphins Waterfront Bar & Grill\, 310 Lagoon Way\, Merritt Island\, FL\, 32953\, United States
ATTACH;FMTTYPE=image/jpeg:https://dolphinsgrill.com/wp-content/uploads/2022/08/jpg5BPtbx679.jpg
END:VEVENT
BEGIN:VEVENT
DTSTART;TZID=America/New_York:20220806T170000
DTEND;TZID=America/New_York:20220806T200000
DTSTAMP:20260423T203614
CREATED:20220803T191830Z
LAST-MODIFIED:20220803T191830Z
UID:490-1659805200-1659816000@dolphinsgrill.com
SUMMARY:Russ Jones
DESCRIPTION:Russ Jones from Fundecided\, has a unique Island trop rock sound.
URL:https://dolphinsgrill.com/event/russ-jones/
LOCATION:FL
END:VEVENT
BEGIN:VEVENT
DTSTART;TZID=America/New_York:20220805T170000
DTEND;TZID=America/New_York:20220805T200000
DTSTAMP:20260423T203614
CREATED:20220803T191410Z
LAST-MODIFIED:20220803T191410Z
UID:485-1659718800-1659729600@dolphinsgrill.com
SUMMARY:Cobalt Blue
DESCRIPTION:An acoustic take on lots of great songs\, Americana and originals
URL:https://dolphinsgrill.com/event/cobalt-blue/
LOCATION:Dolphins Waterfront Bar & Grill\, 310 Lagoon Way\, Merritt Island\, FL\, 32953\, United States
ATTACH;FMTTYPE=image/jpeg:https://dolphinsgrill.com/wp-content/uploads/2022/08/293754753_162114906329139_2195104755745934622_n.jpeg
END:VEVENT
BEGIN:VEVENT
DTSTART;TZID=America/New_York:20220731T140000
DTEND;TZID=America/New_York:20220731T170000
DTSTAMP:20260423T203614
CREATED:20220729T182839Z
LAST-MODIFIED:20220729T184132Z
UID:449-1659276000-1659286800@dolphinsgrill.com
SUMMARY:Ravon Steely Rhoden
DESCRIPTION:Ravon Rhoden has established himself as one of the most innovative and vital voices in modern reggae. Born and raised in Montego Bay\, Jamaica\, his music pays tribute to legends like Bob Marley and Dennis Brown while pushing the genre into bold new territory.
URL:https://dolphinsgrill.com/event/ravon-steely-rhoden/
LOCATION:Dolphins Waterfront Bar & Grill\, 310 Lagoon Way\, Merritt Island\, FL\, 32953\, United States
ATTACH;FMTTYPE=image/webp:https://dolphinsgrill.com/wp-content/uploads/2022/07/20170312073036_IMG_1487_JPG.webp
END:VEVENT
BEGIN:VEVENT
DTSTART;TZID=America/New_York:20220730T170000
DTEND;TZID=America/New_York:20220730T200000
DTSTAMP:20260423T203614
CREATED:20220729T182250Z
LAST-MODIFIED:20220729T184101Z
UID:446-1659200400-1659211200@dolphinsgrill.com
SUMMARY:Carlos Carr
DESCRIPTION:Carlos Carr is a singer with extensive experience in the business with 15 #1 songs in his native country of Chile\, his own television show in Argentina\, performances in Las Vegas\, Atlantic City\, and other locations across the world! He has a repertoire of 40 of the most famous Frank Sinatra Songs.
URL:https://dolphinsgrill.com/event/carlos-carr/
LOCATION:Dolphins Waterfront Bar & Grill\, 310 Lagoon Way\, Merritt Island\, FL\, 32953\, United States
END:VEVENT
BEGIN:VEVENT
DTSTART;TZID=America/New_York:20220729T160000
DTEND;TZID=America/New_York:20220729T190000
DTSTAMP:20260423T203614
CREATED:20220728T214127Z
LAST-MODIFIED:20220729T183226Z
UID:426-1659110400-1659121200@dolphinsgrill.com
SUMMARY:Teddy V
DESCRIPTION:The Fullest One Man Band you’ve ever heard. I play along to it always with a Live Acoustic Guitar or Electric Guitar and a strong Lead Vocal. Classic Rock / Oldies / Trop-Rock / Smooth Jazz / R&B / Pop and Funk from the 50’s\, 60’s\, 70’s\, 80’s\, 90’s to Present Hits. Lots of Originals Too!
URL:https://dolphinsgrill.com/event/teddy-v/
LOCATION:Dolphins Waterfront Bar & Grill\, 310 Lagoon Way\, Merritt Island\, FL\, 32953\, United States
END:VEVENT
END:VCALENDAR