BEGIN:VCALENDAR
VERSION:2.0
PRODID:-//Dolphins Waterfront Bar &amp; Grill - ECPv6.15.20//NONSGML v1.0//EN
CALSCALE:GREGORIAN
METHOD:PUBLISH
X-WR-CALNAME:Dolphins Waterfront Bar &amp; Grill
X-ORIGINAL-URL:https://dolphinsgrill.com
X-WR-CALDESC:Events for Dolphins Waterfront Bar &amp; Grill
REFRESH-INTERVAL;VALUE=DURATION:PT1H
X-Robots-Tag:noindex
X-PUBLISHED-TTL:PT1H
BEGIN:VTIMEZONE
TZID:America/New_York
BEGIN:DAYLIGHT
TZOFFSETFROM:-0500
TZOFFSETTO:-0400
TZNAME:EDT
DTSTART:20240310T070000
END:DAYLIGHT
BEGIN:STANDARD
TZOFFSETFROM:-0400
TZOFFSETTO:-0500
TZNAME:EST
DTSTART:20241103T060000
END:STANDARD
BEGIN:DAYLIGHT
TZOFFSETFROM:-0500
TZOFFSETTO:-0400
TZNAME:EDT
DTSTART:20250309T070000
END:DAYLIGHT
BEGIN:STANDARD
TZOFFSETFROM:-0400
TZOFFSETTO:-0500
TZNAME:EST
DTSTART:20251102T060000
END:STANDARD
BEGIN:DAYLIGHT
TZOFFSETFROM:-0500
TZOFFSETTO:-0400
TZNAME:EDT
DTSTART:20260308T070000
END:DAYLIGHT
BEGIN:STANDARD
TZOFFSETFROM:-0400
TZOFFSETTO:-0500
TZNAME:EST
DTSTART:20261101T060000
END:STANDARD
END:VTIMEZONE
BEGIN:VEVENT
DTSTART;TZID=America/New_York:20251206T170000
DTEND;TZID=America/New_York:20251206T200000
DTSTAMP:20260423T201809
CREATED:20240517T181614Z
LAST-MODIFIED:20251121T210831Z
UID:1743-1765040400-1765051200@dolphinsgrill.com
SUMMARY:Fond Kiser
DESCRIPTION:Fond Kiser is St. Augustine’s spectacular multi-talented musician who is known for his phenomenal songwriting narration\, his expansive musical knowledge\, and his heartfelt lyrical poetry
URL:https://dolphinsgrill.com/event/fond-kiser-2/
LOCATION:Dolphins Waterfront Bar & Grill\, 310 Lagoon Way\, Merritt Island\, FL\, 32953\, United States
ATTACH;FMTTYPE=image/jpeg:https://dolphinsgrill.com/wp-content/uploads/2024/01/fondkiser.jpg
END:VEVENT
BEGIN:VEVENT
DTSTART;TZID=America/New_York:20251205T170000
DTEND;TZID=America/New_York:20251205T200000
DTSTAMP:20260423T201809
CREATED:20250205T195341Z
LAST-MODIFIED:20251121T210751Z
UID:2023-1764954000-1764964800@dolphinsgrill.com
SUMMARY:The Syndicate Duo
DESCRIPTION:Brevard based variety music duo. Rock\, Reggae\, Country\, Hip Hop\, and more…family friendly.
URL:https://dolphinsgrill.com/event/the-syndicate-duo-17/
LOCATION:Dolphins Waterfront Bar & Grill\, 310 Lagoon Way\, Merritt Island\, FL\, 32953\, United States
ATTACH;FMTTYPE=application/pdf:https://dolphinsgrill.com/wp-content/uploads/2022/12/syndicate-1.pdf
END:VEVENT
BEGIN:VEVENT
DTSTART;TZID=America/New_York:20251130T170000
DTEND;TZID=America/New_York:20251130T200000
DTSTAMP:20260423T201809
CREATED:20250811T175255Z
LAST-MODIFIED:20251103T175922Z
UID:2276-1764522000-1764532800@dolphinsgrill.com
SUMMARY:Corey Kipps
DESCRIPTION:Come on out for the energetic vibe of Corey Kipps!
URL:https://dolphinsgrill.com/event/corey-kipps/
LOCATION:Dolphins Waterfront Bar & Grill\, 310 Lagoon Way\, Merritt Island\, FL\, 32953\, United States
ATTACH;FMTTYPE=image/jpeg:https://dolphinsgrill.com/wp-content/uploads/2025/08/Corey-Kipps-1.jpeg
END:VEVENT
BEGIN:VEVENT
DTSTART;TZID=America/New_York:20251128T170000
DTEND;TZID=America/New_York:20251128T200000
DTSTAMP:20260423T201809
CREATED:20240530T195935Z
LAST-MODIFIED:20251103T180001Z
UID:1760-1764349200-1764360000@dolphinsgrill.com
SUMMARY:Ravon Steely Roden
DESCRIPTION:Come enjoy the Island life with Steely Roden! Ravon is Producer\, Singer\, Steelpan\, Songwriter\, and super energetic performer of Island music! You are not going to want to miss his Reggaebeat!
URL:https://dolphinsgrill.com/event/ravon-steely-roden-16/
LOCATION:Dolphins Waterfront Bar & Grill\, 310 Lagoon Way\, Merritt Island\, FL\, 32953\, United States
ATTACH;FMTTYPE=image/jpeg:https://dolphinsgrill.com/wp-content/uploads/2022/08/ravon.jpeg
END:VEVENT
BEGIN:VEVENT
DTSTART;TZID=America/New_York:20251117T110000
DTEND;TZID=America/New_York:20251117T220000
DTSTAMP:20260423T201809
CREATED:20221212T133440Z
LAST-MODIFIED:20251103T175412Z
UID:767-1763377200-1763416800@dolphinsgrill.com
SUMMARY:Toys For Tots
DESCRIPTION:Join us November 17th 12:00-1:00 with 98.5. Habitat for Humanity and Central Florida Dust Free remodeling. Bring in a new unopened and unwrapped toy. There will be some great raffles!
URL:https://dolphinsgrill.com/event/toys-for-tots/
LOCATION:Dolphins Waterfront Bar & Grill\, 310 Lagoon Way\, Merritt Island\, FL\, 32953\, United States
ATTACH;FMTTYPE=image/jpeg:https://dolphinsgrill.com/wp-content/uploads/2022/12/IMG_6740.jpg
END:VEVENT
BEGIN:VEVENT
DTSTART;TZID=America/New_York:20251115T170000
DTEND;TZID=America/New_York:20251115T200000
DTSTAMP:20260423T201809
CREATED:20250609T184810Z
LAST-MODIFIED:20251103T174552Z
UID:2188-1763226000-1763236800@dolphinsgrill.com
SUMMARY:Anna. Delgado Band
DESCRIPTION:Catch the good vibes with the Anna Delgado Band and the sound of all your favorite songs!
URL:https://dolphinsgrill.com/event/anna-delgado-band-7/
LOCATION:Dolphins Waterfront Bar & Grill\, 310 Lagoon Way\, Merritt Island\, FL\, 32953\, United States
ATTACH;FMTTYPE=image/jpeg:https://dolphinsgrill.com/wp-content/uploads/2024/06/Band022524wRich.jpeg
END:VEVENT
BEGIN:VEVENT
DTSTART;TZID=America/New_York:20251019T160000
DTEND;TZID=America/New_York:20251019T190000
DTSTAMP:20260423T201809
CREATED:20240314T180249Z
LAST-MODIFIED:20250926T163100Z
UID:1657-1760889600-1760900400@dolphinsgrill.com
SUMMARY:Miranda Realino
DESCRIPTION:Miranda Realino is back!!  Miranda is a local Merritt Island singer songwriter. She plays guitar and keyboards and has techno talent in adding accompaniment and special effects.
URL:https://dolphinsgrill.com/event/miranda-realino-8/
LOCATION:Dolphins Waterfront Bar & Grill\, 310 Lagoon Way\, Merritt Island\, FL\, 32953\, United States
ATTACH;FMTTYPE=image/jpeg:https://dolphinsgrill.com/wp-content/uploads/2022/12/miranda.jpeg
END:VEVENT
BEGIN:VEVENT
DTSTART;TZID=America/New_York:20251018T170000
DTEND;TZID=America/New_York:20251018T200000
DTSTAMP:20260423T201809
CREATED:20240823T190743Z
LAST-MODIFIED:20251017T173248Z
UID:1858-1760806800-1760817600@dolphinsgrill.com
SUMMARY:Johnny Danger
DESCRIPTION:Come on out Saturday night for Johnny Danger Live! \nJohnny Danger Live is a solo guitarist\, singer\, and interactive entertainer with over twenty years of experience. JDL is also an accomplished songwriter and the most recent winner of the Runaway Country Music Festivals. Runaway Rockstar Competition. JDLs performances include a repertoire of over two thousand songs\, featuring a vast array of music from timeless classics to the current hits on the radio and online.
URL:https://dolphinsgrill.com/event/johnny-danger-21/
LOCATION:Dolphins Waterfront Bar & Grill\, 310 Lagoon Way\, Merritt Island\, FL\, 32953\, United States
ATTACH;FMTTYPE=image/jpeg:https://dolphinsgrill.com/wp-content/uploads/2022/08/jpg5BPtbx679.jpg
END:VEVENT
BEGIN:VEVENT
DTSTART;TZID=America/New_York:20251017T170000
DTEND;TZID=America/New_York:20251017T200000
DTSTAMP:20260423T201809
CREATED:20221004T163200Z
LAST-MODIFIED:20250926T162904Z
UID:633-1760720400-1760731200@dolphinsgrill.com
SUMMARY:Alexander James
DESCRIPTION:Alexander James is a soulful\, very young crooner\, new to the east coast of Florida\, hailing from the outer banks of NC. Alexander offers a variety of genres. His performance offers something for every listener with Familia favorites\, new hits\, and classic oldies. Don’t miss his outstanding and distinguished performance!
URL:https://dolphinsgrill.com/event/alexander-james/
LOCATION:Dolphins Waterfront Bar & Grill\, 310 Lagoon Way\, Merritt Island\, FL\, 32953\, United States
ATTACH;FMTTYPE=application/pdf:https://dolphinsgrill.com/wp-content/uploads/2022/10/alexjames.pdf
END:VEVENT
BEGIN:VEVENT
DTSTART;TZID=America/New_York:20250922T170000
DTEND;TZID=America/New_York:20250922T200000
DTSTAMP:20260423T201809
CREATED:20240910T183903Z
LAST-MODIFIED:20250904T190254Z
UID:1905-1758560400-1758571200@dolphinsgrill.com
SUMMARY:TruPhonic
DESCRIPTION:3rd Annual Rock the Dock\, Sunday wrap up is local favorite TruPhonic.
URL:https://dolphinsgrill.com/event/truphonic-2/
LOCATION:Dolphins Waterfront Bar & Grill\, 310 Lagoon Way\, Merritt Island\, FL\, 32953\, United States
ATTACH;FMTTYPE=application/pdf:https://dolphinsgrill.com/wp-content/uploads/2023/09/TRuPhonic.pdf
END:VEVENT
BEGIN:VEVENT
DTSTART;TZID=America/New_York:20250921T130000
DTEND;TZID=America/New_York:20250921T160000
DTSTAMP:20260423T201809
CREATED:20250701T200107Z
LAST-MODIFIED:20250903T190257Z
UID:2215-1758459600-1758470400@dolphinsgrill.com
SUMMARY:Saylor and the Captains
DESCRIPTION:Come out for the 3rd Annual Rock the Dock with Taylor and the Captains\, a young up and coming rock band.
URL:https://dolphinsgrill.com/event/saylor-and-the-captains/
LOCATION:Dolphins Waterfront Bar & Grill\, 310 Lagoon Way\, Merritt Island\, FL\, 32953\, United States
ATTACH;FMTTYPE=image/jpeg:https://dolphinsgrill.com/wp-content/uploads/2025/07/IMG_1698.jpeg
END:VEVENT
BEGIN:VEVENT
DTSTART;TZID=America/New_York:20250920T130000
DTEND;TZID=America/New_York:20250920T160000
DTSTAMP:20260423T201809
CREATED:20240910T183112Z
LAST-MODIFIED:20250903T190057Z
UID:1899-1758373200-1758384000@dolphinsgrill.com
SUMMARY:Aquaholics
DESCRIPTION:3rd Annual Rock the Dock  Saturday Kick off with Aquaholics chill trop rock vibe.
URL:https://dolphinsgrill.com/event/aquaholics/
LOCATION:FL
ATTACH;FMTTYPE=image/png:https://dolphinsgrill.com/wp-content/uploads/2024/09/Aquaholics-Band-Logo-3-1.png
END:VEVENT
BEGIN:VEVENT
DTSTART;TZID=America/New_York:20250919T160000
DTEND;TZID=America/New_York:20250921T200000
DTSTAMP:20260423T201809
CREATED:20240910T180822Z
LAST-MODIFIED:20250904T190331Z
UID:1888-1758297600-1758484800@dolphinsgrill.com
SUMMARY:3rd Annual Rock the Dock
DESCRIPTION:Live music starting September 19 6:00 – September 21 until 8:00 PM \nFeaturing : Friday: Spice Pink 5-8 \nSaturday: Aquaholics 1-4 \nAnna Delgado Band – 5-8 \nSunday:   Taylor and the Captains 1-4 \nTruPhonics 5-8 \n 
URL:https://dolphinsgrill.com/event/2nd-annual-rock-the-dock/
LOCATION:FL
ATTACH;FMTTYPE=image/jpeg:https://dolphinsgrill.com/wp-content/uploads/2024/09/RockDokslider24.jpg
END:VEVENT
BEGIN:VEVENT
DTSTART;TZID=America/New_York:20250810T130000
DTEND;TZID=America/New_York:20250810T160000
DTSTAMP:20260423T201809
CREATED:20220927T172722Z
LAST-MODIFIED:20250723T202719Z
UID:600-1754830800-1754841600@dolphinsgrill.com
SUMMARY:Back to School Luau
DESCRIPTION:Join us again for our annual Luau to celebrate back to school! We are having a  pig roast\,  Polynesian dancers and percussion!
URL:https://dolphinsgrill.com/event/luau-on-the-lagoon-and-halloween-party/
LOCATION:Dolphins Waterfront Bar & Grill\, 310 Lagoon Way\, Merritt Island\, FL\, 32953\, United States
ATTACH;FMTTYPE=image/jpeg:https://dolphinsgrill.com/wp-content/uploads/2022/09/Luau-1.jpeg
END:VEVENT
BEGIN:VEVENT
DTSTART;TZID=America/New_York:20250725T170000
DTEND;TZID=America/New_York:20250725T200000
DTSTAMP:20260423T201809
CREATED:20250723T202146Z
LAST-MODIFIED:20250723T203916Z
UID:2255-1753462800-1753473600@dolphinsgrill.com
SUMMARY:Honey Miller
DESCRIPTION:Come out for the debut of Honey Miller . We think you will really  love his chill beat!
URL:https://dolphinsgrill.com/event/honey-miller/
LOCATION:Dolphins Waterfront Bar & Grill\, 310 Lagoon Way\, Merritt Island\, FL\, 32953\, United States
ATTACH;FMTTYPE=image/jpeg:https://dolphinsgrill.com/wp-content/uploads/2025/07/honeymiller.jpg
END:VEVENT
BEGIN:VEVENT
DTSTART;TZID=America/New_York:20250705T170000
DTEND;TZID=America/New_York:20250705T200000
DTSTAMP:20260423T201809
CREATED:20250701T190405Z
LAST-MODIFIED:20250701T190405Z
UID:2211-1751734800-1751745600@dolphinsgrill.com
SUMMARY:Different Strings
DESCRIPTION:Come out for the Dolphin’s debut of Different Strings this Saturday night. We think you are going to like the rock and roll and country mix.
URL:https://dolphinsgrill.com/event/different-strings/
LOCATION:Dolphins Waterfront Bar & Grill\, 310 Lagoon Way\, Merritt Island\, FL\, 32953\, United States
ATTACH;FMTTYPE=image/png:https://dolphinsgrill.com/wp-content/uploads/2025/07/IMG_4376-scaled.png
END:VEVENT
BEGIN:VEVENT
DTSTART;TZID=America/New_York:20250629T160000
DTEND;TZID=America/New_York:20250629T190000
DTSTAMP:20260423T201809
CREATED:20240530T200034Z
LAST-MODIFIED:20250521T175240Z
UID:1762-1751212800-1751223600@dolphinsgrill.com
SUMMARY:Captain Tom
DESCRIPTION:Captain Tom is a solo guitarist/singer that plays a classic selection of acoustic rock and folk music.
URL:https://dolphinsgrill.com/event/captain-tom-13/
LOCATION:Dolphins Waterfront Bar & Grill\, 310 Lagoon Way\, Merritt Island\, FL\, 32953\, United States
ATTACH;FMTTYPE=application/pdf:https://dolphinsgrill.com/wp-content/uploads/2022/12/CaptTom-GeorgeDragon78.pdf
END:VEVENT
BEGIN:VEVENT
DTSTART;TZID=America/New_York:20250627T170000
DTEND;TZID=America/New_York:20250627T200000
DTSTAMP:20260423T201809
CREATED:20250205T200451Z
LAST-MODIFIED:20250521T175133Z
UID:2035-1751043600-1751054400@dolphinsgrill.com
SUMMARY:Redfish Rich
DESCRIPTION:Rich spent the last 8 years as a full time musician in Saint Augustine Fl.  He has played at places like The Milltop\, Mi Casa\, Salt Life\, The Conch House and many more. He is now back to his roots in Titusville. Rich worked on the Space Shuttle and played music at many local Spacecoast venues and now is a regular at Dolphins! \n 
URL:https://dolphinsgrill.com/event/redfish-rich-9/
LOCATION:Dolphins Waterfront Bar & Grill\, 310 Lagoon Way\, Merritt Island\, FL\, 32953\, United States
ATTACH;FMTTYPE=image/webp:https://dolphinsgrill.com/wp-content/uploads/2022/12/redfishrich.webp
END:VEVENT
BEGIN:VEVENT
DTSTART;TZID=America/New_York:20250622T160000
DTEND;TZID=America/New_York:20250622T190000
DTSTAMP:20260423T201809
CREATED:20250416T114710Z
LAST-MODIFIED:20250521T175103Z
UID:2085-1750608000-1750618800@dolphinsgrill.com
SUMMARY:Jason Dumolot
DESCRIPTION:Join Jason to chill and relax to the Island vibe.
URL:https://dolphinsgrill.com/event/jason-dumolot-2/
LOCATION:Dolphins Waterfront Bar & Grill\, 310 Lagoon Way\, Merritt Island\, FL\, 32953\, United States
ATTACH;FMTTYPE=image/jpeg:https://dolphinsgrill.com/wp-content/uploads/2024/07/IMG_1570.jpg
END:VEVENT
BEGIN:VEVENT
DTSTART;TZID=America/New_York:20250621T170000
DTEND;TZID=America/New_York:20250621T200000
DTSTAMP:20260423T201809
CREATED:20250416T114829Z
LAST-MODIFIED:20250521T175030Z
UID:2089-1750525200-1750536000@dolphinsgrill.com
SUMMARY:Anna. Delgado Band
DESCRIPTION:Catch the good vibes with the Anna Delgado Band and the sound of all your favorite songs!
URL:https://dolphinsgrill.com/event/anna-delgado-band-6/
LOCATION:Dolphins Waterfront Bar & Grill\, 310 Lagoon Way\, Merritt Island\, FL\, 32953\, United States
ATTACH;FMTTYPE=image/jpeg:https://dolphinsgrill.com/wp-content/uploads/2024/06/Band022524wRich.jpeg
END:VEVENT
BEGIN:VEVENT
DTSTART;TZID=America/New_York:20250614T170000
DTEND;TZID=America/New_York:20250614T200000
DTSTAMP:20260423T201809
CREATED:20250205T195451Z
LAST-MODIFIED:20250521T174907Z
UID:2025-1749920400-1749931200@dolphinsgrill.com
SUMMARY:Joshua Keels
DESCRIPTION:Come relax and enjoy Joshua Keels and his acoustic guitar. The vibe is sure to set the tone for a great night.
URL:https://dolphinsgrill.com/event/joshua-keels-22/
LOCATION:Dolphins Waterfront Bar & Grill\, 310 Lagoon Way\, Merritt Island\, FL\, 32953\, United States
ATTACH;FMTTYPE=image/jpeg:https://dolphinsgrill.com/wp-content/uploads/2022/08/joshuakeels.jpeg
END:VEVENT
BEGIN:VEVENT
DTSTART;TZID=America/New_York:20250531T170000
DTEND;TZID=America/New_York:20250531T200000
DTSTAMP:20260423T201809
CREATED:20250205T195531Z
LAST-MODIFIED:20250521T174548Z
UID:2027-1748710800-1748721600@dolphinsgrill.com
SUMMARY:Keano B
DESCRIPTION:Come enjoy the musical stylings of Keano B here at Dolphins for Mothers Day!
URL:https://dolphinsgrill.com/event/bill-cockrell-3/
LOCATION:Dolphins Waterfront Bar & Grill\, 310 Lagoon Way\, Merritt Island\, FL\, 32953\, United States
ATTACH;FMTTYPE=image/jpeg:https://dolphinsgrill.com/wp-content/uploads/2025/02/IMG_4055-scaled.jpg
END:VEVENT
BEGIN:VEVENT
DTSTART;TZID=America/New_York:20250530T160000
DTEND;TZID=America/New_York:20250530T190000
DTSTAMP:20260423T201809
CREATED:20250521T175510Z
LAST-MODIFIED:20250521T175510Z
UID:2160-1748620800-1748631600@dolphinsgrill.com
SUMMARY:Captain Tom
DESCRIPTION:Captain Tom is a solo guitarist/singer that plays a classic selection of acoustic rock and folk music.
URL:https://dolphinsgrill.com/event/captain-tom-14/
LOCATION:Dolphins Waterfront Bar & Grill\, 310 Lagoon Way\, Merritt Island\, FL\, 32953\, United States
ATTACH;FMTTYPE=application/pdf:https://dolphinsgrill.com/wp-content/uploads/2022/12/CaptTom-GeorgeDragon78.pdf
END:VEVENT
BEGIN:VEVENT
DTSTART;TZID=America/New_York:20250525T160000
DTEND;TZID=America/New_York:20250525T190000
DTSTAMP:20260423T201809
CREATED:20250123T205917Z
LAST-MODIFIED:20250417T164248Z
UID:2018-1748188800-1748199600@dolphinsgrill.com
SUMMARY:John MacDonald Duo
DESCRIPTION:Come out for the chill tropical vibe of the John MacDonal Duo Premier!
URL:https://dolphinsgrill.com/event/john-macdonald-duo/
LOCATION:Dolphins Waterfront Bar & Grill\, 310 Lagoon Way\, Merritt Island\, FL\, 32953\, United States
ATTACH;FMTTYPE=application/pdf:https://dolphinsgrill.com/wp-content/uploads/2025/01/JohnMac.pdf
END:VEVENT
BEGIN:VEVENT
DTSTART;TZID=America/New_York:20250511T150000
DTEND;TZID=America/New_York:20250511T180000
DTSTAMP:20260423T201809
CREATED:20250205T195757Z
LAST-MODIFIED:20250502T203126Z
UID:2031-1746975600-1746986400@dolphinsgrill.com
SUMMARY:The Bisquit
DESCRIPTION:We have a Mother’s Day debut for The Bisquit. Nothing but mellow vibes and great tunes. See you here!!
URL:https://dolphinsgrill.com/event/salt-and-pepper-12/
LOCATION:Dolphins Waterfront Bar & Grill\, 310 Lagoon Way\, Merritt Island\, FL\, 32953\, United States
ATTACH;FMTTYPE=image/jpeg:https://dolphinsgrill.com/wp-content/uploads/2025/02/image000001.jpeg
END:VEVENT
BEGIN:VEVENT
DTSTART;TZID=America/New_York:20250511T100000
DTEND;TZID=America/New_York:20250511T200000
DTSTAMP:20260423T201809
CREATED:20240708T180022Z
LAST-MODIFIED:20250504T175143Z
UID:1815-1746957600-1746993600@dolphinsgrill.com
SUMMARY:Mother's day brunch 10AM-2PM/ Buffet from 10AM-8PM
DESCRIPTION:Come celebrate your moms here on the water with Dolphins! We are offering a special menu just for Mother’s day. Ask about our drink specials. Buffet will be $35 per person and $15 Per children under 12 years old. Eat\, drink\, chill\, repeat…..
URL:https://dolphinsgrill.com/event/indian-river-band-9/
LOCATION:Dolphins Waterfront Bar & Grill\, 310 Lagoon Way\, Merritt Island\, FL\, 32953\, United States
ATTACH;FMTTYPE=image/jpeg:https://dolphinsgrill.com/wp-content/uploads/2024/07/Mothersday2025-1-scaled.jpg
END:VEVENT
BEGIN:VEVENT
DTSTART;TZID=America/New_York:20250425T170000
DTEND;TZID=America/New_York:20250425T200000
DTSTAMP:20260423T201809
CREATED:20250326T151130Z
LAST-MODIFIED:20250326T151150Z
UID:2079-1745600400-1745611200@dolphinsgrill.com
SUMMARY:Anna. Delgado Band
DESCRIPTION:Catch the good vibes with the Anna Delgado Band and the sound of all your favorite songs!
URL:https://dolphinsgrill.com/event/anna-delgado-band-5/
LOCATION:Dolphins Waterfront Bar & Grill\, 310 Lagoon Way\, Merritt Island\, FL\, 32953\, United States
ATTACH;FMTTYPE=image/jpeg:https://dolphinsgrill.com/wp-content/uploads/2024/06/Band022524wRich.jpeg
END:VEVENT
BEGIN:VEVENT
DTSTART;TZID=America/New_York:20250420T130000
DTEND;TZID=America/New_York:20250420T160000
DTSTAMP:20260423T201809
CREATED:20241031T145251Z
LAST-MODIFIED:20250417T201531Z
UID:1941-1745154000-1745164800@dolphinsgrill.com
SUMMARY:Keano B
DESCRIPTION:Come enjoy Keano B live playing the guitar and singing sweet vocals.
URL:https://dolphinsgrill.com/event/keano-b/
LOCATION:FL
ATTACH;FMTTYPE=image/jpeg:https://dolphinsgrill.com/wp-content/uploads/2024/10/IMG_2313.jpeg
END:VEVENT
BEGIN:VEVENT
DTSTART;TZID=America/New_York:20250404T170000
DTEND;TZID=America/New_York:20250404T200000
DTSTAMP:20260423T201809
CREATED:20250313T200036Z
LAST-MODIFIED:20250313T200036Z
UID:2074-1743786000-1743796800@dolphinsgrill.com
SUMMARY:The Syndicate Duo
DESCRIPTION:Brevard based variety music duo. Rock\, Reggae\, Country\, Hip Hop\, and more…family friendly.
URL:https://dolphinsgrill.com/event/the-syndicate-duo-18/
LOCATION:Dolphins Waterfront Bar & Grill\, 310 Lagoon Way\, Merritt Island\, FL\, 32953\, United States
ATTACH;FMTTYPE=application/pdf:https://dolphinsgrill.com/wp-content/uploads/2022/12/syndicate-1.pdf
END:VEVENT
BEGIN:VEVENT
DTSTART;TZID=America/New_York:20250328T170000
DTEND;TZID=America/New_York:20250328T200000
DTSTAMP:20260423T201809
CREATED:20250205T200526Z
LAST-MODIFIED:20250205T200526Z
UID:2037-1743181200-1743192000@dolphinsgrill.com
SUMMARY:Anna. Delgado Band
DESCRIPTION:Catch the good vibes with the Anna Delgado Band and the sound of all your favorite songs!
URL:https://dolphinsgrill.com/event/anna-delgado-band-4/
LOCATION:Dolphins Waterfront Bar & Grill\, 310 Lagoon Way\, Merritt Island\, FL\, 32953\, United States
ATTACH;FMTTYPE=image/jpeg:https://dolphinsgrill.com/wp-content/uploads/2024/06/Band022524wRich.jpeg
END:VEVENT
END:VCALENDAR