BEGIN:VCALENDAR
VERSION:2.0
PRODID:-//Dolphins Waterfront Bar &amp; Grill - ECPv6.15.20//NONSGML v1.0//EN
CALSCALE:GREGORIAN
METHOD:PUBLISH
X-WR-CALNAME:Dolphins Waterfront Bar &amp; Grill
X-ORIGINAL-URL:https://dolphinsgrill.com
X-WR-CALDESC:Events for Dolphins Waterfront Bar &amp; Grill
REFRESH-INTERVAL;VALUE=DURATION:PT1H
X-Robots-Tag:noindex
X-PUBLISHED-TTL:PT1H
BEGIN:VTIMEZONE
TZID:America/New_York
BEGIN:DAYLIGHT
TZOFFSETFROM:-0500
TZOFFSETTO:-0400
TZNAME:EDT
DTSTART:20220313T070000
END:DAYLIGHT
BEGIN:STANDARD
TZOFFSETFROM:-0400
TZOFFSETTO:-0500
TZNAME:EST
DTSTART:20221106T060000
END:STANDARD
BEGIN:DAYLIGHT
TZOFFSETFROM:-0500
TZOFFSETTO:-0400
TZNAME:EDT
DTSTART:20230312T070000
END:DAYLIGHT
BEGIN:STANDARD
TZOFFSETFROM:-0400
TZOFFSETTO:-0500
TZNAME:EST
DTSTART:20231105T060000
END:STANDARD
BEGIN:DAYLIGHT
TZOFFSETFROM:-0500
TZOFFSETTO:-0400
TZNAME:EDT
DTSTART:20240310T070000
END:DAYLIGHT
BEGIN:STANDARD
TZOFFSETFROM:-0400
TZOFFSETTO:-0500
TZNAME:EST
DTSTART:20241103T060000
END:STANDARD
END:VTIMEZONE
BEGIN:VEVENT
DTSTART;TZID=America/New_York:20230701T170000
DTEND;TZID=America/New_York:20230701T200000
DTSTAMP:20260424T050002
CREATED:20230530T160739Z
LAST-MODIFIED:20230530T160739Z
UID:1176-1688230800-1688241600@dolphinsgrill.com
SUMMARY:Fundecided
DESCRIPTION:Live\, Fun\, Guitar\, Steel Drum and Marimba! Playing all your island favorites\, and MORE! The Tiki Band!
URL:https://dolphinsgrill.com/event/fundecided-8/
LOCATION:Dolphins Waterfront Bar & Grill\, 310 Lagoon Way\, Merritt Island\, FL\, 32953\, United States
ATTACH;FMTTYPE=image/jpeg:https://dolphinsgrill.com/wp-content/uploads/2022/08/fundecided.jpeg
END:VEVENT
BEGIN:VEVENT
DTSTART;TZID=America/New_York:20230702T170000
DTEND;TZID=America/New_York:20230702T200000
DTSTAMP:20260424T050002
CREATED:20230613T180205Z
LAST-MODIFIED:20230613T180205Z
UID:1183-1688317200-1688328000@dolphinsgrill.com
SUMMARY:Joshua Keels
DESCRIPTION:Solo acoustic guitar with a chill unique style.
URL:https://dolphinsgrill.com/event/joshua-keels-7/
LOCATION:Dolphins Waterfront Bar & Grill\, 310 Lagoon Way\, Merritt Island\, FL\, 32953\, United States
ATTACH;FMTTYPE=image/jpeg:https://dolphinsgrill.com/wp-content/uploads/2022/08/joshuakeels.jpeg
END:VEVENT
BEGIN:VEVENT
DTSTART;TZID=America/New_York:20230707T170000
DTEND;TZID=America/New_York:20230707T200000
DTSTAMP:20260424T050003
CREATED:20230613T180242Z
LAST-MODIFIED:20230613T180242Z
UID:1185-1688749200-1688760000@dolphinsgrill.com
SUMMARY:The Syndicate Duo
DESCRIPTION:Brevard based variety music duo. Rock\, Reggae\, Country\, Hip Hop\, and more…family friendly.
URL:https://dolphinsgrill.com/event/the-syndicate-duo-6/
LOCATION:Dolphins Waterfront Bar & Grill\, 310 Lagoon Way\, Merritt Island\, FL\, 32953\, United States
ATTACH;FMTTYPE=application/pdf:https://dolphinsgrill.com/wp-content/uploads/2022/12/syndicate-1.pdf
END:VEVENT
BEGIN:VEVENT
DTSTART;TZID=America/New_York:20230708T170000
DTEND;TZID=America/New_York:20230708T200000
DTSTAMP:20260424T050003
CREATED:20230613T180309Z
LAST-MODIFIED:20230623T182901Z
UID:1187-1688835600-1688846400@dolphinsgrill.com
SUMMARY:Everette Stevens
DESCRIPTION:Everette Stevens of Freeman Music Duo will be playing at Dolphins with his unique chill music.
URL:https://dolphinsgrill.com/event/everette-stevens-5/
LOCATION:Dolphins Waterfront Bar & Grill\, 310 Lagoon Way\, Merritt Island\, FL\, 32953\, United States
ATTACH;FMTTYPE=application/pdf:https://dolphinsgrill.com/wp-content/uploads/2023/06/Everettestevensduo.pdf
END:VEVENT
BEGIN:VEVENT
DTSTART;TZID=America/New_York:20230709T160000
DTEND;TZID=America/New_York:20230709T190000
DTSTAMP:20260424T050003
CREATED:20230613T180358Z
LAST-MODIFIED:20230613T180358Z
UID:1189-1688918400-1688929200@dolphinsgrill.com
SUMMARY:Billy Cockrell
DESCRIPTION:Bill Cockrell is the king of trop rock. A multitalented musician\, that can play guitar\, banjo\, flute\, keyboards\, steel drums\, and more.
URL:https://dolphinsgrill.com/event/billy-cockrell-8/
LOCATION:Dolphins Waterfront Bar & Grill\, 310 Lagoon Way\, Merritt Island\, FL\, 32953\, United States
ATTACH;FMTTYPE=image/jpeg:https://dolphinsgrill.com/wp-content/uploads/2022/08/billC.jpeg
END:VEVENT
BEGIN:VEVENT
DTSTART;TZID=America/New_York:20230715T170000
DTEND;TZID=America/New_York:20230715T200000
DTSTAMP:20260424T050003
CREATED:20230613T180655Z
LAST-MODIFIED:20230613T180655Z
UID:1193-1689440400-1689451200@dolphinsgrill.com
SUMMARY:Jersey Mike
DESCRIPTION:Come enjoy the local beat of Jersey Mike.
URL:https://dolphinsgrill.com/event/jersey-mike-9/
LOCATION:Dolphins Waterfront Bar & Grill\, 310 Lagoon Way\, Merritt Island\, FL\, 32953\, United States
ATTACH;FMTTYPE=image/jpeg:https://dolphinsgrill.com/wp-content/uploads/2023/01/jerseymike.jpeg
END:VEVENT
BEGIN:VEVENT
DTSTART;TZID=America/New_York:20230716T160000
DTEND;TZID=America/New_York:20230716T190000
DTSTAMP:20260424T050003
CREATED:20230613T180756Z
LAST-MODIFIED:20230613T180756Z
UID:1195-1689523200-1689534000@dolphinsgrill.com
SUMMARY:Ravon Steely Roden
DESCRIPTION:Ravon is Producer\, Singer\, Steelpan\, Songwriter\, and super energetic performer of Island music! You are not going t o want to miss his Reggaebeat!
URL:https://dolphinsgrill.com/event/ravon-steely-roden-6/
LOCATION:Dolphins Waterfront Bar & Grill\, 310 Lagoon Way\, Merritt Island\, FL\, 32953\, United States
ATTACH;FMTTYPE=image/jpeg:https://dolphinsgrill.com/wp-content/uploads/2022/08/ravon.jpeg
END:VEVENT
BEGIN:VEVENT
DTSTART;TZID=America/New_York:20230721T170000
DTEND;TZID=America/New_York:20230721T200000
DTSTAMP:20260424T050003
CREATED:20230613T180914Z
LAST-MODIFIED:20230613T180914Z
UID:1197-1689958800-1689969600@dolphinsgrill.com
SUMMARY:Salt and Pepper
DESCRIPTION:Jonathan Honeycutt from Hot Pink and friend play a variety of music that everyone will enjoy.
URL:https://dolphinsgrill.com/event/salt-and-pepper-3/
LOCATION:Dolphins Waterfront Bar & Grill\, 310 Lagoon Way\, Merritt Island\, FL\, 32953\, United States
ATTACH;FMTTYPE=image/jpeg:https://dolphinsgrill.com/wp-content/uploads/2023/03/IMG_7172.jpg
END:VEVENT
BEGIN:VEVENT
DTSTART;TZID=America/New_York:20230722T170000
DTEND;TZID=America/New_York:20230722T200000
DTSTAMP:20260424T050003
CREATED:20230613T181003Z
LAST-MODIFIED:20230613T181003Z
UID:1199-1690045200-1690056000@dolphinsgrill.com
SUMMARY:Captain Tom
DESCRIPTION:Captain Tom is a solo guitarist/singer that plays a classic selection of acoustic rock and folk music.
URL:https://dolphinsgrill.com/event/captain-tom-8/
LOCATION:Dolphins Waterfront Bar & Grill\, 310 Lagoon Way\, Merritt Island\, FL\, 32953\, United States
ATTACH;FMTTYPE=application/pdf:https://dolphinsgrill.com/wp-content/uploads/2022/12/CaptTom-GeorgeDragon78.pdf
END:VEVENT
BEGIN:VEVENT
DTSTART;TZID=America/New_York:20230723T160000
DTEND;TZID=America/New_York:20230723T190000
DTSTAMP:20260424T050003
CREATED:20230613T181114Z
LAST-MODIFIED:20230613T181114Z
UID:1201-1690128000-1690138800@dolphinsgrill.com
SUMMARY:Johnny Danger
DESCRIPTION:Johnny Danger Live is a solo guitarist\, singer\, and interactive entertainer with over twenty years of experience. JDL is also an accomplished songwriter and the most recent winner of the Runaway Country Music Festivals. Runaway Rockstar Competition. JDLs performances include a repertoire of over two thousand songs\, featuring a vast array of music from timeless classics to the current hits on the radio and online.
URL:https://dolphinsgrill.com/event/johnny-danger-10/
LOCATION:Dolphins Waterfront Bar & Grill\, 310 Lagoon Way\, Merritt Island\, FL\, 32953\, United States
ATTACH;FMTTYPE=image/jpeg:https://dolphinsgrill.com/wp-content/uploads/2022/08/jpg5BPtbx679.jpg
END:VEVENT
BEGIN:VEVENT
DTSTART;TZID=America/New_York:20230728T170000
DTEND;TZID=America/New_York:20230728T200000
DTSTAMP:20260424T050003
CREATED:20230613T181201Z
LAST-MODIFIED:20230613T181201Z
UID:1203-1690563600-1690574400@dolphinsgrill.com
SUMMARY:Anna. Delgado Trio
DESCRIPTION:Catch the good vibes with the Anna Delgado Trio and the sound of all your favorite songs!
URL:https://dolphinsgrill.com/event/anna-delgado-trio-6/
LOCATION:Dolphins Waterfront Bar & Grill\, 310 Lagoon Way\, Merritt Island\, FL\, 32953\, United States
ATTACH;FMTTYPE=application/pdf:https://dolphinsgrill.com/wp-content/uploads/2023/04/anna.pdf
END:VEVENT
BEGIN:VEVENT
DTSTART;TZID=America/New_York:20230729T170000
DTEND;TZID=America/New_York:20230729T200000
DTSTAMP:20260424T050003
CREATED:20230613T181248Z
LAST-MODIFIED:20230613T181248Z
UID:1205-1690650000-1690660800@dolphinsgrill.com
SUMMARY:Kenny & Bo
DESCRIPTION:Local Cocoa Beach Musicians playing a special blend of Music- Americana as a duo since 2015. Their music is easy listening classic\, “American Country Folk Blues.” \nMichael “Bo” Boukedes on: lead vocals\, acoustic & electric guitars\, twelve strings\, nylon\, & harmonicas! \nKenny Cohen on: Lead vocals\, fender electric bass\, saxophone\, & flute! \n  \nCome out and enjoy these veteran local musicians.
URL:https://dolphinsgrill.com/event/kenny-bo-13/
LOCATION:Dolphins Waterfront Bar & Grill\, 310 Lagoon Way\, Merritt Island\, FL\, 32953\, United States
ATTACH;FMTTYPE=application/pdf:https://dolphinsgrill.com/wp-content/uploads/2022/12/KennyBo-1.pdf
END:VEVENT
BEGIN:VEVENT
DTSTART;TZID=America/New_York:20230730T160000
DTEND;TZID=America/New_York:20230730T200000
DTSTAMP:20260424T050003
CREATED:20230725T171831Z
LAST-MODIFIED:20230725T171831Z
UID:1243-1690732800-1690747200@dolphinsgrill.com
SUMMARY:Salt and Pepper
DESCRIPTION:Jonathan Honeycutt from Hot Pink and Pepper play a variety of music that everyone will enjoy.
URL:https://dolphinsgrill.com/event/salt-and-pepper-4/
LOCATION:Dolphins Waterfront Bar & Grill\, 310 Lagoon Way\, Merritt Island\, FL\, 32953\, United States
ATTACH;FMTTYPE=image/jpeg:https://dolphinsgrill.com/wp-content/uploads/2023/03/IMG_7172.jpg
END:VEVENT
END:VCALENDAR