BEGIN:VCALENDAR
VERSION:2.0
PRODID:-//Dolphins Waterfront Bar &amp; Grill - ECPv6.15.20//NONSGML v1.0//EN
CALSCALE:GREGORIAN
METHOD:PUBLISH
X-WR-CALNAME:Dolphins Waterfront Bar &amp; Grill
X-ORIGINAL-URL:https://dolphinsgrill.com
X-WR-CALDESC:Events for Dolphins Waterfront Bar &amp; Grill
REFRESH-INTERVAL;VALUE=DURATION:PT1H
X-Robots-Tag:noindex
X-PUBLISHED-TTL:PT1H
BEGIN:VTIMEZONE
TZID:America/New_York
BEGIN:DAYLIGHT
TZOFFSETFROM:-0500
TZOFFSETTO:-0400
TZNAME:EDT
DTSTART:20230312T070000
END:DAYLIGHT
BEGIN:STANDARD
TZOFFSETFROM:-0400
TZOFFSETTO:-0500
TZNAME:EST
DTSTART:20231105T060000
END:STANDARD
BEGIN:DAYLIGHT
TZOFFSETFROM:-0500
TZOFFSETTO:-0400
TZNAME:EDT
DTSTART:20240310T070000
END:DAYLIGHT
BEGIN:STANDARD
TZOFFSETFROM:-0400
TZOFFSETTO:-0500
TZNAME:EST
DTSTART:20241103T060000
END:STANDARD
BEGIN:DAYLIGHT
TZOFFSETFROM:-0500
TZOFFSETTO:-0400
TZNAME:EDT
DTSTART:20250309T070000
END:DAYLIGHT
BEGIN:STANDARD
TZOFFSETFROM:-0400
TZOFFSETTO:-0500
TZNAME:EST
DTSTART:20251102T060000
END:STANDARD
END:VTIMEZONE
BEGIN:VEVENT
DTSTART;TZID=America/New_York:20240105T170000
DTEND;TZID=America/New_York:20240105T200000
DTSTAMP:20260423T203809
CREATED:20240105T184007Z
LAST-MODIFIED:20240105T184007Z
UID:1448-1704474000-1704484800@dolphinsgrill.com
SUMMARY:The Syndicate Duo
DESCRIPTION:Brevard based variety music duo. Rock\, Reggae\, Country\, Hip Hop\, and more…family friendly.
URL:https://dolphinsgrill.com/event/the-syndicate-duo-10/
LOCATION:Dolphins Waterfront Bar & Grill\, 310 Lagoon Way\, Merritt Island\, FL\, 32953\, United States
ATTACH;FMTTYPE=application/pdf:https://dolphinsgrill.com/wp-content/uploads/2022/12/syndicate-1.pdf
END:VEVENT
BEGIN:VEVENT
DTSTART;TZID=America/New_York:20240107T160000
DTEND;TZID=America/New_York:20240107T190000
DTSTAMP:20260423T203809
CREATED:20240105T184659Z
LAST-MODIFIED:20240105T185513Z
UID:1452-1704643200-1704654000@dolphinsgrill.com
SUMMARY:Sound Traveler Band
DESCRIPTION:With 2800+ shows over 10+ years as a full-time duo\, Sound Traveler (Bob & Patty Tatum) has taken a unique blend of acoustic music to 8 states and 5 foreign countries\, using their love of music and 10 different instruments to create feel-good shows for eclectic audiences of all ages. Whether you enjoy fresh arrangements of rock/pop/country favorites\, light jazz\, or even a touch of gospel or bluegrass\, you’re sure to have a good time.
URL:https://dolphinsgrill.com/event/sound-traveler-band-5/
LOCATION:Dolphins Waterfront Bar & Grill\, 310 Lagoon Way\, Merritt Island\, FL\, 32953\, United States
ATTACH;FMTTYPE=image/jpeg:https://dolphinsgrill.com/wp-content/uploads/2023/01/SoundTravelerwww.soundtravelerband.com_.jpeg
END:VEVENT
BEGIN:VEVENT
DTSTART;TZID=America/New_York:20240112T170000
DTEND;TZID=America/New_York:20240112T200000
DTSTAMP:20260423T203809
CREATED:20240111T181942Z
LAST-MODIFIED:20240111T181942Z
UID:1472-1705078800-1705089600@dolphinsgrill.com
SUMMARY:Salt and Pepper
DESCRIPTION:Jonathan Honeycutt from Hot Pink\, Pepper\, and  Salt\, awesome percussions\, play a variety of music that everyone will enjoy.
URL:https://dolphinsgrill.com/event/salt-and-pepper-8/
LOCATION:Dolphins Waterfront Bar & Grill\, 310 Lagoon Way\, Merritt Island\, FL\, 32953\, United States
ATTACH;FMTTYPE=image/jpeg:https://dolphinsgrill.com/wp-content/uploads/2023/03/IMG_7172.jpg
END:VEVENT
BEGIN:VEVENT
DTSTART;TZID=America/New_York:20240113T170000
DTEND;TZID=America/New_York:20240113T200000
DTSTAMP:20260423T203809
CREATED:20240105T184817Z
LAST-MODIFIED:20240105T184817Z
UID:1456-1705165200-1705176000@dolphinsgrill.com
SUMMARY:Joshua Keels
DESCRIPTION:Come relax on Christmas Eve to Joshua Keels and his acoustic guitar. The vibe is sure to set the tone for a peaceful Holiday!
URL:https://dolphinsgrill.com/event/joshua-keels-14/
LOCATION:Dolphins Waterfront Bar & Grill\, 310 Lagoon Way\, Merritt Island\, FL\, 32953\, United States
ATTACH;FMTTYPE=image/jpeg:https://dolphinsgrill.com/wp-content/uploads/2022/08/joshuakeels.jpeg
END:VEVENT
BEGIN:VEVENT
DTSTART;TZID=America/New_York:20240114T160000
DTEND;TZID=America/New_York:20240114T190000
DTSTAMP:20260423T203809
CREATED:20221227T171215Z
LAST-MODIFIED:20240105T185737Z
UID:805-1705248000-1705258800@dolphinsgrill.com
SUMMARY:Redfish Rich
DESCRIPTION:Rich spent the last 8 years as a full time musician in Saint Augustine Fl.  He has played at places like The Milltop\, Mi Casa\, Salt Life\, The Conch House and many more. He is now back to his roots in Titusville. Rich worked on the Space Shuttle and played music at many local Spacecoast venues and now will debut at Dolphins! \n 
URL:https://dolphinsgrill.com/event/redfish-rich/
LOCATION:Dolphins Waterfront Bar & Grill\, 310 Lagoon Way\, Merritt Island\, FL\, 32953\, United States
ATTACH;FMTTYPE=image/webp:https://dolphinsgrill.com/wp-content/uploads/2022/12/redfishrich.webp
END:VEVENT
BEGIN:VEVENT
DTSTART;TZID=America/New_York:20240119T170000
DTEND;TZID=America/New_York:20240119T200000
DTSTAMP:20260423T203809
CREATED:20240105T185058Z
LAST-MODIFIED:20240105T185058Z
UID:1460-1705683600-1705694400@dolphinsgrill.com
SUMMARY:Indian River Band
DESCRIPTION:Come see our local talent\, Indian River Band playing acoustic cover from the 60\, 70 & 80’s.
URL:https://dolphinsgrill.com/event/indian-river-band-6/
LOCATION:Dolphins Waterfront Bar & Grill\, 310 Lagoon Way\, Merritt Island\, FL\, 32953\, United States
ATTACH;FMTTYPE=image/jpeg:https://dolphinsgrill.com/wp-content/uploads/2022/11/indianriverband.jpeg
END:VEVENT
BEGIN:VEVENT
DTSTART;TZID=America/New_York:20240120T170000
DTEND;TZID=America/New_York:20240120T200000
DTSTAMP:20260423T203809
CREATED:20240105T185136Z
LAST-MODIFIED:20240105T185136Z
UID:1363-1705770000-1705780800@dolphinsgrill.com
SUMMARY:Anna. Delgado Trio
DESCRIPTION:Catch the good vibes with the Anna Delgado Trio and the sound of all your favorite songs!
URL:https://dolphinsgrill.com/event/anna-delgado-trio-10/
LOCATION:Dolphins Waterfront Bar & Grill\, 310 Lagoon Way\, Merritt Island\, FL\, 32953\, United States
ATTACH;FMTTYPE=application/pdf:https://dolphinsgrill.com/wp-content/uploads/2023/04/anna.pdf
END:VEVENT
BEGIN:VEVENT
DTSTART;TZID=America/New_York:20240121T160000
DTEND;TZID=America/New_York:20240121T190000
DTSTAMP:20260423T203809
CREATED:20240105T185220Z
LAST-MODIFIED:20240105T185220Z
UID:1463-1705852800-1705863600@dolphinsgrill.com
SUMMARY:Billy Cockrell
DESCRIPTION:Bill Cockrell is the king of trop rock. A multitalented musician\, that can play guitar\, banjo\, flute\, keyboards\, steel drums\, and more.
URL:https://dolphinsgrill.com/event/billy-cockrell-14/
LOCATION:Dolphins Waterfront Bar & Grill\, 310 Lagoon Way\, Merritt Island\, FL\, 32953\, United States
ATTACH;FMTTYPE=image/jpeg:https://dolphinsgrill.com/wp-content/uploads/2022/08/billC.jpeg
END:VEVENT
BEGIN:VEVENT
DTSTART;TZID=America/New_York:20240126T170000
DTEND;TZID=America/New_York:20240126T200000
DTSTAMP:20260423T203809
CREATED:20240105T185307Z
LAST-MODIFIED:20240105T185307Z
UID:1465-1706288400-1706299200@dolphinsgrill.com
SUMMARY:Teddy V.
DESCRIPTION:Teddy is back!!! The Fullest One Man Band you’ve ever heard. He plays along to it always with a Live Acoustic Guitar or Electric Guitar and a strong Lead Vocal. Classic Rock / Oldies / Trop-Rock / Smooth Jazz / R&B / Pop and Funk from the 50’s\, 60’s\, 70’s\, 80’s\, 90’s to Present Hits. Lots of Originals Too!
URL:https://dolphinsgrill.com/event/teddy-v-19/
LOCATION:Dolphins Waterfront Bar & Grill\, 310 Lagoon Way\, Merritt Island\, FL\, 32953\, United States
ATTACH;FMTTYPE=image/jpeg:https://dolphinsgrill.com/wp-content/uploads/2023/01/teddyV.jpeg
END:VEVENT
BEGIN:VEVENT
DTSTART;TZID=America/New_York:20240127T170000
DTEND;TZID=America/New_York:20240127T200000
DTSTAMP:20260423T203809
CREATED:20240105T185347Z
LAST-MODIFIED:20240105T185347Z
UID:1467-1706374800-1706385600@dolphinsgrill.com
SUMMARY:Everette Stevens
DESCRIPTION:Everette Stevens of Freeman Music Duo will be playing at Dolphins with his unique chill music.
URL:https://dolphinsgrill.com/event/everette-stevens-10/
LOCATION:Dolphins Waterfront Bar & Grill\, 310 Lagoon Way\, Merritt Island\, FL\, 32953\, United States
ATTACH;FMTTYPE=application/pdf:https://dolphinsgrill.com/wp-content/uploads/2023/06/Everettestevensduo.pdf
END:VEVENT
BEGIN:VEVENT
DTSTART;TZID=America/New_York:20240128T160000
DTEND;TZID=America/New_York:20240128T190000
DTSTAMP:20260423T203809
CREATED:20240105T185427Z
LAST-MODIFIED:20240105T185427Z
UID:1469-1706457600-1706468400@dolphinsgrill.com
SUMMARY:Johnny Danger
DESCRIPTION:Sunday Funday with Johnny Danger Live! \nJohnny Danger Live is a solo guitarist\, singer\, and interactive entertainer with over twenty years of experience. JDL is also an accomplished songwriter and the most recent winner of the Runaway Country Music Festivals. Runaway Rockstar Competition. JDLs performances include a repertoire of over two thousand songs\, featuring a vast array of music from timeless classics to the current hits on the radio and online.
URL:https://dolphinsgrill.com/event/johnny-danger-16/
LOCATION:Dolphins Waterfront Bar & Grill\, 310 Lagoon Way\, Merritt Island\, FL\, 32953\, United States
ATTACH;FMTTYPE=image/jpeg:https://dolphinsgrill.com/wp-content/uploads/2022/08/jpg5BPtbx679.jpg
END:VEVENT
END:VCALENDAR