BEGIN:VCALENDAR
VERSION:2.0
PRODID:-//Dolphins Waterfront Bar &amp; Grill - ECPv6.15.20//NONSGML v1.0//EN
CALSCALE:GREGORIAN
METHOD:PUBLISH
X-ORIGINAL-URL:https://dolphinsgrill.com
X-WR-CALDESC:Events for Dolphins Waterfront Bar &amp; Grill
REFRESH-INTERVAL;VALUE=DURATION:PT1H
X-Robots-Tag:noindex
X-PUBLISHED-TTL:PT1H
BEGIN:VTIMEZONE
TZID:America/New_York
BEGIN:DAYLIGHT
TZOFFSETFROM:-0500
TZOFFSETTO:-0400
TZNAME:EDT
DTSTART:20230312T070000
END:DAYLIGHT
BEGIN:STANDARD
TZOFFSETFROM:-0400
TZOFFSETTO:-0500
TZNAME:EST
DTSTART:20231105T060000
END:STANDARD
BEGIN:DAYLIGHT
TZOFFSETFROM:-0500
TZOFFSETTO:-0400
TZNAME:EDT
DTSTART:20240310T070000
END:DAYLIGHT
BEGIN:STANDARD
TZOFFSETFROM:-0400
TZOFFSETTO:-0500
TZNAME:EST
DTSTART:20241103T060000
END:STANDARD
BEGIN:DAYLIGHT
TZOFFSETFROM:-0500
TZOFFSETTO:-0400
TZNAME:EDT
DTSTART:20250309T070000
END:DAYLIGHT
BEGIN:STANDARD
TZOFFSETFROM:-0400
TZOFFSETTO:-0500
TZNAME:EST
DTSTART:20251102T060000
END:STANDARD
END:VTIMEZONE
BEGIN:VEVENT
DTSTART;TZID=America/New_York:20240902T160000
DTEND;TZID=America/New_York:20240902T190000
DTSTAMP:20260423T174228
CREATED:20240726T195040Z
LAST-MODIFIED:20240823T191150Z
UID:1821-1725292800-1725303600@dolphinsgrill.com
SUMMARY:The Tiki Band
DESCRIPTION:Trop rockers\, Tony & Melissa\, right off the cruise ships join us for a unique Island experience.
URL:https://dolphinsgrill.com/event/the-tiki-band-8/
LOCATION:Dolphins Waterfront Bar & Grill\, 310 Lagoon Way\, Merritt Island\, FL\, 32953\, United States
ATTACH;FMTTYPE=application/pdf:https://dolphinsgrill.com/wp-content/uploads/2023/04/tikiband.pdf
END:VEVENT
BEGIN:VEVENT
DTSTART;TZID=America/New_York:20240906T170000
DTEND;TZID=America/New_York:20240906T200000
DTSTAMP:20260423T174228
CREATED:20240726T195012Z
LAST-MODIFIED:20240823T191217Z
UID:1819-1725642000-1725652800@dolphinsgrill.com
SUMMARY:The Syndicate Duo
DESCRIPTION:Brevard based variety music duo. Rock\, Reggae\, Country\, Hip Hop\, and more…family friendly.
URL:https://dolphinsgrill.com/event/the-syndicate-duo-16/
LOCATION:Dolphins Waterfront Bar & Grill\, 310 Lagoon Way\, Merritt Island\, FL\, 32953\, United States
ATTACH;FMTTYPE=application/pdf:https://dolphinsgrill.com/wp-content/uploads/2022/12/syndicate-1.pdf
END:VEVENT
BEGIN:VEVENT
DTSTART;TZID=America/New_York:20240920T180000
DTEND;TZID=America/New_York:20240920T210000
DTSTAMP:20260423T174228
CREATED:20240910T181701Z
LAST-MODIFIED:20240910T181701Z
UID:1891-1726855200-1726866000@dolphinsgrill.com
SUMMARY:Karalyn and the Dawn Patrol
DESCRIPTION:Local talent Karalyn and the Dawn Patrol are kicking off the 2nd annual Rock the Dock\, making waves across the water!
URL:https://dolphinsgrill.com/event/karalyn-and-the-dawn-patrol/
LOCATION:FL
ATTACH;FMTTYPE=image/jpeg:https://dolphinsgrill.com/wp-content/uploads/2024/09/karLYN3.jpeg
END:VEVENT
BEGIN:VEVENT
DTSTART;TZID=America/New_York:20240921T170000
DTEND;TZID=America/New_York:20240921T200000
DTSTAMP:20260423T174228
CREATED:20240910T183537Z
LAST-MODIFIED:20240910T183537Z
UID:1902-1726938000-1726948800@dolphinsgrill.com
SUMMARY:Tidal Theory
DESCRIPTION:2nd Annual Rock the Dock Saturday night band is the reggae beat of Tidal Theory making white caps across the water!
URL:https://dolphinsgrill.com/event/tidal-theory/
LOCATION:FL
ATTACH;FMTTYPE=image/jpeg:https://dolphinsgrill.com/wp-content/uploads/2024/09/tidal2.jpg
END:VEVENT
BEGIN:VEVENT
DTSTART;TZID=America/New_York:20240922T170000
DTEND;TZID=America/New_York:20240922T200000
DTSTAMP:20260423T174228
CREATED:20240910T184623Z
LAST-MODIFIED:20240910T184623Z
UID:1907-1727024400-1727035200@dolphinsgrill.com
SUMMARY:Anna Delgado Band
DESCRIPTION:2nd Annual Rock the Dock grand finale is the Anna Delgado Band.
URL:https://dolphinsgrill.com/event/anna-delgado-band/
LOCATION:FL
ATTACH;FMTTYPE=application/pdf:https://dolphinsgrill.com/wp-content/uploads/2024/09/ADB-Collage87.png.pdf
END:VEVENT
END:VCALENDAR