BEGIN:VCALENDAR
VERSION:2.0
PRODID:-//Dolphins Waterfront Bar &amp; Grill - ECPv6.15.20//NONSGML v1.0//EN
CALSCALE:GREGORIAN
METHOD:PUBLISH
X-WR-CALNAME:Dolphins Waterfront Bar &amp; Grill
X-ORIGINAL-URL:https://dolphinsgrill.com
X-WR-CALDESC:Events for Dolphins Waterfront Bar &amp; Grill
REFRESH-INTERVAL;VALUE=DURATION:PT1H
X-Robots-Tag:noindex
X-PUBLISHED-TTL:PT1H
BEGIN:VTIMEZONE
TZID:America/New_York
BEGIN:DAYLIGHT
TZOFFSETFROM:-0500
TZOFFSETTO:-0400
TZNAME:EDT
DTSTART:20230312T070000
END:DAYLIGHT
BEGIN:STANDARD
TZOFFSETFROM:-0400
TZOFFSETTO:-0500
TZNAME:EST
DTSTART:20231105T060000
END:STANDARD
BEGIN:DAYLIGHT
TZOFFSETFROM:-0500
TZOFFSETTO:-0400
TZNAME:EDT
DTSTART:20240310T070000
END:DAYLIGHT
BEGIN:STANDARD
TZOFFSETFROM:-0400
TZOFFSETTO:-0500
TZNAME:EST
DTSTART:20241103T060000
END:STANDARD
BEGIN:DAYLIGHT
TZOFFSETFROM:-0500
TZOFFSETTO:-0400
TZNAME:EDT
DTSTART:20250309T070000
END:DAYLIGHT
BEGIN:STANDARD
TZOFFSETFROM:-0400
TZOFFSETTO:-0500
TZNAME:EST
DTSTART:20251102T060000
END:STANDARD
END:VTIMEZONE
BEGIN:VEVENT
DTSTART;TZID=America/New_York:20241014T160000
DTEND;TZID=America/New_York:20241014T200000
DTSTAMP:20260423T190457
CREATED:20241014T153921Z
LAST-MODIFIED:20241014T153921Z
UID:1921-1728921600-1728936000@dolphinsgrill.com
SUMMARY:Tony Sammie
DESCRIPTION:Come out for the debut of Tony Sammie from Minnesota for Columbus Day and Indigenous People Day!
URL:https://dolphinsgrill.com/event/tony-sammie/
LOCATION:FL
ATTACH;FMTTYPE=image/jpeg:https://dolphinsgrill.com/wp-content/uploads/2024/10/IMG_0330.jpeg
END:VEVENT
BEGIN:VEVENT
DTSTART;TZID=America/New_York:20241019T170000
DTEND;TZID=America/New_York:20241019T200000
DTSTAMP:20260423T190457
CREATED:20240619T190724Z
LAST-MODIFIED:20241014T154526Z
UID:1810-1729357200-1729368000@dolphinsgrill.com
SUMMARY:Ravon Steely Roden
DESCRIPTION:Come enjoy the Island life with Steely Roden! Ravon is Producer\, Singer\, Steelpan\, Songwriter\, and super energetic performer of Island music! You are not going to want to miss his Reggaebeat!
URL:https://dolphinsgrill.com/event/ravon-steely-roden-17/
LOCATION:Dolphins Waterfront Bar & Grill\, 310 Lagoon Way\, Merritt Island\, FL\, 32953\, United States
ATTACH;FMTTYPE=image/jpeg:https://dolphinsgrill.com/wp-content/uploads/2022/08/ravon.jpeg
END:VEVENT
END:VCALENDAR