BEGIN:VCALENDAR
VERSION:2.0
PRODID:-//Dolphins Waterfront Bar &amp; Grill - ECPv6.15.20//NONSGML v1.0//EN
CALSCALE:GREGORIAN
METHOD:PUBLISH
X-WR-CALNAME:Dolphins Waterfront Bar &amp; Grill
X-ORIGINAL-URL:https://dolphinsgrill.com
X-WR-CALDESC:Events for Dolphins Waterfront Bar &amp; Grill
REFRESH-INTERVAL;VALUE=DURATION:PT1H
X-Robots-Tag:noindex
X-PUBLISHED-TTL:PT1H
BEGIN:VTIMEZONE
TZID:America/New_York
BEGIN:DAYLIGHT
TZOFFSETFROM:-0500
TZOFFSETTO:-0400
TZNAME:EDT
DTSTART:20230312T070000
END:DAYLIGHT
BEGIN:STANDARD
TZOFFSETFROM:-0400
TZOFFSETTO:-0500
TZNAME:EST
DTSTART:20231105T060000
END:STANDARD
BEGIN:DAYLIGHT
TZOFFSETFROM:-0500
TZOFFSETTO:-0400
TZNAME:EDT
DTSTART:20240310T070000
END:DAYLIGHT
BEGIN:STANDARD
TZOFFSETFROM:-0400
TZOFFSETTO:-0500
TZNAME:EST
DTSTART:20241103T060000
END:STANDARD
BEGIN:DAYLIGHT
TZOFFSETFROM:-0500
TZOFFSETTO:-0400
TZNAME:EDT
DTSTART:20250309T070000
END:DAYLIGHT
BEGIN:STANDARD
TZOFFSETFROM:-0400
TZOFFSETTO:-0500
TZNAME:EST
DTSTART:20251102T060000
END:STANDARD
END:VTIMEZONE
BEGIN:VEVENT
DTSTART;TZID=America/New_York:20241103T160000
DTEND;TZID=America/New_York:20241103T190000
DTSTAMP:20260422T201446
CREATED:20240530T195812Z
LAST-MODIFIED:20241030T204632Z
UID:1756-1730649600-1730660400@dolphinsgrill.com
SUMMARY:Salt and Pepper
DESCRIPTION:Come out for Easter brunch or dinner with Jonathan Honeycutt from Hot Pink\, Pepper\, and  Salt\, awesome percussions\, play a variety of music that everyone will enjoy.
URL:https://dolphinsgrill.com/event/salt-and-pepper-10/
LOCATION:Dolphins Waterfront Bar & Grill\, 310 Lagoon Way\, Merritt Island\, FL\, 32953\, United States
ATTACH;FMTTYPE=image/jpeg:https://dolphinsgrill.com/wp-content/uploads/2023/03/IMG_7172.jpg
END:VEVENT
BEGIN:VEVENT
DTSTART;TZID=America/New_York:20241116T170000
DTEND;TZID=America/New_York:20241116T200000
DTSTAMP:20260422T201446
CREATED:20240619T190803Z
LAST-MODIFIED:20241114T184920Z
UID:1812-1731776400-1731787200@dolphinsgrill.com
SUMMARY:Anna. Delgado Band
DESCRIPTION:Catch the good vibes with the Anna Delgado Band and the sound of all your favorite songs!
URL:https://dolphinsgrill.com/event/anna-delgado-trio-17/
LOCATION:Dolphins Waterfront Bar & Grill\, 310 Lagoon Way\, Merritt Island\, FL\, 32953\, United States
ATTACH;FMTTYPE=image/jpeg:https://dolphinsgrill.com/wp-content/uploads/2024/06/Band022524wRich.jpeg
END:VEVENT
BEGIN:VEVENT
DTSTART;TZID=America/New_York:20241117T160000
DTEND;TZID=America/New_York:20241117T190000
DTSTAMP:20260422T201446
CREATED:20240619T190518Z
LAST-MODIFIED:20241031T145627Z
UID:1806-1731859200-1731870000@dolphinsgrill.com
SUMMARY:Mark Houghton
DESCRIPTION:Mark Houghton is a  cover artist\, fusion band from Orlando! He is described as a spectacular collaboration of talent and crowd entertainment with his down home country vocals.
URL:https://dolphinsgrill.com/event/mark-houghton-4/
LOCATION:Dolphins Waterfront Bar & Grill\, 310 Lagoon Way\, Merritt Island\, FL\, 32953\, United States
ATTACH;FMTTYPE=image/jpeg:https://dolphinsgrill.com/wp-content/uploads/2022/12/Mark-Houghton-1536x1025-1.jpeg
END:VEVENT
BEGIN:VEVENT
DTSTART;TZID=America/New_York:20241124T160000
DTEND;TZID=America/New_York:20241124T190000
DTSTAMP:20260422T201446
CREATED:20240619T190418Z
LAST-MODIFIED:20241031T145830Z
UID:1804-1732464000-1732474800@dolphinsgrill.com
SUMMARY:Johnny Danger
DESCRIPTION:Sunday Funday with Johnny Danger Live! \nJohnny Danger Live is a solo guitarist\, singer\, and interactive entertainer with over twenty years of experience. JDL is also an accomplished songwriter and the most recent winner of the Runaway Country Music Festivals. Runaway Rockstar Competition. JDLs performances include a repertoire of over two thousand songs\, featuring a vast array of music from timeless classics to the current hits on the radio and online.
URL:https://dolphinsgrill.com/event/johnny-danger-20/
LOCATION:Dolphins Waterfront Bar & Grill\, 310 Lagoon Way\, Merritt Island\, FL\, 32953\, United States
ATTACH;FMTTYPE=image/jpeg:https://dolphinsgrill.com/wp-content/uploads/2022/08/jpg5BPtbx679.jpg
END:VEVENT
END:VCALENDAR