BEGIN:VCALENDAR
VERSION:2.0
PRODID:-//Dolphins Waterfront Bar &amp; Grill - ECPv6.15.20//NONSGML v1.0//EN
CALSCALE:GREGORIAN
METHOD:PUBLISH
X-ORIGINAL-URL:https://dolphinsgrill.com
X-WR-CALDESC:Events for Dolphins Waterfront Bar &amp; Grill
REFRESH-INTERVAL;VALUE=DURATION:PT1H
X-Robots-Tag:noindex
X-PUBLISHED-TTL:PT1H
BEGIN:VTIMEZONE
TZID:America/New_York
BEGIN:DAYLIGHT
TZOFFSETFROM:-0500
TZOFFSETTO:-0400
TZNAME:EDT
DTSTART:20230312T070000
END:DAYLIGHT
BEGIN:STANDARD
TZOFFSETFROM:-0400
TZOFFSETTO:-0500
TZNAME:EST
DTSTART:20231105T060000
END:STANDARD
BEGIN:DAYLIGHT
TZOFFSETFROM:-0500
TZOFFSETTO:-0400
TZNAME:EDT
DTSTART:20240310T070000
END:DAYLIGHT
BEGIN:STANDARD
TZOFFSETFROM:-0400
TZOFFSETTO:-0500
TZNAME:EST
DTSTART:20241103T060000
END:STANDARD
BEGIN:DAYLIGHT
TZOFFSETFROM:-0500
TZOFFSETTO:-0400
TZNAME:EDT
DTSTART:20250309T070000
END:DAYLIGHT
BEGIN:STANDARD
TZOFFSETFROM:-0400
TZOFFSETTO:-0500
TZNAME:EST
DTSTART:20251102T060000
END:STANDARD
END:VTIMEZONE
BEGIN:VEVENT
DTSTART;TZID=America/New_York:20241201T160000
DTEND;TZID=America/New_York:20241201T190000
DTSTAMP:20260423T221112
CREATED:20241031T150107Z
LAST-MODIFIED:20241031T150107Z
UID:1946-1733068800-1733079600@dolphinsgrill.com
SUMMARY:Mark Houghton
DESCRIPTION:Mark Houghton is a  cover artist\, fusion band from Orlando! He is described as a spectacular collaboration of talent and crowd entertainment with his down home country vocals.
URL:https://dolphinsgrill.com/event/mark-houghton-5/
LOCATION:Dolphins Waterfront Bar & Grill\, 310 Lagoon Way\, Merritt Island\, FL\, 32953\, United States
ATTACH;FMTTYPE=image/jpeg:https://dolphinsgrill.com/wp-content/uploads/2022/12/Mark-Houghton-1536x1025-1.jpeg
END:VEVENT
BEGIN:VEVENT
DTSTART;TZID=America/New_York:20241205T170000
DTEND;TZID=America/New_York:20241205T210000
DTSTAMP:20260423T221112
CREATED:20241202T170529Z
LAST-MODIFIED:20241202T170529Z
UID:1959-1733418000-1733432400@dolphinsgrill.com
SUMMARY:Merritt Island Boat Parade Captains Party
DESCRIPTION:Join us for the Captain’s party to sign up for the Merritt Island Annual Boat Parade\, participate in raffles and purchase event teeshirts.
URL:https://dolphinsgrill.com/event/merritt-island-boat-parade-captains-party/
LOCATION:Dolphins Waterfront Bar & Grill\, 310 Lagoon Way\, Merritt Island\, FL\, 32953\, United States
ATTACH;FMTTYPE=image/jpeg:https://dolphinsgrill.com/wp-content/uploads/2024/12/IMG_0634.jpeg
END:VEVENT
BEGIN:VEVENT
DTSTART;TZID=America/New_York:20241213T170000
DTEND;TZID=America/New_York:20241213T200000
DTSTAMP:20260423T221112
CREATED:20240619T190215Z
LAST-MODIFIED:20241113T201904Z
UID:1798-1734109200-1734120000@dolphinsgrill.com
SUMMARY:Jersey Mike
DESCRIPTION:Come enjoy the local beat of Jersey Mike.
URL:https://dolphinsgrill.com/event/jersey-mike-19/
LOCATION:Dolphins Waterfront Bar & Grill\, 310 Lagoon Way\, Merritt Island\, FL\, 32953\, United States
ATTACH;FMTTYPE=image/jpeg:https://dolphinsgrill.com/wp-content/uploads/2023/01/jerseymike.jpeg
END:VEVENT
BEGIN:VEVENT
DTSTART;TZID=America/New_York:20241222T160000
DTEND;TZID=America/New_York:20241222T200000
DTSTAMP:20260423T221112
CREATED:20240726T200211Z
LAST-MODIFIED:20241202T170907Z
UID:1830-1734883200-1734897600@dolphinsgrill.com
SUMMARY:Everette Stevens
DESCRIPTION:Everette Stevens of Freeman Music Duo will be playing at Dolphins with his unique chill music.
URL:https://dolphinsgrill.com/event/everette-stevens-15/
LOCATION:Dolphins Waterfront Bar & Grill\, 310 Lagoon Way\, Merritt Island\, FL\, 32953\, United States
ATTACH;FMTTYPE=application/pdf:https://dolphinsgrill.com/wp-content/uploads/2023/06/Everettestevensduo.pdf
END:VEVENT
END:VCALENDAR