BEGIN:VCALENDAR
VERSION:2.0
PRODID:-//Dolphins Waterfront Bar &amp; Grill - ECPv6.15.20//NONSGML v1.0//EN
CALSCALE:GREGORIAN
METHOD:PUBLISH
X-ORIGINAL-URL:https://dolphinsgrill.com
X-WR-CALDESC:Events for Dolphins Waterfront Bar &amp; Grill
REFRESH-INTERVAL;VALUE=DURATION:PT1H
X-Robots-Tag:noindex
X-PUBLISHED-TTL:PT1H
BEGIN:VTIMEZONE
TZID:America/New_York
BEGIN:DAYLIGHT
TZOFFSETFROM:-0500
TZOFFSETTO:-0400
TZNAME:EDT
DTSTART:20240310T070000
END:DAYLIGHT
BEGIN:STANDARD
TZOFFSETFROM:-0400
TZOFFSETTO:-0500
TZNAME:EST
DTSTART:20241103T060000
END:STANDARD
BEGIN:DAYLIGHT
TZOFFSETFROM:-0500
TZOFFSETTO:-0400
TZNAME:EDT
DTSTART:20250309T070000
END:DAYLIGHT
BEGIN:STANDARD
TZOFFSETFROM:-0400
TZOFFSETTO:-0500
TZNAME:EST
DTSTART:20251102T060000
END:STANDARD
BEGIN:DAYLIGHT
TZOFFSETFROM:-0500
TZOFFSETTO:-0400
TZNAME:EDT
DTSTART:20260308T070000
END:DAYLIGHT
BEGIN:STANDARD
TZOFFSETFROM:-0400
TZOFFSETTO:-0500
TZNAME:EST
DTSTART:20261101T060000
END:STANDARD
END:VTIMEZONE
BEGIN:VEVENT
DTSTART;TZID=America/New_York:20250614T170000
DTEND;TZID=America/New_York:20250614T200000
DTSTAMP:20260424T023532
CREATED:20250205T195451Z
LAST-MODIFIED:20250521T174907Z
UID:2025-1749920400-1749931200@dolphinsgrill.com
SUMMARY:Joshua Keels
DESCRIPTION:Come relax and enjoy Joshua Keels and his acoustic guitar. The vibe is sure to set the tone for a great night.
URL:https://dolphinsgrill.com/event/joshua-keels-22/
LOCATION:Dolphins Waterfront Bar & Grill\, 310 Lagoon Way\, Merritt Island\, FL\, 32953\, United States
ATTACH;FMTTYPE=image/jpeg:https://dolphinsgrill.com/wp-content/uploads/2022/08/joshuakeels.jpeg
END:VEVENT
BEGIN:VEVENT
DTSTART;TZID=America/New_York:20250621T170000
DTEND;TZID=America/New_York:20250621T200000
DTSTAMP:20260424T023532
CREATED:20250416T114829Z
LAST-MODIFIED:20250521T175030Z
UID:2089-1750525200-1750536000@dolphinsgrill.com
SUMMARY:Anna. Delgado Band
DESCRIPTION:Catch the good vibes with the Anna Delgado Band and the sound of all your favorite songs!
URL:https://dolphinsgrill.com/event/anna-delgado-band-6/
LOCATION:Dolphins Waterfront Bar & Grill\, 310 Lagoon Way\, Merritt Island\, FL\, 32953\, United States
ATTACH;FMTTYPE=image/jpeg:https://dolphinsgrill.com/wp-content/uploads/2024/06/Band022524wRich.jpeg
END:VEVENT
BEGIN:VEVENT
DTSTART;TZID=America/New_York:20250622T160000
DTEND;TZID=America/New_York:20250622T190000
DTSTAMP:20260424T023532
CREATED:20250416T114710Z
LAST-MODIFIED:20250521T175103Z
UID:2085-1750608000-1750618800@dolphinsgrill.com
SUMMARY:Jason Dumolot
DESCRIPTION:Join Jason to chill and relax to the Island vibe.
URL:https://dolphinsgrill.com/event/jason-dumolot-2/
LOCATION:Dolphins Waterfront Bar & Grill\, 310 Lagoon Way\, Merritt Island\, FL\, 32953\, United States
ATTACH;FMTTYPE=image/jpeg:https://dolphinsgrill.com/wp-content/uploads/2024/07/IMG_1570.jpg
END:VEVENT
BEGIN:VEVENT
DTSTART;TZID=America/New_York:20250627T170000
DTEND;TZID=America/New_York:20250627T200000
DTSTAMP:20260424T023532
CREATED:20250205T200451Z
LAST-MODIFIED:20250521T175133Z
UID:2035-1751043600-1751054400@dolphinsgrill.com
SUMMARY:Redfish Rich
DESCRIPTION:Rich spent the last 8 years as a full time musician in Saint Augustine Fl.  He has played at places like The Milltop\, Mi Casa\, Salt Life\, The Conch House and many more. He is now back to his roots in Titusville. Rich worked on the Space Shuttle and played music at many local Spacecoast venues and now is a regular at Dolphins! \n 
URL:https://dolphinsgrill.com/event/redfish-rich-9/
LOCATION:Dolphins Waterfront Bar & Grill\, 310 Lagoon Way\, Merritt Island\, FL\, 32953\, United States
ATTACH;FMTTYPE=image/webp:https://dolphinsgrill.com/wp-content/uploads/2022/12/redfishrich.webp
END:VEVENT
BEGIN:VEVENT
DTSTART;TZID=America/New_York:20250629T160000
DTEND;TZID=America/New_York:20250629T190000
DTSTAMP:20260424T023532
CREATED:20240530T200034Z
LAST-MODIFIED:20250521T175240Z
UID:1762-1751212800-1751223600@dolphinsgrill.com
SUMMARY:Captain Tom
DESCRIPTION:Captain Tom is a solo guitarist/singer that plays a classic selection of acoustic rock and folk music.
URL:https://dolphinsgrill.com/event/captain-tom-13/
LOCATION:Dolphins Waterfront Bar & Grill\, 310 Lagoon Way\, Merritt Island\, FL\, 32953\, United States
ATTACH;FMTTYPE=application/pdf:https://dolphinsgrill.com/wp-content/uploads/2022/12/CaptTom-GeorgeDragon78.pdf
END:VEVENT
END:VCALENDAR